BEGIN:VCALENDAR
VERSION:2.0
PRODID:-//Ayuntamiento de Mieres - ECPv5.16.1.1//NONSGML v1.0//EN
CALSCALE:GREGORIAN
METHOD:PUBLISH
X-WR-CALNAME:Ayuntamiento de Mieres
X-ORIGINAL-URL:https://www.mieres.es
X-WR-CALDESC:Eventos para Ayuntamiento de Mieres
BEGIN:VTIMEZONE
TZID:Europe/Madrid
BEGIN:DAYLIGHT
TZOFFSETFROM:+0100
TZOFFSETTO:+0200
TZNAME:CEST
DTSTART:20260329T010000
END:DAYLIGHT
BEGIN:STANDARD
TZOFFSETFROM:+0200
TZOFFSETTO:+0100
TZNAME:CET
DTSTART:20261025T010000
END:STANDARD
END:VTIMEZONE
BEGIN:VEVENT
DTSTART;TZID=Europe/Madrid:20260407T094500
DTEND;TZID=Europe/Madrid:20260407T094500
DTSTAMP:20260420T223834
CREATED:20260310T130322Z
LAST-MODIFIED:20260310T130322Z
UID:78038-1775555100-1775555100@www.mieres.es
SUMMARY:Programa "Mieres contigo". Caminando contra la soledad: Ruta Baíña
DESCRIPTION:Programa contra la soledad no deseada\nMieres contigo \n\nCaminando contra la soledad\nRuta Baíña\n\n¿En qué consiste?\nRutas semanales por Mieres para caminar juntos\, sentirse mejor y conocer a otras personas con las que compartir el camino.\n¿Qué tengo que llevar?\nRopa cómoda\, calzado adecuado\, una botella de agua. \n  \nMartes\, 7 de abril de 2026. De 9:45 a 11:15h. \n\n\nSalida: Estación FEVE Baíña (Desde Mieres se coge tren Vasco de las 9:28h -18 minutos trayecto-)\nLlegada: Estación FEVE Baíña (Para la vuelta a  Mieres se coge tren Vasco desde baíña a las 11:16h -15 minutos trayecto-)\n \nActividad gratuita. Inscripciones a través del tfno 618.461.610 o del correo electrónico bosquemagicoeh@gmail.com
URL:https://www.mieres.es/evento/programa-mieres-contigo-caminando-contra-la-soledad-ruta-baina/
LOCATION:Estación RENFE
CATEGORIES:Bienestar Social,Ruta Cultural,Salud
ATTACH;FMTTYPE=image/jpeg:https://www.mieres.es/wp-content/uploads/2026/03/Cartel-Caminando-contra-la-soledad_2026.jpg
END:VEVENT
BEGIN:VEVENT
DTSTART;TZID=Europe/Madrid:20260407T173000
DTEND;TZID=Europe/Madrid:20260407T173000
DTSTAMP:20260420T223834
CREATED:20260304T115324Z
LAST-MODIFIED:20260304T121824Z
UID:77950-1775583000-1775583000@www.mieres.es
SUMMARY:V Cursu de sidra escanciao Comarca del Caudal (23MAR-16ABR)
DESCRIPTION:Cursu: \nV Cursu de sidra escanciao Comarca del Caudal\n\n  \nMieres Centru Cultural \nDel 23 de marzu al 16 d’abril\, de llunes a xueves\, de 17:30 a 20:00h. \nInscripciones de baldre\, al traviés d’esta misma página web\, nel formulariu que toparán enbaxu\, del 4 al 19 de marzu. Enllaz directu al formulariu: Inscripciones V Cursu de sidra escanciao “Comarca del Caudal” 23MAR/16ABR: Rellenar formulario \n\n  \nL´Ayuntamientu de Mieres\, pente medies de la conceyalía de Cultura y Festexos y l´Asociación Llagareros Artesanos del Caudal organicen el V Cursu de Sidra Escanciao. \nEl cursu va desenvolvese del 23 de marzu al 16 d´abril de 2026 nel Mieres Centru Cultural\, de llunes a xueves de 17:30 a 20:00 hores y quien participe y acabe´l mesmu\, con polo menos el 75% de les hores completaes\, va contar con diploma p´acreditar la so cualificación. \nEl plazu pa facer les inscripciones tará abiertu hasta´l 19 de marzu viniente y sedrán totalmente de baldre. La plaza acutada sedrá confirmada telefónicamente pola organización del cursu. Les persones desemplegaes tendrán preferencia nes 15 places disponibles que- teniendo en cuenta esa preferencia- sedrán acutaes por rigorosu orde d´inscripción. \n  \n\n  \nFORMULARIU D’INSCRIPCIÓN:
URL:https://www.mieres.es/evento/v-cursu-de-sidra-escanciao-comarca-del-caudal/2026-04-07/
LOCATION:Mieres Centru Cultural\, Calle Jerónimo Ibrán\, 10\, Mieres\, Asturias\, 33600
CATEGORIES:Cultura Tradicional,Cursos
ATTACH;FMTTYPE=image/jpeg:https://www.mieres.es/wp-content/uploads/2026/03/Cartel-web-Curso-Escanciadores-2026.jpg
ORGANIZER;CN="Llagareros%20artesanos%20del%20Caudal":MAILTO:llagarerosartesanosdelcaudal@gmail.com
END:VEVENT
BEGIN:VEVENT
DTSTART;TZID=Europe/Madrid:20260407T173000
DTEND;TZID=Europe/Madrid:20260407T173000
DTSTAMP:20260420T223834
CREATED:20260407T114603Z
LAST-MODIFIED:20260407T114603Z
UID:78349-1775583000-1775583000@www.mieres.es
SUMMARY:Ca mes un cuentu. Cuentacuentos n'asturianu\, con Andrea Lobo
DESCRIPTION:Ca mes un cuentu \nCuentacuentos n’asturianu\npor Andrea Lobo\nBiblioteca Pública de Mieres \nInscripción previa na Biblioteca. Aforo llindáu. \n\n  \nChirimbín\, chirimbaina! Vuelve la Bruxa Lloba a la biblioteca de Mieres. ¡Chirimbín\, chirimbón! ¿Qué Fechizocuentos saldrán güei? Chirimbín\, Chirimberes! El cestu máxicu ta enllenu de nuevos cuentos\, música y marionetes a la gueta los güeyos y oreyes. \nPa neños/es a partir de 3 años.\nEspectáculo de narración oral con títeres\, obxetos y música en direuto. \n✍️Podéis apuntavos na Biblioteca de Mieres\, n’horariu de 9:00 a 20:30 hores o al☎️ teléfonu 985456294 en Mieres.¡¡¡¡Esperámosvos!!!! \n 
URL:https://www.mieres.es/evento/ca-mes-un-cuentu-cuentacuentos-nasturianu-con-andrea-lobo-8/
LOCATION:Biblioteca Pública de Mieres\, Calle Manuel Llaneza\, 8\, Mieres\, Asturias\, 33600 \, España
CATEGORIES:Bibliotecas,Letras,Llingua,Teatro
ATTACH;FMTTYPE=image/jpeg:https://www.mieres.es/wp-content/uploads/2026/04/A7-CARTEL-Andrea-LOBO-abril-2026.jpeg
GEO:43.2502294;-5.7729571
X-APPLE-STRUCTURED-LOCATION;VALUE=URI;X-ADDRESS=Biblioteca Pública de Mieres Calle Manuel Llaneza 8 Mieres Asturias 33600  España;X-APPLE-RADIUS=500;X-TITLE=Calle Manuel Llaneza\, 8:geo:-5.7729571,43.2502294
END:VEVENT
BEGIN:VEVENT
DTSTART;TZID=Europe/Madrid:20260407T190000
DTEND;TZID=Europe/Madrid:20260407T190000
DTSTAMP:20260420T223834
CREATED:20260407T120158Z
LAST-MODIFIED:20260407T120158Z
UID:78353-1775588400-1775588400@www.mieres.es
SUMMARY:Cine en V.O.: "Deliciosa Martha"\, de Sandra Nettelbeck
DESCRIPTION:Cine en V.O.: \n\n“Deliciosa Martha”\nde Sandra Nettelbeck\n\nOrganizado por la Escuela Oficial de Idiomas de Mieres \nMartes\, 7 de abril\, 19:00h. \n\nAuditoriu Teodoro Cuesta\nEntrada libre hasta completar aforo \n\n\n\n\n  \nTítulo original: Bella Martha\nAño: 2001\nDuración: 107 min.\nPaís: Alemania \nDirección: Sandra Nettelbeck\nGuion: Sandra Nettelbeck\nMúsica: Michel Petrossian\nFotografía: Maxence Lemonnier \n  \nReparto\nMartina Gedeck · Sergio Castellitto · Maxime Foerste · Sibylle Canonica · Katja Studt · August Zirner · Idil Üner \nSinopsis\nMartha es una encantadora cocinera que realiza verdaderas obras de arte en un pequeño restaurante de Hamburgo. Aún así su vida es bastante monótona. Es introvertida\, casi no tiene vida social y se dedica con pasión a su trabajo. Pero su vida cambiará de repente cuando su hermana\, una mujer soltera que vivía sola con su hija de ocho años\, muere en un accidente. Martha se hace cargo de su sobrina Lina\, que sufre mucho por la muerte de su madre. Sólo la presencia de Mario\, un compañero italiano de Martha\, pondrá un poco de alegría y de pasta en sus vidas. (FILMAFFINITY) \n 
URL:https://www.mieres.es/evento/cine-en-v-o-deliciosa-martha-de-sandra-nettelbeck/
LOCATION:Casa de Cultura Teodoro Cuesta\, Calle Manuel Llaneza\, 8\, Mieres\, Asturias\, 33600\, España
CATEGORIES:Cine
ATTACH;FMTTYPE=image/jpeg:https://www.mieres.es/wp-content/uploads/2026/04/Cartel-pelicula-bella-martha-EOIMieres.jpg
GEO:43.2502294;-5.7729571
X-APPLE-STRUCTURED-LOCATION;VALUE=URI;X-ADDRESS=Casa de Cultura Teodoro Cuesta Calle Manuel Llaneza 8 Mieres Asturias 33600 España;X-APPLE-RADIUS=500;X-TITLE=Calle Manuel Llaneza\, 8:geo:-5.7729571,43.2502294
END:VEVENT
END:VCALENDAR