BEGIN:VCALENDAR
VERSION:2.0
PRODID:-//Ayuntamiento de Mieres - ECPv5.16.1.1//NONSGML v1.0//EN
CALSCALE:GREGORIAN
METHOD:PUBLISH
X-WR-CALNAME:Ayuntamiento de Mieres
X-ORIGINAL-URL:https://www.mieres.es
X-WR-CALDESC:Eventos para Ayuntamiento de Mieres
BEGIN:VTIMEZONE
TZID:Europe/Madrid
BEGIN:DAYLIGHT
TZOFFSETFROM:+0100
TZOFFSETTO:+0200
TZNAME:CEST
DTSTART:20260329T010000
END:DAYLIGHT
BEGIN:STANDARD
TZOFFSETFROM:+0200
TZOFFSETTO:+0100
TZNAME:CET
DTSTART:20261025T010000
END:STANDARD
END:VTIMEZONE
BEGIN:VEVENT
DTSTART;TZID=Europe/Madrid:20260409T173000
DTEND;TZID=Europe/Madrid:20260409T173000
DTSTAMP:20260420T224436
CREATED:20260304T115324Z
LAST-MODIFIED:20260304T122048Z
UID:77952-1775755800-1775755800@www.mieres.es
SUMMARY:V Cursu de sidra escanciao Comarca del Caudal (23MAR-16ABR)
DESCRIPTION:Cursu: \nV Cursu de sidra escanciao Comarca del Caudal\n\n  \nMieres Centru Cultural \nDel 23 de marzu al 16 d’abril\, de llunes a xueves\, de 17:30 a 20:00h. \nInscripciones de baldre\, al traviés d’esta misma página web\, nel formulariu que toparán enbaxu\, del 4 al 19 de marzu. Enllaz directu al formulariu: Inscripciones V Cursu de sidra escanciao “Comarca del Caudal” 23MAR/16ABR: Rellenar formulario \n\n  \nL´Ayuntamientu de Mieres\, pente medies de la conceyalía de Cultura y Festexos y l´Asociación Llagareros Artesanos del Caudal organicen el V Cursu de Sidra Escanciao. \nEl cursu va desenvolvese del 23 de marzu al 16 d´abril de 2026 nel Mieres Centru Cultural\, de llunes a xueves de 17:30 a 20:00 hores y quien participe y acabe´l mesmu\, con polo menos el 75% de les hores completaes\, va contar con diploma p´acreditar la so cualificación. \nEl plazu pa facer les inscripciones tará abiertu hasta´l 19 de marzu viniente y sedrán totalmente de baldre. La plaza acutada sedrá confirmada telefónicamente pola organización del cursu. Les persones desemplegaes tendrán preferencia nes 15 places disponibles que- teniendo en cuenta esa preferencia- sedrán acutaes por rigorosu orde d´inscripción. \n  \n\n  \nFORMULARIU D’INSCRIPCIÓN:
URL:https://www.mieres.es/evento/v-cursu-de-sidra-escanciao-comarca-del-caudal/2026-04-09/
LOCATION:Mieres Centru Cultural\, Calle Jerónimo Ibrán\, 10\, Mieres\, Asturias\, 33600
CATEGORIES:Cultura Tradicional,Cursos
ATTACH;FMTTYPE=image/jpeg:https://www.mieres.es/wp-content/uploads/2026/03/Cartel-web-Curso-Escanciadores-2026.jpg
ORGANIZER;CN="Llagareros%20artesanos%20del%20Caudal":MAILTO:llagarerosartesanosdelcaudal@gmail.com
END:VEVENT
BEGIN:VEVENT
DTSTART;TZID=Europe/Madrid:20260409T173000
DTEND;TZID=Europe/Madrid:20260409T173000
DTSTAMP:20260420T224436
CREATED:20260330T102247Z
LAST-MODIFIED:20260330T102247Z
UID:78295-1775755800-1775755800@www.mieres.es
SUMMARY:Tarde de 'Parti': "Día mundial sobre la concienciación del autismo". Grupo de Participación Juvenil de Mieres
DESCRIPTION:Participación Ciudadana / Juventud \nTarde de ‘Parti’\nDía mundial sobre la concienciación del autismo\nGrupo de Participación Juvenil de Mieres\n\nJuego cooperativo: “La misión del Súper Equipo”\nBatalla interactiva IPS: “El cerebro de colores”\n\nLocales de la antigua Oficina de Información Juvenil (C/ Doce de Octubre) \n9 de abril de 2026\, de 17:30 a 19:00h. \nInscripciones gratuitas a través del correo electrónico oij@ayto-mieres.es o en el tfno. 985452745 \n\n 
URL:https://www.mieres.es/evento/tarde-de-parti-dia-mundial-sobre-la-concienciacion-del-autismo-grupo-de-participacion-juvenil-de-mieres/
LOCATION:Local antigua OIJ\, C/ Doce de Octubre\, 42\, Mieres
CATEGORIES:Juventud e Infancia,Participación Ciudadana
ATTACH;FMTTYPE=image/jpeg:https://www.mieres.es/wp-content/uploads/2026/03/tarde-de-parti-9-abril-Mieres.jpg
END:VEVENT
BEGIN:VEVENT
DTSTART;TZID=Europe/Madrid:20260409T173000
DTEND;TZID=Europe/Madrid:20260409T173000
DTSTAMP:20260420T224436
CREATED:20260408T091309Z
LAST-MODIFIED:20260408T091309Z
UID:78364-1775755800-1775755800@www.mieres.es
SUMMARY:Tardes con Leo: "Calvin no sabe volar. La historia de un pájaro ratón de biblioteca"
DESCRIPTION:Cuentacuentos\nTardes con Leo \nCalvin no sabe volar\nLa historia de un pájaro ratón de biblioteca\nde Jennifer Berner\nBiblioteca Pública de Mieres \n\n  \nCuentacuentos a cargo de Leo\, la mascota de las bibliotecas de nuestra Red de Bibliotecas Municipales\, basado en el libro Calvin no sabe volar. La historia de un pájaro ratón de biblioteca (Editorial Takatuka)\, escrito por Jennifer Berner e ilustrado por Keith Bendis. Una fábula para que no olvidemos que los libros son importantes\, pero que hay cosas que no se pueden aprender solo con libros. \n  \nCalvin y sus tres hermanos\, cuatro hermanas y sesenta y siete mil cuatrocientos treinta y dos primos nacieron bajo el alero de un viejo establo. Calvin podría ser uno de tantos pájaros\, pero es completamente distinto a los demás.\nMientras los otros pequeños estorninos aprenden a lanzarse en picado\, planear y hacer figuras en el aire\, Calvin entierra su pico en los libros. En la biblioteca su imaginación remonta el vuelo y le lleva a lugares que\, con sus alas\, nunca podría alcanzar.\nTan absorto está en sus libros que se olvida de ir a las clases de vuelo. Así que cuando llega el invierno y toca migrar\, Calvin no puede volar. Por suerte\, su familia no lo deja solo y\, al fi nal\, sus conocimientos de metereología le permitirán salvar a toda la bandada. \n  \nPatrocinado por la Caja Rural de Asturias y realizado por Paula Huelga\, de Xitech. Plazas limitadas\, asignadas por orden de inscripción. Podéis apuntaros en la Biblioteca en horario de 09:00 a 20:30 horas o al teléfono 985456294. ¡¡¡¡Os esperamos!!!! \n  \n\n 
URL:https://www.mieres.es/evento/tardes-con-leo-calvin-no-sabe-volar-la-historia-de-un-pajaro-raton-de-biblioteca/
LOCATION:Biblioteca Pública de Mieres\, Calle Manuel Llaneza\, 8\, Mieres\, Asturias\, 33600 \, España
CATEGORIES:Bibliotecas,Cuentacuentos
ATTACH;FMTTYPE=image/jpeg:https://www.mieres.es/wp-content/uploads/2026/04/A9-CARTEL-LEO-alvin-no-sabe-volar.jpg
ORGANIZER;CN="Red%20de%20Bibliotecas%20Municipales%20de%20Mieres":MAILTO:biblioteca@ayto-mieres.es
GEO:43.2502294;-5.7729571
X-APPLE-STRUCTURED-LOCATION;VALUE=URI;X-ADDRESS=Biblioteca Pública de Mieres Calle Manuel Llaneza 8 Mieres Asturias 33600  España;X-APPLE-RADIUS=500;X-TITLE=Calle Manuel Llaneza\, 8:geo:-5.7729571,43.2502294
END:VEVENT
BEGIN:VEVENT
DTSTART;TZID=Europe/Madrid:20260409T190000
DTEND;TZID=Europe/Madrid:20260409T190000
DTSTAMP:20260420T224436
CREATED:20260408T112353Z
LAST-MODIFIED:20260408T112353Z
UID:78377-1775761200-1775761200@www.mieres.es
SUMMARY:Presentación del libro: "Si alguna vez..."\, de Manast
DESCRIPTION:Presentación del libro: \n\nSi alguna vez…\nde Manast\nEditorial Loto Azul \nPresentado por Sandra González \n  \nJueves\, 9 de abril de 2026\, 19:00h. \n\n\nSalón de actos de la casa de Cultura Teodoro Cuesta\nEntrada gratuita hasta completar aforo \n\n\n\n\n  \nSi alguna vez pudieras pensar en tu vida\, en todas las cosas que te rodean\, en las que se fueron y jamás volverán. Si alguna vez pudieras volar al pasado y recoger esa piedra que dejaste de lanzar\, te darías cuenta de cuántas cosas no tienen marcha atrás. Si alguna vez… es un libro para pensar\, intenso\, para recorrer cada palabra y sentirla dentro. Si alguna vez te gustó la poesía\, esta la entenderás. \nManast\n“Nací en Barcelona\, en 1966. La poesía es mi camino de evasión en una sociedad que no entiendo\, en una hipocresía que no quiero que sea mía\, aunque forme parte de ella. Estudié Información y Turismo para conocer rincones del mundo y sobre todo a sus gentes. La observación de una mirada\, un gesto y un silencio me hace encontrar un verso. Soy una caminante de la vida en sus diferentes caminos; la soledad me abriga fuerte con su oscuridad\, y la luz esa que ni entiendo me ilumina donde realmente deseo llegar. Actualmente trabajo observando detrás de una barra cómo las bebidas se van guardando en cajas cerradas de secretos que hablan\, mientras la poesía me llama.” \n\n  \n\n\n 
URL:https://www.mieres.es/evento/presentacion-del-libro-si-alguna-vez-de-manast/
LOCATION:Casa de Cultura Teodoro Cuesta\, Calle Manuel Llaneza\, 8\, Mieres\, Asturias\, 33600\, España
CATEGORIES:Letras
ATTACH;FMTTYPE=image/jpeg:https://www.mieres.es/wp-content/uploads/2026/04/A9-CARTEL-PRESENTACION-SI-ALGUNA-VEZ....jpg
GEO:43.2502294;-5.7729571
X-APPLE-STRUCTURED-LOCATION;VALUE=URI;X-ADDRESS=Casa de Cultura Teodoro Cuesta Calle Manuel Llaneza 8 Mieres Asturias 33600 España;X-APPLE-RADIUS=500;X-TITLE=Calle Manuel Llaneza\, 8:geo:-5.7729571,43.2502294
END:VEVENT
BEGIN:VEVENT
DTSTART;TZID=Europe/Madrid:20260409T200000
DTEND;TZID=Europe/Madrid:20260409T200000
DTSTAMP:20260420T224436
CREATED:20260408T083834Z
LAST-MODIFIED:20260408T083834Z
UID:78361-1775764800-1775764800@www.mieres.es
SUMMARY:"Plan Z. El Dent D'Herens"\, por Anselmo Vidal
DESCRIPTION:Proyección-charla: \n\nPlan Z. El Dent D’Herens\npor Anselmo Vidal y Carlos Belerda\n  \nJueves 9 de abril de 2026\, 20:00 h\nAuditorio Teodoro Cuesta\n \n  \nEntrada libre hasta completar aforo\nOrganiza: Asociación Cultural Camín de Mieres \n\nAnselmo Vidal\, conocido como Avígamo Anselmo en las Redes Sociales y perteneciente desde hace años al GREIM\, va a proyectar su última película grabada en los Alpes. Cuenta con un equipo que le acompaña en sus retos y graba sus ascensiones.
URL:https://www.mieres.es/evento/plan-z-el-dent-dherens-por-anselmo-vidal/
LOCATION:Casa de Cultura Teodoro Cuesta\, Calle Manuel Llaneza\, 8\, Mieres\, Asturias\, 33600\, España
CATEGORIES:Deportes
ATTACH;FMTTYPE=image/jpeg:https://www.mieres.es/wp-content/uploads/2026/04/A9-Plan-Z-DENT-DHERENS-mieres-2026.jpg
GEO:43.2502294;-5.7729571
X-APPLE-STRUCTURED-LOCATION;VALUE=URI;X-ADDRESS=Casa de Cultura Teodoro Cuesta Calle Manuel Llaneza 8 Mieres Asturias 33600 España;X-APPLE-RADIUS=500;X-TITLE=Calle Manuel Llaneza\, 8:geo:-5.7729571,43.2502294
END:VEVENT
END:VCALENDAR