BEGIN:VCALENDAR
VERSION:2.0
PRODID:-//Ayuntamiento de Mieres - ECPv5.16.1.1//NONSGML v1.0//EN
CALSCALE:GREGORIAN
METHOD:PUBLISH
X-WR-CALNAME:Ayuntamiento de Mieres
X-ORIGINAL-URL:https://www.mieres.es
X-WR-CALDESC:Eventos para Ayuntamiento de Mieres
BEGIN:VTIMEZONE
TZID:Europe/Madrid
BEGIN:DAYLIGHT
TZOFFSETFROM:+0100
TZOFFSETTO:+0200
TZNAME:CEST
DTSTART:20260329T010000
END:DAYLIGHT
BEGIN:STANDARD
TZOFFSETFROM:+0200
TZOFFSETTO:+0100
TZNAME:CET
DTSTART:20261025T010000
END:STANDARD
END:VTIMEZONE
BEGIN:VEVENT
DTSTART;TZID=Europe/Madrid:20260412T130000
DTEND;TZID=Europe/Madrid:20260412T130000
DTSTAMP:20260420T223953
CREATED:20260408T124223Z
LAST-MODIFIED:20260408T124223Z
UID:78383-1775998800-1775998800@www.mieres.es
SUMMARY:Concierto especial "13 Reyes. El Camino Primitivo" Episodio II
DESCRIPTION:Concierto: \n13 REYES. EL CAMINO PRIMITIVO\nEpisodio II\nBanda Sinfónica del Ateneo Musical de Mieres y Banda de Gaitas La laguna del Torollu\nCompositor: Yónatan Sánchez Santianes \nDirector: Iñaki Sánchez Santianes \nDomingo 12 de abril DE 2026\, 13:00 h\nAuditoriu Teodoro Cuesta \nEntrada libre hasta completar aforo \n\n 
URL:https://www.mieres.es/evento/concierto-especial-13-reyes-el-camino-primitivo-episodio-ii/
LOCATION:Casa de Cultura Teodoro Cuesta\, Calle Manuel Llaneza\, 8\, Mieres\, Asturias\, 33600\, España
CATEGORIES:Música
ATTACH;FMTTYPE=image/jpeg:https://www.mieres.es/wp-content/uploads/2026/04/A12-CARTEL-13-REYES-II.jpg
GEO:43.2502294;-5.7729571
X-APPLE-STRUCTURED-LOCATION;VALUE=URI;X-ADDRESS=Casa de Cultura Teodoro Cuesta Calle Manuel Llaneza 8 Mieres Asturias 33600 España;X-APPLE-RADIUS=500;X-TITLE=Calle Manuel Llaneza\, 8:geo:-5.7729571,43.2502294
END:VEVENT
BEGIN:VEVENT
DTSTART;TZID=Europe/Madrid:20260412T173000
DTEND;TZID=Europe/Madrid:20260412T190000
DTSTAMP:20260420T223953
CREATED:20260325T104028Z
LAST-MODIFIED:20260325T104028Z
UID:78220-1776015000-1776020400@www.mieres.es
SUMMARY:Espacio Joven. Taller "EscapeRoom"
DESCRIPTION:Taller para jóvenes \nEscape Room\n  \nPara jóvenes de 11 años en adelante \nDomingo 12 de abril\, de 17:30 a 19:00h. \n\nESPACIO JOVEN\nAbierto todos los sábados y domingos\, de 5 a 8 de la tarde\, en los locales de la antigua OIJ (Calle Doce de Octubre\, 42) \nInscripción gratuita a través del correo electrónico oij@ayto-mieres.es\, del tfno. 985452745 o en el propio Espacio Joven. \n\n\n 
URL:https://www.mieres.es/evento/espacio-joven-taller-escaperoom/
LOCATION:Local antigua OIJ\, C/ Doce de Octubre\, 42\, Mieres
CATEGORIES:Juventud e Infancia
ATTACH;FMTTYPE=image/jpeg:https://www.mieres.es/wp-content/uploads/2026/03/Escape-12-abril-espacio-joven-mieres.jpg
ORGANIZER;CN="Concejal%C3%ADa%20de%20Infancia%20y%20Juventud":MAILTO:oij@ayto-mieres.es
END:VEVENT
END:VCALENDAR