BEGIN:VCALENDAR
VERSION:2.0
PRODID:-//Ayuntamiento de Mieres - ECPv5.16.1.1//NONSGML v1.0//EN
CALSCALE:GREGORIAN
METHOD:PUBLISH
X-WR-CALNAME:Ayuntamiento de Mieres
X-ORIGINAL-URL:https://www.mieres.es
X-WR-CALDESC:Eventos para Ayuntamiento de Mieres
BEGIN:VTIMEZONE
TZID:Europe/Madrid
BEGIN:DAYLIGHT
TZOFFSETFROM:+0100
TZOFFSETTO:+0200
TZNAME:CEST
DTSTART:20260329T010000
END:DAYLIGHT
BEGIN:STANDARD
TZOFFSETFROM:+0200
TZOFFSETTO:+0100
TZNAME:CET
DTSTART:20261025T010000
END:STANDARD
END:VTIMEZONE
BEGIN:VEVENT
DTSTART;TZID=Europe/Madrid:20260415T173000
DTEND;TZID=Europe/Madrid:20260415T173000
DTSTAMP:20260420T225023
CREATED:20260304T115324Z
LAST-MODIFIED:20260304T122403Z
UID:77956-1776274200-1776274200@www.mieres.es
SUMMARY:V Cursu de sidra escanciao Comarca del Caudal (23MAR-16ABR)
DESCRIPTION:Cursu: \nV Cursu de sidra escanciao Comarca del Caudal\n\n  \nMieres Centru Cultural \nDel 23 de marzu al 16 d’abril\, de llunes a xueves\, de 17:30 a 20:00h. \nInscripciones de baldre\, al traviés d’esta misma página web\, nel formulariu que toparán enbaxu\, del 4 al 19 de marzu. Enllaz directu al formulariu: Inscripciones V Cursu de sidra escanciao “Comarca del Caudal” 23MAR/16ABR: Rellenar formulario \n\n  \nL´Ayuntamientu de Mieres\, pente medies de la conceyalía de Cultura y Festexos y l´Asociación Llagareros Artesanos del Caudal organicen el V Cursu de Sidra Escanciao. \nEl cursu va desenvolvese del 23 de marzu al 16 d´abril de 2026 nel Mieres Centru Cultural\, de llunes a xueves de 17:30 a 20:00 hores y quien participe y acabe´l mesmu\, con polo menos el 75% de les hores completaes\, va contar con diploma p´acreditar la so cualificación. \nEl plazu pa facer les inscripciones tará abiertu hasta´l 19 de marzu viniente y sedrán totalmente de baldre. La plaza acutada sedrá confirmada telefónicamente pola organización del cursu. Les persones desemplegaes tendrán preferencia nes 15 places disponibles que- teniendo en cuenta esa preferencia- sedrán acutaes por rigorosu orde d´inscripción. \n  \n\n  \nFORMULARIU D’INSCRIPCIÓN:
URL:https://www.mieres.es/evento/v-cursu-de-sidra-escanciao-comarca-del-caudal/2026-04-15/
LOCATION:Mieres Centru Cultural\, Calle Jerónimo Ibrán\, 10\, Mieres\, Asturias\, 33600
CATEGORIES:Cultura Tradicional,Cursos
ATTACH;FMTTYPE=image/jpeg:https://www.mieres.es/wp-content/uploads/2026/03/Cartel-web-Curso-Escanciadores-2026.jpg
ORGANIZER;CN="Llagareros%20artesanos%20del%20Caudal":MAILTO:llagarerosartesanosdelcaudal@gmail.com
END:VEVENT
BEGIN:VEVENT
DTSTART;TZID=Europe/Madrid:20260415T183000
DTEND;TZID=Europe/Madrid:20260415T183000
DTSTAMP:20260420T225023
CREATED:20260206T104051Z
LAST-MODIFIED:20260206T104051Z
UID:77566-1776277800-1776277800@www.mieres.es
SUMMARY:Entrenamiento al aire libre para mujeres (11FEB/JUN)
DESCRIPTION:Entrenamiento deportivo\n  \nEntrenamiento al aire libre para mujeres \nCon  Dark Lion Sport \nPara mujeres a partir de los 16 años. \nDel 11 de octubre de 2024 al 17 de junio de 2026 \nNivel básico: los miércoles\, de 18:30 a 19:30h\nNivel avanzado: los miércoles\, de 19:30 a 20:30h \nLugar de encuentro: Casa de las Mujeres \nInscripciones gratuitas en el tlfno.: 985466262(a partir del 9 de febrero\, de 09:00 a 14:00h.)
URL:https://www.mieres.es/evento/entrenamiento-al-aire-libre-para-mujeres-11feb-jun/2026-04-15/
LOCATION:Casa de las Mujeres\, C/ Jerónimo Ibrán 19\, Mieres\, Asturias\, 33600\, España
CATEGORIES:Deportes,Igualdad,Salud,Taller
ATTACH;FMTTYPE=image/jpeg:https://www.mieres.es/wp-content/uploads/2026/02/entrenamiento-mujeres-cartel-mieres-feb-2026.jpg
GEO:43.2512334;-5.7731606
X-APPLE-STRUCTURED-LOCATION;VALUE=URI;X-ADDRESS=Casa de las Mujeres C/ Jerónimo Ibrán 19 Mieres Asturias 33600 España;X-APPLE-RADIUS=500;X-TITLE=C/ Jerónimo Ibrán 19:geo:-5.7731606,43.2512334
END:VEVENT
BEGIN:VEVENT
DTSTART;TZID=Europe/Madrid:20260415T190000
DTEND;TZID=Europe/Madrid:20260415T190000
DTSTAMP:20260420T225023
CREATED:20260409T101215Z
LAST-MODIFIED:20260409T101215Z
UID:78404-1776279600-1776279600@www.mieres.es
SUMMARY:20 años de Biblioteatro: "¡Te pillé\, Caperucita!"\, de Carles Cano
DESCRIPTION:Biblioteatro \nEspecial 20 Aniversario 2006-2026 \n“¡Te pillé\, Caperucita!”\nde Carles Cano\nGrupo de teatro infantil de la Biblioteca Publica de Mieres \nAuditoriu Teodoro Cuesta \nEntrada libre hasta completar aforo \n\n  \nEl grupo de teatro de la Biblioteca Pública de Mieres se sube de nuevo al escenario para demostrar que la pasión por las tablas sigue más viva que nunca. ¡No te pierdas esta representación conmemorativa basada en la obra de Carles Cano! \n¡Hey! ¡Cuidado…! Porque aquí dentro hay Caperucitas feroces\, cerdos armados hasta los dientes\, gatos atracadores\, vampiros\, Frankensteins e\, incluso\, un lobo un poco lelo del que tampoco te puedes fiar demasiado… Además de muchas otras cosas que descubrirás en cuanto abras el libro y se levante el telón. \n📅 ¿Cuándo? 15 de abril. \n🕖 ¿A qué hora? 19:00 horas. \n📍 ¿Dónde? Auditorio Teodoro Cuesta\, Mieres. \n🎟 Entrada: Libre hasta completar aforo. \n¡Ven a soplar las velas con nosotros y a disfrutar de una obra de teatro realizada con ilusión por nuestros actores y actrices ! 🎂🎭 \n  \nInterpretada por: \n\nAgata Rodríguez Casas. Cerdito.\nEmma Romo Rodríguez. Directora de Teleclinc.\nEric Álvarez Campos. Gato con botas.\nGemma Álvarez Tomillo. Caperucita.\nIan García da Silva. Guardia forestal.\nJorge Blanco Cañete. Lobo.\nKhaira Korichi Benattou. Abuelita.\nTristán Romo Rodríguez. Anciano.\n\n 
URL:https://www.mieres.es/evento/20-anos-de-biblioteatro-te-pille-caperucita-de-carles-cano/
LOCATION:Casa de Cultura Teodoro Cuesta\, Calle Manuel Llaneza\, 8\, Mieres\, Asturias\, 33600\, España
CATEGORIES:Bibliotecas,Teatro
ATTACH;FMTTYPE=image/png:https://www.mieres.es/wp-content/uploads/2026/04/Biblioteatro-biblioteca-mieres-2026.png
ORGANIZER;CN="Red%20de%20Bibliotecas%20Municipales%20de%20Mieres":MAILTO:biblioteca@ayto-mieres.es
GEO:43.2502294;-5.7729571
X-APPLE-STRUCTURED-LOCATION;VALUE=URI;X-ADDRESS=Casa de Cultura Teodoro Cuesta Calle Manuel Llaneza 8 Mieres Asturias 33600 España;X-APPLE-RADIUS=500;X-TITLE=Calle Manuel Llaneza\, 8:geo:-5.7729571,43.2502294
END:VEVENT
END:VCALENDAR