BEGIN:VCALENDAR
VERSION:2.0
PRODID:-//Ayuntamiento de Mieres - ECPv5.16.1.1//NONSGML v1.0//EN
CALSCALE:GREGORIAN
METHOD:PUBLISH
X-WR-CALNAME:Ayuntamiento de Mieres
X-ORIGINAL-URL:https://www.mieres.es
X-WR-CALDESC:Eventos para Ayuntamiento de Mieres
BEGIN:VTIMEZONE
TZID:Europe/Madrid
BEGIN:DAYLIGHT
TZOFFSETFROM:+0100
TZOFFSETTO:+0200
TZNAME:CEST
DTSTART:20210328T010000
END:DAYLIGHT
BEGIN:STANDARD
TZOFFSETFROM:+0200
TZOFFSETTO:+0100
TZNAME:CET
DTSTART:20211031T010000
END:STANDARD
END:VTIMEZONE
BEGIN:VEVENT
DTSTART;TZID=Europe/Madrid:20211021T200000
DTEND;TZID=Europe/Madrid:20211021T200000
DTSTAMP:20260424T104644
CREATED:20211018T145845Z
LAST-MODIFIED:20211018T150001Z
UID:49965-1634846400-1634846400@www.mieres.es
SUMMARY:En el Camino de Mieres: "El románico en los caminos del Caudal"\, por Daniel Fdez. García
DESCRIPTION:En el Camino de Mieres\nCiclo de conferencias con motivo de la celebración del Xacobeo 2021 en el concejo de Mieres \n\nEl románico en los caminos del Caudal\npor Daniel Fdez. García\nAuditoriu Teodoro Cuesta\n(con retransmisión online a través del canal de Youtube Ayuntamiento de Mieres) \nEntrada gratuita hasta completar aforo. \n\n\n\n  \nBasado en un trabajo de campo reciente y actual\, se ofrecerá una visión desde el presente de la realidad de este arte medieval en el entorno de estos caminos del área de la Montaña Central\, con una voluntad de rigor pero también con un carácter divulgativo. A lo largo de las rutas jacobeas que cruzan los concejos de Mieres\, Aller y Lena se construyeron una serie de templos en estilo románico que a día de hoy constituyen hitos patrimoniales de gran importancia por sus valores artísticos\, arquitectónicos y territoriales para los tres principales concejos del Caudal. \n  \n\nDaniel Fernández García. Graduado en Arquitectura por la Universidad Alfonso X «El Sabio» de Madrid en 2018\, experto en Gestión y Uso Turístico del Patrimonio Industrial y Minero por la Universidad de Oviedo en 2019 y especialista en “Urbanismo para Hacer Ciudad” por la Universitat Oberta de Catalunya en 2021. En el plano profesional\, ha ejercido en la Administración Pública como arquitecto en el Servicio de Extinción de Incendios y Salvamentos (SEIS) del Ayuntamiento de Oviedo. En la actualidad\, se desempeña como arquitecto en el Ayuntamiento de Allande. \nInteresado desde muy joven en el patrimonio\, forma parte desde 2018 de la Junta Directiva nacional de la asociación Amigos del Románico\, de la que es su Vicepresidente desde 2019\, y del consejo editor de la revista Románico. Es también Vicepresidente Segundo y Director de la Comisión de Patrimonio Arquitectónico e Industrial del Centro de Estudios del Alfoz de Gauzón‐CEAG\, donde también forma parte del consejo editor de la revista Alfoz. \n\n\n\n\n  \n\n  \n\n\n\n\n 
URL:https://www.mieres.es/evento/en-el-camino-de-mieres-el-romanico-en-los-caminos-del-caudal-por-daniel-fdez-garcia/
LOCATION:Casa de Cultura Teodoro Cuesta\, Calle Manuel Llaneza\, 8\, Mieres\, Asturias\, 33600\, España
CATEGORIES:Arte,Conferencia,Patrimonio
ATTACH;FMTTYPE=image/jpeg:https://www.mieres.es/wp-content/uploads/2021/10/En-el-camino-de-Mieres-ciclo-2021.jpg
GEO:43.2502294;-5.7729571
X-APPLE-STRUCTURED-LOCATION;VALUE=URI;X-ADDRESS=Casa de Cultura Teodoro Cuesta Calle Manuel Llaneza 8 Mieres Asturias 33600 España;X-APPLE-RADIUS=500;X-TITLE=Calle Manuel Llaneza\, 8:geo:-5.7729571,43.2502294
END:VEVENT
END:VCALENDAR