BEGIN:VCALENDAR
VERSION:2.0
PRODID:-//Ayuntamiento de Mieres - ECPv5.16.1.1//NONSGML v1.0//EN
CALSCALE:GREGORIAN
METHOD:PUBLISH
X-WR-CALNAME:Ayuntamiento de Mieres
X-ORIGINAL-URL:https://www.mieres.es
X-WR-CALDESC:Eventos para Ayuntamiento de Mieres
BEGIN:VTIMEZONE
TZID:Europe/Madrid
BEGIN:DAYLIGHT
TZOFFSETFROM:+0100
TZOFFSETTO:+0200
TZNAME:CEST
DTSTART:20210328T010000
END:DAYLIGHT
BEGIN:STANDARD
TZOFFSETFROM:+0200
TZOFFSETTO:+0100
TZNAME:CET
DTSTART:20211031T010000
END:STANDARD
END:VTIMEZONE
BEGIN:VEVENT
DTSTART;TZID=Europe/Madrid:20211028T200000
DTEND;TZID=Europe/Madrid:20211028T200000
DTSTAMP:20260424T110537
CREATED:20211021T101213Z
LAST-MODIFIED:20211021T101213Z
UID:50015-1635451200-1635451200@www.mieres.es
SUMMARY:En el Camino de Mieres: "Comer en el Camino: los alimentos de Asturias en la Edad Media"\, por Marina Motto López
DESCRIPTION:En el Camino de Mieres\nCiclo de conferencias con motivo de la celebración del Xacobeo 2021 en el concejo de Mieres \n\nComer en el Camino: los alimentos de Asturias en la Edad Media\npor Marina Motto López\nAuditoriu Teodoro Cuesta\n(con retransmisión online a través del canal de Youtube Ayuntamiento de Mieres) \nEntrada gratuita hasta completar aforo. \n\n\n\n  \nEl peregrino a San Salvador de Oviedo y a Santiago debía cubrir\, entre sus necesidades materiales\, la básica del alimento. Esta presentación trata de describir la situación alimenticia asturiana en la época: nos aproximaremos a los productos que proporcionaba la región\, las preparaciones\, procedimientos\, ingredientes\, condimentos y bebidas con los que los peregrinos pudieron alimentarse a su paso por Asturias. Algunos de aquellos alimentos conforman la base de la actual “tradición gastronómica” asturiana. \n  \n\nMarina Motto López. Es licenciada en Historia por la Universidad de Oviedo. Docente y jefa de estudios de la Escuela de Hostelería Principado de Asturias (actualmente OTEA) hasta su jubilación. Realiza trabajos de investigación en el campo de las tradiciones gastronómicas. Colabora con la Universidad de Oviedo en cursos de Extensión Universitaria sobre costumbres alimenticias y en el Máster en Gestión y Desarrollo de la Industria Alimentaria. Publicación conjunta de varios manuales didácticos para la formación hostelera (editorial Paraninfo). \n\n\n\n\n 
URL:https://www.mieres.es/evento/en-el-camino-de-mieres-comer-en-el-camino-los-alimentos-de-asturias-en-la-edad-media-por-marina-motto-lopez/
LOCATION:Casa de Cultura Teodoro Cuesta\, Calle Manuel Llaneza\, 8\, Mieres\, Asturias\, 33600\, España
CATEGORIES:Arte,Conferencia,Patrimonio
ATTACH;FMTTYPE=image/jpeg:https://www.mieres.es/wp-content/uploads/2021/10/En-el-camino-de-Mieres-ciclo-2021.jpg
GEO:43.2502294;-5.7729571
X-APPLE-STRUCTURED-LOCATION;VALUE=URI;X-ADDRESS=Casa de Cultura Teodoro Cuesta Calle Manuel Llaneza 8 Mieres Asturias 33600 España;X-APPLE-RADIUS=500;X-TITLE=Calle Manuel Llaneza\, 8:geo:-5.7729571,43.2502294
END:VEVENT
END:VCALENDAR