BEGIN:VCALENDAR
VERSION:2.0
PRODID:-//Ayuntamiento de Mieres - ECPv5.16.1.1//NONSGML v1.0//EN
CALSCALE:GREGORIAN
METHOD:PUBLISH
X-WR-CALNAME:Ayuntamiento de Mieres
X-ORIGINAL-URL:https://www.mieres.es
X-WR-CALDESC:Eventos para Ayuntamiento de Mieres
BEGIN:VTIMEZONE
TZID:Europe/Madrid
BEGIN:DAYLIGHT
TZOFFSETFROM:+0100
TZOFFSETTO:+0200
TZNAME:CEST
DTSTART:20210328T010000
END:DAYLIGHT
BEGIN:STANDARD
TZOFFSETFROM:+0200
TZOFFSETTO:+0100
TZNAME:CET
DTSTART:20211031T010000
END:STANDARD
END:VTIMEZONE
BEGIN:VEVENT
DTSTART;TZID=Europe/Madrid:20211104T200000
DTEND;TZID=Europe/Madrid:20211104T200000
DTSTAMP:20260424T092105
CREATED:20211018T150310Z
LAST-MODIFIED:20211021T100814Z
UID:49970-1636056000-1636056000@www.mieres.es
SUMMARY:En el Camino de Mieres: "Puertas de los caminos de peregrinaje desde Las Ubiñas‐La Mesa a Redes: Principales singularidades y recursos"\, por David Estévez Villalón
DESCRIPTION:En el Camino de Mieres\nCiclo de conferencias con motivo de la celebración del Xacobeo 2021 en el concejo de Mieres \n\nPuertas de los caminos de peregrinaje desde Las Ubiñas‐La Mesa a Redes: Principales singularidades y recursos\npor David Estévez Villalón\nAuditoriu Teodoro Cuesta\n(con retransmisión online a través del canal de Youtube Ayuntamiento de Mieres) \nEntrada gratuita hasta completar aforo. \n\n\n\n  \nParticularidades y elementos comunes de las cuatro puertas principales en la zona central‐meridional de Asturias en relación con los caminos a Compostela. Recursos actuales y posibles productos turísticos en la parte asturiana y convergencias con el eje principal configurado por Lena\, Mieres y Ribera de Arriba en dirección a Oviedo\, una parte del llamado Camino de El Salvador. \n  \n\nDavid Estévez Villalón\, historiador del arte y guía oficial de turismo. Este historiador del arte es asimismo diplomado en TEAT (Técnico de Empresas y Actividades Turísticas) y Experto Universitario Guía de Patrimonio Cultural. Se desempeña desde hace 30 años como guía acompañante o correo en diferentes partes de España\, Portugal y Francia\, luego como Guía de Turismo en Galicia y en Asturias. Actualmente Guía de Turismo del Principado dedicado a la interpretación del patrimonio cultural y natural de Asturias con la marca “Tyque Turismo Cultural”. Tiene experiencia también impartiendo de cursos\, talleres y conferencias relacionadas con el patrimonio cultural asturiano.  \n\n\n\n\n 
URL:https://www.mieres.es/evento/en-el-camino-de-mieres-puertas-de-los-caminos-de-peregrinaje-desde-las-ubinas%e2%80%90la-mesa-a-redes-principales-singularidades-y-recursos-por-david-estevez-villalon/
LOCATION:Casa de Cultura Teodoro Cuesta\, Calle Manuel Llaneza\, 8\, Mieres\, Asturias\, 33600\, España
CATEGORIES:Arte,Conferencia,Patrimonio
ATTACH;FMTTYPE=image/jpeg:https://www.mieres.es/wp-content/uploads/2021/10/En-el-camino-de-Mieres-ciclo-2021.jpg
GEO:43.2502294;-5.7729571
X-APPLE-STRUCTURED-LOCATION;VALUE=URI;X-ADDRESS=Casa de Cultura Teodoro Cuesta Calle Manuel Llaneza 8 Mieres Asturias 33600 España;X-APPLE-RADIUS=500;X-TITLE=Calle Manuel Llaneza\, 8:geo:-5.7729571,43.2502294
END:VEVENT
END:VCALENDAR