BEGIN:VCALENDAR
VERSION:2.0
PRODID:-//Ayuntamiento de Mieres - ECPv5.16.1.1//NONSGML v1.0//EN
CALSCALE:GREGORIAN
METHOD:PUBLISH
X-WR-CALNAME:Ayuntamiento de Mieres
X-ORIGINAL-URL:https://www.mieres.es
X-WR-CALDESC:Eventos para Ayuntamiento de Mieres
BEGIN:VTIMEZONE
TZID:Europe/Madrid
BEGIN:DAYLIGHT
TZOFFSETFROM:+0100
TZOFFSETTO:+0200
TZNAME:CEST
DTSTART:20210328T010000
END:DAYLIGHT
BEGIN:STANDARD
TZOFFSETFROM:+0200
TZOFFSETTO:+0100
TZNAME:CET
DTSTART:20211031T010000
END:STANDARD
END:VTIMEZONE
BEGIN:VEVENT
DTSTART;TZID=Europe/Madrid:20211112T090000
DTEND;TZID=Europe/Madrid:20211112T090000
DTSTAMP:20260424T092600
CREATED:20211112T092507Z
LAST-MODIFIED:20211112T092507Z
UID:50407-1636707600-1636707600@www.mieres.es
SUMMARY:Exposición itinerante "Nuestrans vidas importan". ATA-Sylvia Rivera (12/30NOV)
DESCRIPTION:Exposición itinerante \n“Nuestrans vidas importan”\nATA-Sylvia Rivera\n  \nVestíbulo acceso Auditoriu Teodoro Cuesta\nDel 12 al 30 de noviembre \nHorario de lunes a viernes\, de 09:00 a 21:00 h.
URL:https://www.mieres.es/evento/exposicion-itinerante-nuestrans-vidas-importan-ata-sylvia-rivera-12-30nov/
LOCATION:Casa de Cultura Teodoro Cuesta\, Calle Manuel Llaneza\, 8\, Mieres\, Asturias\, 33600\, España
CATEGORIES:Arte,Exposiciones,Igualdad
ATTACH;FMTTYPE=image/jpeg:https://www.mieres.es/wp-content/uploads/2021/11/Exp-Trans.jpeg
GEO:43.2502294;-5.7729571
X-APPLE-STRUCTURED-LOCATION;VALUE=URI;X-ADDRESS=Casa de Cultura Teodoro Cuesta Calle Manuel Llaneza 8 Mieres Asturias 33600 España;X-APPLE-RADIUS=500;X-TITLE=Calle Manuel Llaneza\, 8:geo:-5.7729571,43.2502294
END:VEVENT
END:VCALENDAR