BEGIN:VCALENDAR
VERSION:2.0
PRODID:-//Ayuntamiento de Mieres - ECPv5.16.1.1//NONSGML v1.0//EN
CALSCALE:GREGORIAN
METHOD:PUBLISH
X-WR-CALNAME:Ayuntamiento de Mieres
X-ORIGINAL-URL:https://www.mieres.es
X-WR-CALDESC:Eventos para Ayuntamiento de Mieres
BEGIN:VTIMEZONE
TZID:Europe/Madrid
BEGIN:DAYLIGHT
TZOFFSETFROM:+0100
TZOFFSETTO:+0200
TZNAME:CEST
DTSTART:20210328T010000
END:DAYLIGHT
BEGIN:STANDARD
TZOFFSETFROM:+0200
TZOFFSETTO:+0100
TZNAME:CET
DTSTART:20211031T010000
END:STANDARD
END:VTIMEZONE
BEGIN:VEVENT
DTSTART;TZID=Europe/Madrid:20211202T120000
DTEND;TZID=Europe/Madrid:20211202T120000
DTSTAMP:20260424T075900
CREATED:20211203T123536Z
LAST-MODIFIED:20211203T123615Z
UID:50858-1638446400-1638446400@www.mieres.es
SUMMARY:Exposición fotográfica: "El año que lo cambio todo. Memoria fotográfica del 2020" (2/15DIC)
DESCRIPTION:Exposición fotográfica: \n“El año que lo cambio todo. Memoria fotográfica del 2020”\nEL COMERCIO \nCasa de Cultura Teodoro Cuesta\nDel 2 al 15 de diciembre \nHorario de lunes a viernes\, de 12 a 14 y de 17 a 21 h. \n\n\n  \nEl pasado 2020 ha dejado imágenes que no se borrarán de las retinas de los asturianos. ‘El año que lo cambió todo’ es la exposición de EL COMERCIO que recoge algunos de los momentos más simbólicos e impactantes de los capturados por los fotógrafos y colaboradores de este diario durante los meses más crudos de la pandemia. \nAsí\, la colección relata cómo el coronavirus impregnó la vida diaria de los sierenses\, quienes por primera vez celebraron unos Güevos Pintos desde las ventanas y balcones y cambiaron el tradicional prau de La Sobatiella por las terrazas de los bares para afrontar un Carmín sin romerías. \nLos sanitarios\, equipos de limpieza y militares fueron protagonistas durante meses\, no solo de los recuerdos de los asturianos\, sino de varios retratos realizados por este diario desde el otro lado de las trincheras. Monos blancos\, mascarillas\, termómetros y guantes se convirtieron en la cotidianidad desde la pandemia hasta nuestros días. Cada día\, a las ocho\, los aplausos recordaban a los trabajadores esenciales que no estaban solos y los asturianos les reconocían su valentía y dedicación. Nada como esas imágenes para captar esos instantes en que solo se escuchan las palmas de agradecimiento.
URL:https://www.mieres.es/evento/exposicion-fotografica-el-ano-que-lo-cambio-todo-memoria-fotografica-del-2020-2-15dic/
LOCATION:Casa de Cultura Teodoro Cuesta\, Calle Manuel Llaneza\, 8\, Mieres\, Asturias\, 33600\, España
CATEGORIES:Arte,Exposiciones
ATTACH;FMTTYPE=image/jpeg:https://www.mieres.es/wp-content/uploads/2021/12/cartel-expo-el-ano-que-lo-cambio-todo-2021.jpg
GEO:43.2502294;-5.7729571
X-APPLE-STRUCTURED-LOCATION;VALUE=URI;X-ADDRESS=Casa de Cultura Teodoro Cuesta Calle Manuel Llaneza 8 Mieres Asturias 33600 España;X-APPLE-RADIUS=500;X-TITLE=Calle Manuel Llaneza\, 8:geo:-5.7729571,43.2502294
END:VEVENT
BEGIN:VEVENT
DTSTART;TZID=Europe/Madrid:20211202T200000
DTEND;TZID=Europe/Madrid:20211202T200000
DTSTAMP:20260424T075900
CREATED:20211129T103858Z
LAST-MODIFIED:20211129T103858Z
UID:50736-1638475200-1638475200@www.mieres.es
SUMMARY:En el Camino de Mieres: “La dimensión literaria del Camino de Santiago. A propósito de 'Los clamores de la Tierra'”\, por Fulgencio Argüelles
DESCRIPTION:En el Camino de Mieres\nCiclo de conferencias con motivo de la celebración del Xacobeo 2021 en el concejo de Mieres \n\nLa dimensión literaria del Camino de Santiago. A propósito de Los clamores de la Tierra\npor Fulgencio Argüelles\nAuditoriu Teodoro Cuesta\n(con retransmisión online a través del canal de Youtube Ayuntamiento de Mieres) \nEntrada gratuita hasta completar aforo. \n\n\n\n  \nMuchas veces ha sido la literatura quien nos ha acercado a la historia: sobre la invención político‐religiosa del Camino de Santiago no es mucho lo que las crónicas\, escuetas y escasas\, nos dejaron. La literatura\, desde la imaginación y desde el respeto a la historia\, intenta completar lo que nos falta\, entender\, darle un sentido. La novela Los clamores de la tierra de la que es autor forma parte de esas narraciones que recogen los acontecimientos históricos y los configuran a base de imaginación y de memoria para acercarlos a la gente. \nLe interesa la génesis del Camino de Santiago y le apasiona imaginar cómo serían aquellas gentes\, de la nobleza y del pueblo\, que vivieron los primeros años de un acontecimiento que sin duda se encuentra entre los de mayor transcendencia dentro de la historia política\, religiosa y cultural de Asturias\, de España y de Europa. \nEstas citas que están en el inicio de su novela expresan el espíritu y la intención de la narración:\n“Hay que aprender a recordar el futuro e imaginar el pasado. Para ello está aquí el poeta Lucilio\, pues la poesía es la luz que descubre la relación existente entre todas las cosas y las religa entre sí. La retórica crea la historia\, pero la literatura la salva del olvido. Y\, a veces\, la eterniza”\, Carlos Fuentes\, Las dos Numancias.\n“La novela es la historia de los hombres y la historia la novela de los reyes”\, Alphonse Daudet\, Souvenirs d’un homme de lettres. \n  \nFulgencio Argüelles. Escritor. Licenciado en Psicología por las universidades de Comillas y Complutense de Madrid\, especializándose en psicología del trabajo y de las organizaciones. Después de una larga estancia profesional en Madrid\, en 1997 regresó a Asturias para residir en Cenera (Mieres)\, el lugar donde había pasado su infancia y su juventud. Será a partir de entonces cuando se vuelque en su producción literaria. \n\n\n\n\n\n 
URL:https://www.mieres.es/evento/en-el-camino-de-mieres-la-dimension-literaria-del-camino-de-santiago-a-proposito-de-los-clamores-de-la-tierra-por-fulgencio-arguelles/
LOCATION:Casa de Cultura Teodoro Cuesta\, Calle Manuel Llaneza\, 8\, Mieres\, Asturias\, 33600\, España
CATEGORIES:Arte,Conferencia,Patrimonio
ATTACH;FMTTYPE=image/jpeg:https://www.mieres.es/wp-content/uploads/2021/10/En-el-camino-de-Mieres-ciclo-2021.jpg
GEO:43.2502294;-5.7729571
X-APPLE-STRUCTURED-LOCATION;VALUE=URI;X-ADDRESS=Casa de Cultura Teodoro Cuesta Calle Manuel Llaneza 8 Mieres Asturias 33600 España;X-APPLE-RADIUS=500;X-TITLE=Calle Manuel Llaneza\, 8:geo:-5.7729571,43.2502294
END:VEVENT
END:VCALENDAR