BEGIN:VCALENDAR
VERSION:2.0
PRODID:-//Ayuntamiento de Mieres - ECPv5.16.1.1//NONSGML v1.0//EN
CALSCALE:GREGORIAN
METHOD:PUBLISH
X-WR-CALNAME:Ayuntamiento de Mieres
X-ORIGINAL-URL:https://www.mieres.es
X-WR-CALDESC:Eventos para Ayuntamiento de Mieres
BEGIN:VTIMEZONE
TZID:Europe/Madrid
BEGIN:DAYLIGHT
TZOFFSETFROM:+0100
TZOFFSETTO:+0200
TZNAME:CEST
DTSTART:20220327T010000
END:DAYLIGHT
BEGIN:STANDARD
TZOFFSETFROM:+0200
TZOFFSETTO:+0100
TZNAME:CET
DTSTART:20221030T010000
END:STANDARD
END:VTIMEZONE
BEGIN:VEVENT
DTSTART;TZID=Europe/Madrid:20220104T163000
DTEND;TZID=Europe/Madrid:20220104T163000
DTSTAMP:20260424T062117
CREATED:20220119T121915Z
LAST-MODIFIED:20220119T121915Z
UID:51880-1641313800-1641313800@www.mieres.es
SUMMARY:Exposición: Esculturas y pinturas de Gonzalo Prado Grela (4/28ENE)
DESCRIPTION:Exposición: \nEsculturas y pinturas\nde Gonzalo Prado Grela\n  \nSala de exposiciones del Atenéu de Turón\nDel 4 al 28 de enero de 2022 \nHorario de lunes a viernes\, de 16:30 a 20 h. \n\n  \n“En la mayor parte de mi trabajo aparece la figura\, tratando de transmitir emociones y dialogar con el espectador. En los cuadros abunda el color negro indicando la influencia que la mina ha tenido y tiene en mi vida y en mis obras.”\nGonzalo Prado Grela \n\n  \n\n 
URL:https://www.mieres.es/evento/exposicion-esculturas-y-pinturas-de-gonzalo-prado-grela-4-28ene-2/
LOCATION:Atenéu de Turón\, Calle Centro\, 9\, 33610 Mieres\, Asturias\, Turón\, Asturias\, 33610 \, España
CATEGORIES:Arte,Exposiciones
ATTACH;FMTTYPE=image/jpeg:https://www.mieres.es/wp-content/uploads/2022/01/expo-gonzalo-prado-grela-turon-2022.jpg
GEO:43.2091303;-5.7416142
X-APPLE-STRUCTURED-LOCATION;VALUE=URI;X-ADDRESS=Atenéu de Turón Calle Centro 9 33610 Mieres Asturias Turón Asturias 33610  España;X-APPLE-RADIUS=500;X-TITLE=Calle Centro\, 9\, 33610 Mieres\, Asturias:geo:-5.7416142,43.2091303
END:VEVENT
END:VCALENDAR