BEGIN:VCALENDAR
VERSION:2.0
PRODID:-//Ayuntamiento de Mieres - ECPv5.16.1.1//NONSGML v1.0//EN
CALSCALE:GREGORIAN
METHOD:PUBLISH
X-WR-CALNAME:Ayuntamiento de Mieres
X-ORIGINAL-URL:https://www.mieres.es
X-WR-CALDESC:Eventos para Ayuntamiento de Mieres
BEGIN:VTIMEZONE
TZID:Europe/Madrid
BEGIN:DAYLIGHT
TZOFFSETFROM:+0100
TZOFFSETTO:+0200
TZNAME:CEST
DTSTART:20220327T010000
END:DAYLIGHT
BEGIN:STANDARD
TZOFFSETFROM:+0200
TZOFFSETTO:+0100
TZNAME:CET
DTSTART:20221030T010000
END:STANDARD
END:VTIMEZONE
BEGIN:VEVENT
DTSTART;TZID=Europe/Madrid:20220110T120000
DTEND;TZID=Europe/Madrid:20220110T120000
DTSTAMP:20260424T062607
CREATED:20220119T121038Z
LAST-MODIFIED:20220119T121038Z
UID:51872-1641816000-1641816000@www.mieres.es
SUMMARY:Exposición pictórica: "Tiempo al tiempo"\, de María Jesús Coro (10/28ENE)
DESCRIPTION:Exposición pictórica: \n“Tiempo al tiempo”\nde María Jesús Coro\n  \nVestíbulo de la Casa de Cultura Teodoro Cuesta\nDel 10 al 28 de enero de 2022 \nHorario de lunes a viernes\, de 12 a 14 y de 17 a 21 h. \n\n\n  \n  \n\n 
URL:https://www.mieres.es/evento/exposicion-pictorica-tiempo-al-tiempo-de-maria-jesus-coro-10-28ene/
LOCATION:Casa de Cultura Teodoro Cuesta\, Calle Manuel Llaneza\, 8\, Mieres\, Asturias\, 33600\, España
CATEGORIES:Arte,Exposiciones
ATTACH;FMTTYPE=image/jpeg:https://www.mieres.es/wp-content/uploads/2022/01/expo-maria-jesus-coro-tiempo-2022.jpg
GEO:43.2502294;-5.7729571
X-APPLE-STRUCTURED-LOCATION;VALUE=URI;X-ADDRESS=Casa de Cultura Teodoro Cuesta Calle Manuel Llaneza 8 Mieres Asturias 33600 España;X-APPLE-RADIUS=500;X-TITLE=Calle Manuel Llaneza\, 8:geo:-5.7729571,43.2502294
END:VEVENT
END:VCALENDAR