BEGIN:VCALENDAR
VERSION:2.0
PRODID:-//Ayuntamiento de Mieres - ECPv5.16.1.1//NONSGML v1.0//EN
CALSCALE:GREGORIAN
METHOD:PUBLISH
X-WR-CALNAME:Ayuntamiento de Mieres
X-ORIGINAL-URL:https://www.mieres.es
X-WR-CALDESC:Eventos para Ayuntamiento de Mieres
BEGIN:VTIMEZONE
TZID:Europe/Madrid
BEGIN:DAYLIGHT
TZOFFSETFROM:+0100
TZOFFSETTO:+0200
TZNAME:CEST
DTSTART:20220327T010000
END:DAYLIGHT
BEGIN:STANDARD
TZOFFSETFROM:+0200
TZOFFSETTO:+0100
TZNAME:CET
DTSTART:20221030T010000
END:STANDARD
END:VTIMEZONE
BEGIN:VEVENT
DTSTART;TZID=Europe/Madrid:20220210T160000
DTEND;TZID=Europe/Madrid:20220210T160000
DTSTAMP:20260424T050112
CREATED:20220203T121255Z
LAST-MODIFIED:20220203T121255Z
UID:52059-1644508800-1644508800@www.mieres.es
SUMMARY:Exposición:  "El Ave Lira electrónico"\, de Diego Flórez (10/27FEB)
DESCRIPTION:Exposición: \n“El ave lira electrónico”\nDiego Flórez\nMieres Centru Cultural\nDel 10 al 27 de febrero de 2022 \n  \nHorario: Miércoles\, jueves y viernes\, de 16 a 19:30h.  Sábados y domingos de 11 a 14 y de 16 a 19:30h. \n\n\n  \nEl ave lira electrónico es una instalación sonora pensada para exponer en estéreo y durante tiempos prolongados (horas\, días…). La idea consiste en la emulación de un paisaje sonoro exclusivamente a través de técnicas de síntesis. Mediante una serie de algoritmos desarrollados\, al igual que la síntesis\, en Supercollider\, los diversos sonidos van dialogando entre sí\, evolucionando de una forma similar a la que podría darse en un entorno natural. \nEl paisaje de referencia elegido es el de una tormenta de verano en el norte de España. Entre los sonidos sintetizados podemos encontrar grillos\, saltamontes\, viento\, lluvia y truenos.\nEl título viene dado por el ave lira soberbia\, un pájaro abundante en Australia cuyo canto es muy característico: se basa en la imitación del canto de otras especies. \nNo obstante\, las cada vez más frecuentes intrusiones sonoras en el medio natural propician que\, en ocasiones\, se pueda escuchar al ave lira imitar el sonido de motosierras\, coches\, cámaras fotográficas… Dado el extrañamiento que puede generar la percepción de “la naturaleza imitando ala máquina”\, se busca obtener un efecto similar invirtiendo los términos\, presentando a “la máquina que imita ala naturaleza”. El objetivo es despertar a través de la escucha de la obra reflexiones en torno a nuestra desconexión con el medio ambiente y con el entorno sonoro natural. \nPara lograr este efecto de extrañamiento\, se debe conseguir que el oyente reconozca que el sonido que escucha no es una grabación\, sino que se trata de síntesis. Para ello se opta por la difusión en solamente dos canales: evitando una recreación espacial cercana a la que encontraríamos en un entorno natural —y sumado esto a las “imperfecciones” que tienen tanto la síntesis como los algoritmos— resulta más fácil percibir la artificialidad del sonido. \nEn la obra conviven con las emulaciones de eventos naturales otro tipo de sonidos. Se trata de sonidos de una estética más directamente ligada a lo electrónico y a lo artificial (también a lo abstracto). Parten de la interpretación subjetiva del autor de ciertos sonidos originados en un contexto industrial: sonidos de fábricas\, paso de coches y aviones\, etcétera. Todos ellos son sonidos que\, muy a menudo en el contexto actual\, viajan a través del espacio obviando fronteras y barreras\, filtrándose a menudo en zonas naturales y núcleos naturales. En definitiva\, grandes difusiones que se convierten en intrusiones sonoras. \n  \n\n 
URL:https://www.mieres.es/evento/exposicion-el-ave-lira-electronico-de-diego-florez-10-27feb/
LOCATION:Mieres Centru Cultural\, Calle Jerónimo Ibrán\, 10\, Mieres\, Asturias\, 33600
CATEGORIES:Arte,Exposiciones
ATTACH;FMTTYPE=image/jpeg:https://www.mieres.es/wp-content/uploads/2022/02/expo-MCC-Mieres-El-ave-lira.jpeg
END:VEVENT
END:VCALENDAR