BEGIN:VCALENDAR
VERSION:2.0
PRODID:-//Ayuntamiento de Mieres - ECPv5.16.1.1//NONSGML v1.0//EN
CALSCALE:GREGORIAN
METHOD:PUBLISH
X-WR-CALNAME:Ayuntamiento de Mieres
X-ORIGINAL-URL:https://www.mieres.es
X-WR-CALDESC:Eventos para Ayuntamiento de Mieres
BEGIN:VTIMEZONE
TZID:Europe/Madrid
BEGIN:DAYLIGHT
TZOFFSETFROM:+0100
TZOFFSETTO:+0200
TZNAME:CEST
DTSTART:20220327T010000
END:DAYLIGHT
BEGIN:STANDARD
TZOFFSETFROM:+0200
TZOFFSETTO:+0100
TZNAME:CET
DTSTART:20221030T010000
END:STANDARD
END:VTIMEZONE
BEGIN:VEVENT
DTSTART;TZID=Europe/Madrid:20220330T120000
DTEND;TZID=Europe/Madrid:20220330T120000
DTSTAMP:20260424T020805
CREATED:20220318T090952Z
LAST-MODIFIED:20220318T090952Z
UID:52729-1648641600-1648641600@www.mieres.es
SUMMARY:Exposición: Esculturas y pinturas de Gonzalo Prado Grela (21/30MAR)
DESCRIPTION:Exposición: \nEsculturas y pinturas\nde Gonzalo Prado Grela\n  \nSala de exposiciones de la Casa de Cultura Teodoro Cuesta\nDel 21 al 30 de marzo de 2022 \nHorario de lunes a viernes\, mañanas de 12 a 14 h.\, tardes de 17 a 21 h. \n\n  \n“En la mayor parte de mi trabajo aparece la figura\, tratando de transmitir emociones y dialogar con el espectador. En los cuadros abunda el color negro indicando la influencia que la mina ha tenido y tiene en mi vida y en mis obras.”\nGonzalo Prado Grela \n\n  \n\n 
URL:https://www.mieres.es/evento/exposicion-esculturas-y-pinturas-de-gonzalo-prado-grela-21-30mar-2/
LOCATION:Casa de Cultura Teodoro Cuesta\, Calle Manuel Llaneza\, 8\, Mieres\, Asturias\, 33600\, España
CATEGORIES:Arte,Exposiciones
ATTACH;FMTTYPE=image/jpeg:https://www.mieres.es/wp-content/uploads/2022/03/gonzalo-prado-grela-expo-Mieres-marzo-2022.jpeg
GEO:43.2502294;-5.7729571
X-APPLE-STRUCTURED-LOCATION;VALUE=URI;X-ADDRESS=Casa de Cultura Teodoro Cuesta Calle Manuel Llaneza 8 Mieres Asturias 33600 España;X-APPLE-RADIUS=500;X-TITLE=Calle Manuel Llaneza\, 8:geo:-5.7729571,43.2502294
END:VEVENT
END:VCALENDAR