BEGIN:VCALENDAR
VERSION:2.0
PRODID:-//Ayuntamiento de Mieres - ECPv5.16.1.1//NONSGML v1.0//EN
CALSCALE:GREGORIAN
METHOD:PUBLISH
X-WR-CALNAME:Ayuntamiento de Mieres
X-ORIGINAL-URL:https://www.mieres.es
X-WR-CALDESC:Eventos para Ayuntamiento de Mieres
BEGIN:VTIMEZONE
TZID:Europe/Madrid
BEGIN:DAYLIGHT
TZOFFSETFROM:+0100
TZOFFSETTO:+0200
TZNAME:CEST
DTSTART:20220327T010000
END:DAYLIGHT
BEGIN:STANDARD
TZOFFSETFROM:+0200
TZOFFSETTO:+0100
TZNAME:CET
DTSTART:20221030T010000
END:STANDARD
END:VTIMEZONE
BEGIN:VEVENT
DTSTART;TZID=Europe/Madrid:20221202T163000
DTEND;TZID=Europe/Madrid:20221202T163000
DTSTAMP:20260423T130141
CREATED:20221202T121949Z
LAST-MODIFIED:20221202T121949Z
UID:60156-1669998600-1669998600@www.mieres.es
SUMMARY:Exposición: "El movimiento obrero en las cuencas" (2/11DIC)
DESCRIPTION:Exposición: \nEl movimiento obrero en las cuencas\n  \nSala de exposiciones del Atenéu de Turón\nDel 2 al 11 de diciembre de 2022 \nHorario de lunes a viernes (no festivos)\, de 16:30 a 20 h. \nAbierto sábado 3 y domingo 4 de 12:00 a 14.00h y de 17:00 a 20:00h \n\n  \n  \n\n  \n\n 
URL:https://www.mieres.es/evento/exposicion-el-movimiento-obrero-en-las-cuencas-2-11dic/
LOCATION:Atenéu de Turón\, Calle Centro\, 9\, 33610 Mieres\, Asturias\, Turón\, Asturias\, 33610 \, España
CATEGORIES:Arte,Exposiciones
ATTACH;FMTTYPE=image/jpeg:https://www.mieres.es/wp-content/uploads/2022/12/movimiento-obrero-cuencas-exposicion-ateneu-turon.jpeg
GEO:43.2091303;-5.7416142
X-APPLE-STRUCTURED-LOCATION;VALUE=URI;X-ADDRESS=Atenéu de Turón Calle Centro 9 33610 Mieres Asturias Turón Asturias 33610  España;X-APPLE-RADIUS=500;X-TITLE=Calle Centro\, 9\, 33610 Mieres\, Asturias:geo:-5.7416142,43.2091303
END:VEVENT
END:VCALENDAR