BEGIN:VCALENDAR
VERSION:2.0
PRODID:-//Ayuntamiento de Mieres - ECPv5.16.1.1//NONSGML v1.0//EN
CALSCALE:GREGORIAN
METHOD:PUBLISH
X-WR-CALNAME:Ayuntamiento de Mieres
X-ORIGINAL-URL:https://www.mieres.es
X-WR-CALDESC:Eventos para Ayuntamiento de Mieres
BEGIN:VTIMEZONE
TZID:Europe/Madrid
BEGIN:DAYLIGHT
TZOFFSETFROM:+0100
TZOFFSETTO:+0200
TZNAME:CEST
DTSTART:20220327T010000
END:DAYLIGHT
BEGIN:STANDARD
TZOFFSETFROM:+0200
TZOFFSETTO:+0100
TZNAME:CET
DTSTART:20221030T010000
END:STANDARD
END:VTIMEZONE
BEGIN:VEVENT
DTSTART;TZID=Europe/Madrid:20221222T100000
DTEND;TZID=Europe/Madrid:20221222T200000
DTSTAMP:20260423T130145
CREATED:20221117T101617Z
LAST-MODIFIED:20221117T101617Z
UID:59831-1671703200-1671739200@www.mieres.es
SUMMARY:Exposición pictórica: "El sueño del jardinero"\, de Javier Victorero (10OCT/22DIC)
DESCRIPTION:Exposición pictórica: \nEl sueño del jardinero\nde Javier Victorero\nSala de exposiciones del I.E.S. Bernaldo de Quirós\nDel 10 de octubre al 22 de diciembre de 2022 \nHorario de lunes a viernes\, mañanas de 10 a 14 h.\, tardes de 17 a 20 h. \n  \n\n\n  \nEl IES Bernaldo de Quirós inicia su programa del curso 2022-23 renovando su compromiso con la difusión de la cultura en el ámbito educativo. Anteriormente han participado en nuestras exposiciones reconocidos artistas como Bernardo Sanjurjo\, Chechu Álava\, Hugo O’Donnell\, Natalia Pastor\, Carlos Coronas y María Jesús Rodríguez. Gracias a todos ellos\, nuestros alumnos han experimentado los más ricos y diversos lenguajes de la creación. \nEn la exposición se realizará un homenaje al crítico de arte Rubén Suárez\, fallecido durante la pandemia. Además\, en el acto de inauguración contaremos con un pequeño concierto de cello interpretado por Aníbal Mortera\, alumno de 2º de bachillerato. \n  \nLa obra de Javier Victorero (Oviedo\, 1967) se ubica en la abstracción geométrica y revela una intensa búsqueda de las posibilidades de la superficie pictórica. Sus cuadros destacan por los efectos cromáticos y transparencias. No obstante\, es necesario decir que el artista basa su búsqueda en la naturaleza y que huye de los aspectos formales\, transcendiendo lo material. Por eso\, por una parte\, en la contemplación del paisaje podemos encontrar a Rothko\, mientras que los efectos preceptúales nos recuerdan más a artistas del op-art como Sempere o Le Parc\, ambos representados en la colección del IES Bernaldo de Quirós. \n  \n\n 
URL:https://www.mieres.es/evento/exposicion-pictorica-el-sueno-del-jardinero-de-javier-victorero-10oct-22dic/
LOCATION:Casa de Cultura Teodoro Cuesta\, Calle Manuel Llaneza\, 8\, Mieres\, Asturias\, 33600\, España
CATEGORIES:Arte,Educación,Exposiciones
ATTACH;FMTTYPE=image/jpeg:https://www.mieres.es/wp-content/uploads/2022/10/javier-victorero-expo-sueno-jardinero-IBQ.jpg
GEO:43.2502294;-5.7729571
X-APPLE-STRUCTURED-LOCATION;VALUE=URI;X-ADDRESS=Casa de Cultura Teodoro Cuesta Calle Manuel Llaneza 8 Mieres Asturias 33600 España;X-APPLE-RADIUS=500;X-TITLE=Calle Manuel Llaneza\, 8:geo:-5.7729571,43.2502294
END:VEVENT
END:VCALENDAR