BEGIN:VCALENDAR
VERSION:2.0
PRODID:-//Ayuntamiento de Mieres - ECPv5.16.1.1//NONSGML v1.0//EN
CALSCALE:GREGORIAN
METHOD:PUBLISH
X-WR-CALNAME:Ayuntamiento de Mieres
X-ORIGINAL-URL:https://www.mieres.es
X-WR-CALDESC:Eventos para Ayuntamiento de Mieres
BEGIN:VTIMEZONE
TZID:Europe/Madrid
BEGIN:DAYLIGHT
TZOFFSETFROM:+0100
TZOFFSETTO:+0200
TZNAME:CEST
DTSTART:20230326T010000
END:DAYLIGHT
BEGIN:STANDARD
TZOFFSETFROM:+0200
TZOFFSETTO:+0100
TZNAME:CET
DTSTART:20231029T010000
END:STANDARD
END:VTIMEZONE
BEGIN:VEVENT
DTSTART;TZID=Europe/Madrid:20230202T120000
DTEND;TZID=Europe/Madrid:20230202T120000
DTSTAMP:20260423T102605
CREATED:20230127T100709Z
LAST-MODIFIED:20230127T101612Z
UID:61097-1675339200-1675339200@www.mieres.es
SUMMARY:Exposición "Dos patrias llevo conmigo" (2/24FEB)
DESCRIPTION:Exposición: \n“Dos patrias llevo conmigo”\nLos niños de la guerra. De la España de 1937 a la Unión Soviética\n  \nSala de exposiciones de la Casa de Cultura Teodoro Cuesta\nDel 2 al 24 de febrero de 2023 \nwww.niñosderusia.org \nHorario de lunes a viernes\, mañanas de 12 a 14 h.\, tardes de 17 a 21 h. \n\n\nA través de dos guerras\nSe denomina indistintamente “Niños de Rusia” o “Niños de la Guerra” al colectivo de evacuados\, mayoritariamente niños\, que partieron hacia la antigua U.R.S.S. desde los puertos de Gijón\, Bilbao o Valencia\, entre otros lugares de origen. La evacuación fue el resultado de un acuerdo entre el gobierno de la República Española y el de la U.R.S.S. destinado a proporcionar refugio a los niños durante el desarrollo de la guerra civil. La etapa\, cuya duración se estimó en un principio de unos meses\, se extendió veinte años\, pues la repatriación de la mayor parte del colectivo no tuvo lugar hasta 1956-1957. \nDesde 1.937 a 1.941\, todos coinciden en el recuerdo de un tiempo feliz\, de pedagogía avanzada\, durante el que conocen maestros aprendieron la lengua rusa y se adaptaron a su cultura. El pueblo ruso los protegió y acogió con solidaridad. \nMaestras y maestros españoles y personal ruso se ocuparon de su educación. Se formaron en ciencias\, literatura\, arte y música. Crecieron y comenzaron estudios profesionales y universitarios. Pero en 1941 la Alemania nazi invadió la URSS y se rompió de nuevo la paz de los niños.\nSucesivas evacuaciones los llevaron\, junto a sus educadores hacia el Este\, por el río Volga. Después\, hacia Los Montes Urales o hacia el Cáucaso\, huyendo de la guerra. Algunos llegaron hasta Siberia y otros padecieron el “Cerco de Leningrado”\, un asedio en el que murió más de un millón de personas\, cientos de miles en el invierno de 1941-1942. \nCon el fin de la 2ª Guerra Mundial\, retornaron a Moscú y a otras ciudades de la URSS\, reanudando su formación. Muchas mujeres se hicieron ingenieras\, médicas y profesoras. Se casaron entre españoles\, principalmente\, para facilitar el retorno a su tierra. Tuvieron hijos y en 1956 pudieron regresar tras un acuerdo entre el gobierno de España y el de la URSS. \nHoy\, un colectivo de hijos\, nietos\, familiares y colaboradores\, protege su memoria y la difunde para su conocimiento.
URL:https://www.mieres.es/evento/exposicion-dos-patrias-llevo-conmigo-2-24feb/
LOCATION:Casa de Cultura Teodoro Cuesta\, Calle Manuel Llaneza\, 8\, Mieres\, Asturias\, 33600\, España
CATEGORIES:Arte,Exposiciones,Memoria Democrática
ATTACH;FMTTYPE=image/jpeg:https://www.mieres.es/wp-content/uploads/2023/01/dos-patrias-llevo-conmigo-exposicion-mieres.jpeg
GEO:43.2502294;-5.7729571
X-APPLE-STRUCTURED-LOCATION;VALUE=URI;X-ADDRESS=Casa de Cultura Teodoro Cuesta Calle Manuel Llaneza 8 Mieres Asturias 33600 España;X-APPLE-RADIUS=500;X-TITLE=Calle Manuel Llaneza\, 8:geo:-5.7729571,43.2502294
END:VEVENT
BEGIN:VEVENT
DTSTART;TZID=Europe/Madrid:20230202T163000
DTEND;TZID=Europe/Madrid:20230202T163000
DTSTAMP:20260423T102605
CREATED:20230201T100735Z
LAST-MODIFIED:20230201T100735Z
UID:61133-1675355400-1675355400@www.mieres.es
SUMMARY:Exposición fotográfica: "Vida y trabajo"\, por Asociación Cultural y Minera Santa Bárbara (2/24FEB)
DESCRIPTION:Exposición: \n“Vida y trabajo”\npor Asociación Cultural y Minera Santa Bárbara\n  \nSala de exposiciones del Atenéu de Turón\nDel 2 al 24 de febrero de 2023 \nHorario de lunes a viernes (no festivos)\, de 16:30 a 20 h. \n\n  \nCon esta exposición fotográfica\, la Asociación Cultural y Minera Santa Bárbara quiere dar un sincero reconocimiento a la gente trabajadora que lo dio todo\, en unos tiempos difíciles\, para levantar este país y dar de comer a sus familias. Muchos años de trabajo y esfuerzos merecen nuestra admiración\, nuestro respeto y un serio reconocimiento. \n\n  \n\n 
URL:https://www.mieres.es/evento/exposicion-fotografica-vida-y-trabajo-por-asociacion-cultural-y-minera-santa-barbara-2-24feb/
LOCATION:Atenéu de Turón\, Calle Centro\, 9\, 33610 Mieres\, Asturias\, Turón\, Asturias\, 33610 \, España
CATEGORIES:Arte,Exposiciones
ATTACH;FMTTYPE=image/jpeg:https://www.mieres.es/wp-content/uploads/2023/02/exposicion-vida-y-trabajo-turon.jpeg
GEO:43.2091303;-5.7416142
X-APPLE-STRUCTURED-LOCATION;VALUE=URI;X-ADDRESS=Atenéu de Turón Calle Centro 9 33610 Mieres Asturias Turón Asturias 33610  España;X-APPLE-RADIUS=500;X-TITLE=Calle Centro\, 9\, 33610 Mieres\, Asturias:geo:-5.7416142,43.2091303
END:VEVENT
END:VCALENDAR