BEGIN:VCALENDAR
VERSION:2.0
PRODID:-//Ayuntamiento de Mieres - ECPv5.16.1.1//NONSGML v1.0//EN
CALSCALE:GREGORIAN
METHOD:PUBLISH
X-WR-CALNAME:Ayuntamiento de Mieres
X-ORIGINAL-URL:https://www.mieres.es
X-WR-CALDESC:Eventos para Ayuntamiento de Mieres
BEGIN:VTIMEZONE
TZID:Europe/Madrid
BEGIN:DAYLIGHT
TZOFFSETFROM:+0100
TZOFFSETTO:+0200
TZNAME:CEST
DTSTART:20230326T010000
END:DAYLIGHT
BEGIN:STANDARD
TZOFFSETFROM:+0200
TZOFFSETTO:+0100
TZNAME:CET
DTSTART:20231029T010000
END:STANDARD
END:VTIMEZONE
BEGIN:VEVENT
DTSTART;TZID=Europe/Madrid:20230213T120000
DTEND;TZID=Europe/Madrid:20230213T120000
DTSTAMP:20260423T102731
CREATED:20230213T130605Z
LAST-MODIFIED:20230213T130856Z
UID:61305-1676289600-1676289600@www.mieres.es
SUMMARY:Exposición Carteles de cine cubano (13FEB/13MAR)
DESCRIPTION:Exposición: \nCarteles de cine cubano\n\n  \nVestíbulo de la Casa de Cultura Teodoro Cuesta\nDel 13 de febrero al 13 de marzo de 2023 \n  \nHorario de lunes a viernes\, mañanas de 12 a 14 h.\, tardes de 17 a 21 h. \n\n\n  \nCINE CUBANO\, MEMORIA\, REFLEXIÓN\, REVOLUCIÓN  \nEl cine camina golpeando con fuerza entre el arte y la vida. Es ese extraño y loco viaje que nunca haremos o el que ya hemos recorrido\, el amigo que hemos perdido\, el amor que hemos soñado.  \nEl cine cubano supone esa mirada crítica sobre sí mismo\, sobre su realidad y su historia\, convirtiéndose así en una relectura de sus tiempos\, de sus verdades y mentiras\, de su mestizaje\, de la necesidad de seguir avanzando en su proyecto de sociedad. El resacaste del pasado como búsqueda sentida de sus raíces\, del encuentro entre el individuo y su identidad nacional.   \nMemoria\, experimentación\, reflexión\, revolución.  \nY ahí están reflejados los estereotipos de la homosexualidad:   \n…se me sienta en la mesa un tipo raro… un maricón\, chico\nY\, ¿cómo tú sabias que era maricón?\nUno se da cuenta enseguida. Mira\, había helado de chocolate y pidió de fresa.\n(Fresa y Chocolate\, 1993)  \nLos sentimientos al límite de los cubanos:   \n…alegrías y sufrimientos primitivos y directos\, sin trabajar\, sin haber sido enredados por la cultura.\n(Memorias del subdesarrollo\, 1968)  \nLa madre patria como cuerpo femenino de acogida\, de dolor\, de llamada y deseo. El cubano silba a la vida\, la desconoce\, la sigue\, la reconoce\, la ridiculiza\, la agarra para después soltarla. Porque al final ¡aquí va a haber jodienda!\, que grita Lucía (1968) espontánea\, fresca\, monumental.  \nCine estético\, armónico\, estridente\, cautivador.   \nDra. Alicia Vallina 
URL:https://www.mieres.es/evento/exposicion-carteles-de-cine-cubano-13feb-13mar/
LOCATION:Casa de Cultura Teodoro Cuesta\, Calle Manuel Llaneza\, 8\, Mieres\, Asturias\, 33600\, España
CATEGORIES:Arte,Exposiciones
ATTACH;FMTTYPE=image/jpeg:https://www.mieres.es/wp-content/uploads/2023/02/exposicion-carteles-cine-cubano-Mieres-2023.jpeg
GEO:43.2502294;-5.7729571
X-APPLE-STRUCTURED-LOCATION;VALUE=URI;X-ADDRESS=Casa de Cultura Teodoro Cuesta Calle Manuel Llaneza 8 Mieres Asturias 33600 España;X-APPLE-RADIUS=500;X-TITLE=Calle Manuel Llaneza\, 8:geo:-5.7729571,43.2502294
END:VEVENT
END:VCALENDAR