BEGIN:VCALENDAR
VERSION:2.0
PRODID:-//Ayuntamiento de Mieres - ECPv5.16.1.1//NONSGML v1.0//EN
CALSCALE:GREGORIAN
METHOD:PUBLISH
X-WR-CALNAME:Ayuntamiento de Mieres
X-ORIGINAL-URL:https://www.mieres.es
X-WR-CALDESC:Eventos para Ayuntamiento de Mieres
BEGIN:VTIMEZONE
TZID:Europe/Madrid
BEGIN:DAYLIGHT
TZOFFSETFROM:+0100
TZOFFSETTO:+0200
TZNAME:CEST
DTSTART:20230326T010000
END:DAYLIGHT
BEGIN:STANDARD
TZOFFSETFROM:+0200
TZOFFSETTO:+0100
TZNAME:CET
DTSTART:20231029T010000
END:STANDARD
END:VTIMEZONE
BEGIN:VEVENT
DTSTART;TZID=Europe/Madrid:20230430T120000
DTEND;TZID=Europe/Madrid:20230430T120000
DTSTAMP:20260423T072359
CREATED:20230417T093950Z
LAST-MODIFIED:20230417T094234Z
UID:62254-1682856000-1682856000@www.mieres.es
SUMMARY:Exposición colectiva "Es tiempo de romería" (14/30ABR)
DESCRIPTION:Exposición: \nEs tiempo de romería\nUna mirada a través del arte a la iconografía más festiva\nArtistas: Nicanor Piñole\, Gonzalo Juanes\, Benjamín Menéndez\, Virginia López\, Maite Centol\, Chus Cortina. \n  \nSala de exposiciones de la Casa de Cultura Teodoro Cuesta\nDel 14 al 30 de abril de 2023 \nHorario de lunes a viernes\, mañanas de 12 a 14 h.\, tardes de 17 a 21 h. \n  \nEs tiempo de romería es un proyecto incluido en el catalogo 2023 / Circuito de Artes Visuales en el Principado de Asturias. ASTURIAS EN REDE. Consejería de Cultura del Principado de Asturias \n\n\n  \nEs tiempo de romería alude a la cultura festiva y a la memoria colectiva que reconocemos como propia.Una muestra colectiva que gira en torno a un espacio simbólico común: la romería\, a través de diferentes lenguajes y distintos enfoques\, planteados por los/as artistas que componen la muestra: Nicanor Piñole\, Gonzalo Juanes\, Benjamin Menéndez\, Virginia López\, Maite Centol\, Chus Cortina. Comparten gusto e interes por nuestra esencia mas tradicional y así enfocan la mirada\, hacia diferentes aspectos de un hilo argumental que enlaza historia y contemporaneidad con planteamientos artísticos que representan en diferentes tiempos la esencia de una comunidad\, la nuestra. Las romerías\, fiestas de prau perduran\, se mantienen en el tiempo de la mano de la sociedad que las disfruta y como ella siempre cambiante\, incluso en la actualidad en un estado laico\, estas festivas manifestaciones sociales se perpetúan en una tradición que mantiene elementos comunes a lo largo de la historia. Esta renovación es la propia de la sociedad que la celebra perpetuando ritos que configuran nuestra cultura mas popular. Diferentes planteamientos que con un afán documental\, situacionista sobre memoria-acontecimiento\, así como la búsqueda de transcender de la realidad están presentes en el proceso y formalización final de las obras que componen una muestra alegre\, para proponer\, lejos de cualquier unicidad\, vías de reflexión evocadas por un conjunto de obras polisémicas. \nUna mirada a la iconografía más festiva con el objetivo de establecer vínculos que favorezcan lo subjetivo\, nuevos relatos abiertos a la interpretación que conecten emocionalmente con la sociedad asturiana. Recientemente confinados al aislamiento\, en una obligada pausa\, reflexiva o no \, seguro que nos replanteamos nuestra relación con el tiempo; ahora mas que nunca ¡es tiempo de romería! \n  \nEspacio de Creación y Didáctica\nComisariado: Espacio de Creación y Didáctica / M.Centol \nColaboran: Museo Casa Natal Jovellanos. Gijón – Museo Nicanor Piñole. Gijón – Museo Pueblo de Asturias. Gijón \n\n 
URL:https://www.mieres.es/evento/exposicion-colectiva-es-tiempo-de-romeria-14-30abr-2/
LOCATION:Casa de Cultura Teodoro Cuesta\, Calle Manuel Llaneza\, 8\, Mieres\, Asturias\, 33600\, España
CATEGORIES:Arte,Exposiciones
ATTACH;FMTTYPE=image/jpeg:https://www.mieres.es/wp-content/uploads/2023/04/cartel-Estiempoderomeria-scaled.jpg
GEO:43.2502294;-5.7729571
X-APPLE-STRUCTURED-LOCATION;VALUE=URI;X-ADDRESS=Casa de Cultura Teodoro Cuesta Calle Manuel Llaneza 8 Mieres Asturias 33600 España;X-APPLE-RADIUS=500;X-TITLE=Calle Manuel Llaneza\, 8:geo:-5.7729571,43.2502294
END:VEVENT
END:VCALENDAR