BEGIN:VCALENDAR
VERSION:2.0
PRODID:-//Ayuntamiento de Mieres - ECPv5.16.1.1//NONSGML v1.0//EN
CALSCALE:GREGORIAN
METHOD:PUBLISH
X-WR-CALNAME:Ayuntamiento de Mieres
X-ORIGINAL-URL:https://www.mieres.es
X-WR-CALDESC:Eventos para Ayuntamiento de Mieres
BEGIN:VTIMEZONE
TZID:Europe/Madrid
BEGIN:DAYLIGHT
TZOFFSETFROM:+0100
TZOFFSETTO:+0200
TZNAME:CEST
DTSTART:20230326T010000
END:DAYLIGHT
BEGIN:STANDARD
TZOFFSETFROM:+0200
TZOFFSETTO:+0100
TZNAME:CET
DTSTART:20231029T010000
END:STANDARD
END:VTIMEZONE
BEGIN:VEVENT
DTSTART;TZID=Europe/Madrid:20230503T163000
DTEND;TZID=Europe/Madrid:20230503T163000
DTSTAMP:20260423T055950
CREATED:20230426T111426Z
LAST-MODIFIED:20230426T111426Z
UID:62605-1683131400-1683131400@www.mieres.es
SUMMARY:Exposición fotográfica: "Los ferrocarriles en la Comarca del Caudal" (3/30MAY)
DESCRIPTION:Exposición fotográfica: \nLos ferrocarriles en la Comarca del Caudal\nOrganizada por Asociación Cultural y Minera Santa Bárbara \n  \nSala de exposiciones del Atenéu de Turón\nDel 3 al 30 de mayo de 2023 \nHorario de lunes a viernes de 16:30 a 20:00h. \n\n\n 
URL:https://www.mieres.es/evento/exposicion-fotografica-los-ferrocarriles-en-la-comarca-del-caudal-3-30may/
LOCATION:Atenéu de Turón\, Calle Centro\, 9\, 33610 Mieres\, Asturias\, Turón\, Asturias\, 33610 \, España
CATEGORIES:Arte,Exposiciones
ATTACH;FMTTYPE=image/jpeg:https://www.mieres.es/wp-content/uploads/2023/04/esposicion-ferrocarriles-caudal-mieres-2023.jpeg
GEO:43.2091303;-5.7416142
X-APPLE-STRUCTURED-LOCATION;VALUE=URI;X-ADDRESS=Atenéu de Turón Calle Centro 9 33610 Mieres Asturias Turón Asturias 33610  España;X-APPLE-RADIUS=500;X-TITLE=Calle Centro\, 9\, 33610 Mieres\, Asturias:geo:-5.7416142,43.2091303
END:VEVENT
END:VCALENDAR