BEGIN:VCALENDAR
VERSION:2.0
PRODID:-//Ayuntamiento de Mieres - ECPv5.16.1.1//NONSGML v1.0//EN
CALSCALE:GREGORIAN
METHOD:PUBLISH
X-WR-CALNAME:Ayuntamiento de Mieres
X-ORIGINAL-URL:https://www.mieres.es
X-WR-CALDESC:Eventos para Ayuntamiento de Mieres
BEGIN:VTIMEZONE
TZID:Europe/Madrid
BEGIN:DAYLIGHT
TZOFFSETFROM:+0100
TZOFFSETTO:+0200
TZNAME:CEST
DTSTART:20230326T010000
END:DAYLIGHT
BEGIN:STANDARD
TZOFFSETFROM:+0200
TZOFFSETTO:+0100
TZNAME:CET
DTSTART:20231029T010000
END:STANDARD
END:VTIMEZONE
BEGIN:VEVENT
DTSTART;TZID=Europe/Madrid:20230531T100000
DTEND;TZID=Europe/Madrid:20230531T200000
DTSTAMP:20260423T043629
CREATED:20230310T085840Z
LAST-MODIFIED:20230310T085840Z
UID:61831-1685527200-1685563200@www.mieres.es
SUMMARY:Exposición: "Cronología"\, de Isabel Cuadrado (15MAR/31MAY)
DESCRIPTION:Exposición: \nCronología\nde Isabel Cuadrado\nSala de exposiciones del I.E.S. Bernaldo de Quirós\nDel 15 de marzo al 31 de mayo de 2023 \nHorario de lunes a viernes\, mañanas de 10 a 14 h.\, tardes de 17 a 20 h. \n  \n\n\n  \nEl martes 14 de marzo a las 11:15 h se inaugura en el IES Bernaldo de Quirós la exposición Cronología de la artista Isabel Cuadrado. La exposición incluye la colocación de una escultura de hierro en el jardín del instituto\, que pasará a formar parte de los fondos de la Colección de Arte. \nLos componentes principales de la obra de Isabel Cuadrado suelen ser el espacio y tiempo. La relación de la obra con su entorno y el proceso permiten a la artista expresarse con todo tipo de medios y materiales: instalaciones\, libro de artista\, obra gráfica y multimedia. \nAdemás de exhibir su obra a nivel individual en España\, las obras de Isabel Cuadrado se han visto en Reino Unido\, Canadá\, Bélgica\, Puerto Rico\, Japón\, China\, Suiza\, Italia y Francia. Ha participado en distintas ferias de arte como Arco\, Estampa\, Artelisboa y JustMad. Ha obtenido diversos premios y reconocimientos\, entre los que destacan la beca de la Academia de España en Roma\, Fiskars Artist in Residence\, Finlandia\, y R.A.T. Puerto Mitla en CDMX\, México. Su obra se encuentra en destacadas colecciones y museos\, entre ellos\, el Centro Galego de Arte Contemporáneo\, Museo de Bellas Artes de Asturias\, Museo de Arte Moderno de Amberes\, Museo del Grabado Español Contemporáneo\, Ministerio de Asuntos Exteriores y Biblioteca Nacional. \nCon esta exposición\, el IES Bernaldo de Quirós mantiene su compromiso a favor de la igualdad dedicando la mitad de su programación a mujeres artistas. Anteriormente\, han participado en nuestras exposiciones creadores/as como Javier Victorero\, Breza Cecchini\, Bernardo Sanjurjo\, Chechu Álava\, Hugo O´Donnell\, Natalia Pastor\, Carlos Coronas y María Jesús Rodríguez\, entre otros. \n 
URL:https://www.mieres.es/evento/exposicion-cronologia-de-isabel-cuadrado-15mar-31may-2/
LOCATION:Casa de Cultura Teodoro Cuesta\, Calle Manuel Llaneza\, 8\, Mieres\, Asturias\, 33600\, España
CATEGORIES:Arte,Educación,Exposiciones
ATTACH;FMTTYPE=image/jpeg:https://www.mieres.es/wp-content/uploads/2023/03/Exposicion-Isabel-Cuadrado-INB-Bernaldo-Quiros.jpg
GEO:43.2502294;-5.7729571
X-APPLE-STRUCTURED-LOCATION;VALUE=URI;X-ADDRESS=Casa de Cultura Teodoro Cuesta Calle Manuel Llaneza 8 Mieres Asturias 33600 España;X-APPLE-RADIUS=500;X-TITLE=Calle Manuel Llaneza\, 8:geo:-5.7729571,43.2502294
END:VEVENT
END:VCALENDAR