BEGIN:VCALENDAR
VERSION:2.0
PRODID:-//Ayuntamiento de Mieres - ECPv5.16.1.1//NONSGML v1.0//EN
CALSCALE:GREGORIAN
METHOD:PUBLISH
X-WR-CALNAME:Ayuntamiento de Mieres
X-ORIGINAL-URL:https://www.mieres.es
X-WR-CALDESC:Eventos para Ayuntamiento de Mieres
BEGIN:VTIMEZONE
TZID:Europe/Madrid
BEGIN:DAYLIGHT
TZOFFSETFROM:+0100
TZOFFSETTO:+0200
TZNAME:CEST
DTSTART:20230326T010000
END:DAYLIGHT
BEGIN:STANDARD
TZOFFSETFROM:+0200
TZOFFSETTO:+0100
TZNAME:CET
DTSTART:20231029T010000
END:STANDARD
END:VTIMEZONE
BEGIN:VEVENT
DTSTART;TZID=Europe/Madrid:20230603T090000
DTEND;TZID=Europe/Madrid:20230603T203000
DTSTAMP:20260423T043629
CREATED:20230530T114735Z
LAST-MODIFIED:20230530T114735Z
UID:63265-1685782800-1685824200@www.mieres.es
SUMMARY:V Certamen Serondaya de pintura rápida al aire libre
DESCRIPTION:  \nQUINTO CERTAMEN “SERONDAYA” DE PINTURA RÁPIDA AL AIRE LIBRE \nCENERA\n3 de junio de 2023 \n  \nLa Asociación Cultural Serondaya\, con sede en Cenera\, convoca el Cuarto Certamen de Pintura Rápida al Aire Libre de acuerdo con las siguientes\nBases: \n1-Participantes. Podrán participar todas aquellas personas mayores de 18 años que lo deseen.\n2- Celebración.\nEl Certamen tendrá lugar en el pueblo de Cenera (Mieres) el sábado día 3 de junio de 2023.\n3- Tema.\nCualquier motivo (plaza\, rincón\, detalle\, panorámica\, paisajes y personajes) de la zona indicada en el momento de la inscripción. No se admitirán modelos previos (bocetos\, esquemas o fotografías). Durante el tiempo de duración del certamen la Organización comprobará la ubicación de los participantes.\n4- Técnica y Formato.\nLa técnica pictórica es libre. El soporte deberá ser rígido (lienzo\, tablero etc.) con un tamaño mínimo de 30 por 42 centímetros y un máximo de 100 por 81 centímetros. Cada participante aportará caballete y el soporte blanco o con color base\, sin textura.\n5-Inscripciones y participación\nLa inscripción será gratuita. Los participantes podrán hacer una preinscripción\, desde la publicación de estas bases y hasta las 20 horas del día 2 de junio de 2023 con sus datos personales por correo electrónico a la Asociación Serondaya acserondaya@gmail.com. Estas preinscripciones se formalizarán nuevamente el día 3 de junio de 2023 entre las 9:00 y las 12:00 horas en la sede de la Asociación Serondaya en Cenera.\n6-Sellado e Identificación.\nEn la sede de la organización\, entre las 9:00 horas y hasta las 12:00 horas\, del 3 de junio de 2023\, se sellarán los soportes en el reverso y se formalizará una ficha con los datos del participante\, el DNI y un número que se asignará a cada uno de ellos. En caso de deterioro del soporte\, podrá sellarse un segundo\, una vez entregado el primero. Se entregará un picnic a cada participante\, una vez formalizada la inscripción.\n7- Recepción de las obras.\nLa hora máxima de entrega de las obras será las 18:30 horas en la sede de la Asociación Serondaya. Las obras finalizadas se entregarán sin firmar aunque una vez fallado el concurso\, las que resulten premiadas deberán ser firmadas por sus autores. Una vez entregadas las obras se colocarán el los caballetes según el número de inscripción\, para su exposición pública y la selección por parte del jurado.\n8- El jurado.\nEl jurado será designado por la Asociación Cultural Serondaya entre personas de reconocido prestigio en el mundo del arte y la cultura. La composición del jurado se hará pública una vez que haya terminado el plazo para la entrega de las obras. El jurado se reunirá para deliberar una vez terminado el plazo de presentación de las mismas (18:30) y emitirá su fallo a continuación. Su decisión será inapelable.\n10- La entrega de premios.\nLa entrega de premios tendrá lugar a las 20:00 horas en la sede de la Asociación Serondaya el mismo día del certamen. Los autores de las obras seleccionadas recibirán un Diploma acreditativo. Es imprescindible que todos los participantes que estén presentes en la entrega de premios.\n11- Retirada de las obras\nLos trabajos no premiados deberán ser retirados por el autor o persona debidamente autorizada a partir del momento en el que se produzca el fallo. Todas las obras que no sean retiradas pasarán a ser propiedad de la Asociación Serondaya\, en concepto de donación.\n12-La propiedad de las obras\nLas obras premiadas\, así como sus derechos de edición y reproducción pasarán a ser propiedad de la Asociación Serondaya que\, a su vez\, podrá donarlas a los Patrocinadores.\n13- Premios\nSe fijan los siguientes premios: Primer Premio: 900 euros. Segundo Premio: 400 euros. Tercer Premio: 300 euros.\n14- Responsabilidad en el mantenimiento de las obras\nLa Asociación Serondaya tendrá el máximo cuidado en la conservación de las obras\, pero no responderá de los desperfectos que puedan sufrir durante el tiempo que estén bajo su custodia.\n15- Vídeo y fotografías\nSe realizarán reportajes fotográficos durante el Certamen\, por lo que se entienden cedidos todos los derechos de imagen de los participantes. \n  \nLa participación en esta convocatoria supone la previa aceptación de las bases.
URL:https://www.mieres.es/evento/v-certamen-serondaya-de-pintura-rapida-al-aire-libre/
LOCATION:Cenera\, Cenera\, Asturias\, 33615\, España
CATEGORIES:Arte
ATTACH;FMTTYPE=image/jpeg:https://www.mieres.es/wp-content/uploads/2023/05/Serondaya-cartel-Certamen-Pintura-Rapida-2023-scaled.jpg
ORGANIZER;CN="Asoc.%20Cultural%20Serondaya":MAILTO:acserondaya@gmail.com
GEO:43.2176497;-5.8185729
END:VEVENT
END:VCALENDAR