BEGIN:VCALENDAR
VERSION:2.0
PRODID:-//Ayuntamiento de Mieres - ECPv5.16.1.1//NONSGML v1.0//EN
CALSCALE:GREGORIAN
METHOD:PUBLISH
X-WR-CALNAME:Ayuntamiento de Mieres
X-ORIGINAL-URL:https://www.mieres.es
X-WR-CALDESC:Eventos para Ayuntamiento de Mieres
BEGIN:VTIMEZONE
TZID:Europe/Madrid
BEGIN:DAYLIGHT
TZOFFSETFROM:+0100
TZOFFSETTO:+0200
TZNAME:CEST
DTSTART:20230326T010000
END:DAYLIGHT
BEGIN:STANDARD
TZOFFSETFROM:+0200
TZOFFSETTO:+0100
TZNAME:CET
DTSTART:20231029T010000
END:STANDARD
END:VTIMEZONE
BEGIN:VEVENT
DTSTART;TZID=Europe/Madrid:20230901T120000
DTEND;TZID=Europe/Madrid:20230901T120000
DTSTAMP:20260423T001316
CREATED:20230915T083323Z
LAST-MODIFIED:20230915T083323Z
UID:64506-1693569600-1693569600@www.mieres.es
SUMMARY:Exposición "Con alma de cartón"\, de Gema Llaneza Pérez (01/29SET)
DESCRIPTION:Exposición: \nCon alma de cartón\nde Gema Llaneza Pérez\n  \nSala de exposiciones de la Casa de Cultura Teodoro Cuesta\nDel 1 al 29 de septiembre de 2023 \nHorario de lunes a viernes\, de 12 a 14:00 h. y de 17 a 21:00h \n  \n\n 
URL:https://www.mieres.es/evento/exposicion-con-alma-de-carton-de-gema-llaneza-perez-01-29set/
LOCATION:Casa de Cultura Teodoro Cuesta\, Calle Manuel Llaneza\, 8\, Mieres\, Asturias\, 33600\, España
CATEGORIES:Arte,Exposiciones
ATTACH;FMTTYPE=image/jpeg:https://www.mieres.es/wp-content/uploads/2023/09/cartel-exposicion-gema-llaneza.jpg
GEO:43.2502294;-5.7729571
X-APPLE-STRUCTURED-LOCATION;VALUE=URI;X-ADDRESS=Casa de Cultura Teodoro Cuesta Calle Manuel Llaneza 8 Mieres Asturias 33600 España;X-APPLE-RADIUS=500;X-TITLE=Calle Manuel Llaneza\, 8:geo:-5.7729571,43.2502294
END:VEVENT
BEGIN:VEVENT
DTSTART;TZID=Europe/Madrid:20230901T190000
DTEND;TZID=Europe/Madrid:20230901T190000
DTSTAMP:20260423T001316
CREATED:20230824T125250Z
LAST-MODIFIED:20230901T083813Z
UID:64203-1693594800-1693594800@www.mieres.es
SUMMARY:Exposición "Motivos para dibujar"\, de Andrea Rubio Fernández (01/24SET) -Acto de inauguración-
DESCRIPTION:Exposición: \nMotivos para dibujar\nde Andrea Rubio Fernández\n  \nSala de exposiciones Mieres Centru Cultural\nDel 1 al 24 de septiembre de 2023 \nHorario de miércoles a viernes\, de 16 a 19:30h. Sábados y domingos de 11 a 14h y de 16 a 19:30h \n  \nActo de inauguración\, viernes 1 de septiembre\, 19.00h. \nProducción: Consejería de Cultura del Principado de Asturias. Programa Asturies Cultura en Rede. \n\n\n\n\n\n  \nEn la exposición “Motivos para dibujar” se plantea una reflexión acerca del aprendizaje del dibujo y del momento en el que dejamos de practicarlo. Partiendo del propio proceso que la artista realiza para volver a dibujar\, se exploran una serie de espacios interactivos en los que el público que visita la sala puede formar parte de una intervención colectiva. La artista crea espacios y dinámicas de dibujo a partir de sus obras y de unas “partituras” que invitan a interpretarlas y dibujar alejándonos de la copia tradicional.  En el proyecto expositivo se pueden encontrar dibujos de gran formato\, cuadernos\, fotografías\, videos\, intervenciones murales e instalaciones. \nLa visita se dividirá en dos partes: una más introductoria enfocada a cuestionar cuándo dejamos de dibujar mientras vemos la exposición y otra orientada a la intervención de las obras en la sala utilizando diversos soportes y materiales. Cada visita durará entre 45-50 minutos y se desarrollará con un máximo de 25 personas por grupo. Será necesario el acompañamiento del docente responsable del grupo en todo momento. Los materiales necesarios estarán disponibles en la sala. \n… … \nNa esposición “Motivos pa dibuxar” plantégase una reflexón sobro´l deprendimientu del dibuxu del momentu nel que dexamos de practicalu. Partiendo del propiu procesu que l´artista realiza pa volver dibuxar\, esplórense una riestra d´espacios interactivos nos que´l públicu que visita la sala pue formar parte d´una intervención colectiva. L´artista crea espacios y dinámiques de dibuxu a partir de les sos obres y d´unes “partitures” que conviden a interpretales y dibuxar alloñándose de la copia tradicional. Nel proyectu espositivu puen topase dibuxos de gran formatu\, cuadernos\, semeyes\, videos\, intervenciones murales y instalaciones. \nLa visita dividiráse en dos partes: una más introductoria enfocada a cuestionar cuándo dexamos de dibuxar mientres vemos la esposición y otra empobinada a la intervención de les obres na sala emplegando estremaos soportes y materiales. Cada visita durará ente 45-50 minutos y desendolcaráse con un máximu de 25 persones por grupu. Sedrá necesario l´acompañamientu del docente responsable del grupu en tou momentu. Los materiales afayaízos tarán disponibles na sala. \n\n\n\n\n 
URL:https://www.mieres.es/evento/exposicion-motivos-para-dibujar-de-andrea-rubio-fernandez-01-24set-acto-de-inauguracion/
LOCATION:Mieres Centru Cultural\, Calle Jerónimo Ibrán\, 10\, Mieres\, Asturias\, 33600
CATEGORIES:Arte,Exposiciones
ATTACH;FMTTYPE=image/jpeg:https://www.mieres.es/wp-content/uploads/2023/08/165DF5BC-CEF4-477F-AE95-D19D1975307B.jpeg
END:VEVENT
END:VCALENDAR