BEGIN:VCALENDAR
VERSION:2.0
PRODID:-//Ayuntamiento de Mieres - ECPv5.16.1.1//NONSGML v1.0//EN
CALSCALE:GREGORIAN
METHOD:PUBLISH
X-WR-CALNAME:Ayuntamiento de Mieres
X-ORIGINAL-URL:https://www.mieres.es
X-WR-CALDESC:Eventos para Ayuntamiento de Mieres
BEGIN:VTIMEZONE
TZID:Europe/Madrid
BEGIN:DAYLIGHT
TZOFFSETFROM:+0100
TZOFFSETTO:+0200
TZNAME:CEST
DTSTART:20230326T010000
END:DAYLIGHT
BEGIN:STANDARD
TZOFFSETFROM:+0200
TZOFFSETTO:+0100
TZNAME:CET
DTSTART:20231029T010000
END:STANDARD
END:VTIMEZONE
BEGIN:VEVENT
DTSTART;TZID=Europe/Madrid:20230929T120000
DTEND;TZID=Europe/Madrid:20230929T120000
DTSTAMP:20260422T223349
CREATED:20230915T084205Z
LAST-MODIFIED:20230915T084205Z
UID:64510-1695988800-1695988800@www.mieres.es
SUMMARY:Exposición "Con alma de cartón"\, de Gema Llaneza Pérez (01/29SET)
DESCRIPTION:Exposición: \nCon alma de cartón\nde Gema Llaneza Pérez\n  \nSala de exposiciones de la Casa de Cultura Teodoro Cuesta\nDel 1 al 29 de septiembre de 2023 \nHorario de lunes a viernes\, de 12 a 14:00 h. y de 17 a 21:00h \n  \n\n 
URL:https://www.mieres.es/evento/exposicion-con-alma-de-carton-de-gema-llaneza-perez-01-29set-2/
LOCATION:Casa de Cultura Teodoro Cuesta\, Calle Manuel Llaneza\, 8\, Mieres\, Asturias\, 33600\, España
CATEGORIES:Arte,Exposiciones
ATTACH;FMTTYPE=image/jpeg:https://www.mieres.es/wp-content/uploads/2023/09/cartel-exposicion-gema-llaneza.jpg
GEO:43.2502294;-5.7729571
X-APPLE-STRUCTURED-LOCATION;VALUE=URI;X-ADDRESS=Casa de Cultura Teodoro Cuesta Calle Manuel Llaneza 8 Mieres Asturias 33600 España;X-APPLE-RADIUS=500;X-TITLE=Calle Manuel Llaneza\, 8:geo:-5.7729571,43.2502294
END:VEVENT
END:VCALENDAR