BEGIN:VCALENDAR
VERSION:2.0
PRODID:-//Ayuntamiento de Mieres - ECPv5.16.1.1//NONSGML v1.0//EN
CALSCALE:GREGORIAN
METHOD:PUBLISH
X-WR-CALNAME:Ayuntamiento de Mieres
X-ORIGINAL-URL:https://www.mieres.es
X-WR-CALDESC:Eventos para Ayuntamiento de Mieres
BEGIN:VTIMEZONE
TZID:Europe/Madrid
BEGIN:DAYLIGHT
TZOFFSETFROM:+0100
TZOFFSETTO:+0200
TZNAME:CEST
DTSTART:20230326T010000
END:DAYLIGHT
BEGIN:STANDARD
TZOFFSETFROM:+0200
TZOFFSETTO:+0100
TZNAME:CET
DTSTART:20231029T010000
END:STANDARD
END:VTIMEZONE
BEGIN:VEVENT
DTSTART;TZID=Europe/Madrid:20231004T160000
DTEND;TZID=Europe/Madrid:20231004T160000
DTSTAMP:20260422T223152
CREATED:20230926T104859Z
LAST-MODIFIED:20230926T104859Z
UID:64704-1696435200-1696435200@www.mieres.es
SUMMARY:Exposición escultórica: "La vida. El cuerpo de los sentimientos"\, de Llonguera (4-29)
DESCRIPTION:Exposición: \n“La vida”. El cuerpo de los sentimientos\nde Llonguera\nJose Antonio García Prieto\n  \nSala de exposiciones Mieres Centru Cultural\nDel 4 al 29 de octubre de 2023 \nHorario de miércoles a viernes\, de 16 a 19:30h. Sábados y domingos de 11 a 14h y de 16 a 19:30h \n  \nActo de inauguración\, jueves 5 de octubre\, 19.00h. Con visita guiada a cargo del propio autor. \n  \n\n\n\n\n\n 
URL:https://www.mieres.es/evento/exposicion-escultorica-la-vida-el-cuerpo-de-los-sentimientos-de-llonguera-4-29/
LOCATION:Mieres Centru Cultural\, Calle Jerónimo Ibrán\, 10\, Mieres\, Asturias\, 33600
CATEGORIES:Arte,Exposiciones
ATTACH;FMTTYPE=image/jpeg:https://www.mieres.es/wp-content/uploads/2023/09/Cartel-exposicion-Llonguera-2023.jpeg
END:VEVENT
END:VCALENDAR