BEGIN:VCALENDAR
VERSION:2.0
PRODID:-//Ayuntamiento de Mieres - ECPv5.16.1.1//NONSGML v1.0//EN
CALSCALE:GREGORIAN
METHOD:PUBLISH
X-WR-CALNAME:Ayuntamiento de Mieres
X-ORIGINAL-URL:https://www.mieres.es
X-WR-CALDESC:Eventos para Ayuntamiento de Mieres
BEGIN:VTIMEZONE
TZID:Europe/Madrid
BEGIN:DAYLIGHT
TZOFFSETFROM:+0100
TZOFFSETTO:+0200
TZNAME:CEST
DTSTART:20230326T010000
END:DAYLIGHT
BEGIN:STANDARD
TZOFFSETFROM:+0200
TZOFFSETTO:+0100
TZNAME:CET
DTSTART:20231029T010000
END:STANDARD
END:VTIMEZONE
BEGIN:VEVENT
DTSTART;TZID=Europe/Madrid:20231027T120000
DTEND;TZID=Europe/Madrid:20231027T120000
DTSTAMP:20260422T223249
CREATED:20231006T115742Z
LAST-MODIFIED:20231023T112300Z
UID:64830-1698408000-1698408000@www.mieres.es
SUMMARY:Exposición fotográfica: "Blanco & Negro"\, por Agrupación Fotográfica Semeya (3/27OCT)
DESCRIPTION:Exposición Fotográfica: \nRetratos\npor Agrupación Fotográfica Semeya\nSala de exposiciones de la Casa de Cultura Teodoro Cuesta\nDel 3 al 27 de octubre de 2023 \nHorario de lunes a viernes\, mañanas de 12 a 14 h.\, tardes de 17 a 21 h. \n\n\nL’Agrupación Fotográfica SEMEYA presenta nesta nueva esposición un garapiñu de 33 semeyes\, obra toes elles de componentes de l’Agrupación. \nPartiendo d’una temática llibre\, como bien se pue alvertir\, decidióse esta vez ufiertar namái trabayos en blanco y negro que suponen\, arriendes d’una novedá nes esposiciones de SEMEYA\, centrar tol protagonismu na escena que se retrata y\, al empar\, ufiertar un pequeñu homenaxe a los entamos y los primeros años de la fotografía. \nYe paecer común considerar que técnicamente les semeyes en blanco y negro ufiértennos imáxenes más cencielles\, pero nun podemos escaecer qu’estes imáxenes esixen siempre del fotógrafu o la fotógrafa un esfuerzu mayor de la composición y de tolo que se quier tresmitir con ella y colos elementos que la conformen. \nAguardamos qu’estos xuegos de lluz y de solombres\, de blancos llimpios\, escales de grises y negros fondos qu’agora se presenten centren l’atención del públicu y sían a quien tresmitir la capacidá espresiva que quiximos buscar con ellos.
URL:https://www.mieres.es/evento/exposicion-fotografica-blanco-negro-por-agrupacion-fotografica-semeya-3-oct-2/
LOCATION:Casa de Cultura Teodoro Cuesta\, Calle Manuel Llaneza\, 8\, Mieres\, Asturias\, 33600\, España
CATEGORIES:Arte,Exposiciones
ATTACH;FMTTYPE=image/jpeg:https://www.mieres.es/wp-content/uploads/2023/10/Exposicion-Semeya-2023.jpg
GEO:43.2502294;-5.7729571
X-APPLE-STRUCTURED-LOCATION;VALUE=URI;X-ADDRESS=Casa de Cultura Teodoro Cuesta Calle Manuel Llaneza 8 Mieres Asturias 33600 España;X-APPLE-RADIUS=500;X-TITLE=Calle Manuel Llaneza\, 8:geo:-5.7729571,43.2502294
END:VEVENT
END:VCALENDAR