BEGIN:VCALENDAR
VERSION:2.0
PRODID:-//Ayuntamiento de Mieres - ECPv5.16.1.1//NONSGML v1.0//EN
CALSCALE:GREGORIAN
METHOD:PUBLISH
X-WR-CALNAME:Ayuntamiento de Mieres
X-ORIGINAL-URL:https://www.mieres.es
X-WR-CALDESC:Eventos para Ayuntamiento de Mieres
BEGIN:VTIMEZONE
TZID:Europe/Madrid
BEGIN:DAYLIGHT
TZOFFSETFROM:+0100
TZOFFSETTO:+0200
TZNAME:CEST
DTSTART:20230326T010000
END:DAYLIGHT
BEGIN:STANDARD
TZOFFSETFROM:+0200
TZOFFSETTO:+0100
TZNAME:CET
DTSTART:20231029T010000
END:STANDARD
END:VTIMEZONE
BEGIN:VEVENT
DTSTART;TZID=Europe/Madrid:20231129T120000
DTEND;TZID=Europe/Madrid:20231129T120000
DTSTAMP:20260422T210157
CREATED:20231023T113910Z
LAST-MODIFIED:20231023T113910Z
UID:65249-1701259200-1701259200@www.mieres.es
SUMMARY:Exposición fotográfica: “Colere. Arquitectura y Territorio” (2/29NOV)
DESCRIPTION:Exposición Fotográfica: \n“Colere. Arquitectura y Territorio”\nExposición itinerante Centro Niemeyer\nSala de exposiciones de la Casa de Cultura Teodoro Cuesta\nDel 2 al 29 de noviembre de 2023 \nHorario de lunes a viernes\, mañanas de 12 a 14 h.\, tardes de 17 a 21 h. \n\n\nLlega a mieres la última producción expositiva itinerante producida por el Centro Niemeyer\, “Colere. Arquitectura y Territorio”. Una muestra que\, con el patrocinio de Caja Rural de Asturias\, y bajo el comisariado de Armando Adeba\, recoge un total de 24 obras de cuatro fotógrafos y fotógrafas radicados en la región que ilustran\, a través de sus fotografías de espacios y paisajes del Principado\, la profunda imbricación del habitar contemporáneo con la arquitectura y el territorio. \nUn reflejo\, en definitiva\, del vínculo de lo cotidiano con los principios de la Nueva Bauhaus Europea -belleza\, sostenibilidad e inclusión-\, movimiento de origen arquitectónico nacido a principios del pasado siglo pero que ha resurgido con fuerza en el continente. \nCristina Ferrández\, Kela Coto\, Marcos Morilla y Sergio Abello son los artistas que dan forma a esta muestra\, un proyecto que aspira a ser un lugar de reflexión sobre el habitar tardomoderno alejado de lo común que\, utilizando las fotografías\, genere miradas particulares hacia el territorio y la arquitectura de Asturias y dibuje líneas de fuga que permitan imaginar localmente el cultivo de un nuevo modo global de ser humanos\, un nuevo estilo de vida\, una nueva cultura más bella\, más sostenible y más común. \n\n 
URL:https://www.mieres.es/evento/exposicion-fotografica-colere-arquitectura-y-territorio-2-29nov-2/
LOCATION:Casa de Cultura Teodoro Cuesta\, Calle Manuel Llaneza\, 8\, Mieres\, Asturias\, 33600\, España
CATEGORIES:Arte,Exposiciones
ATTACH;FMTTYPE=image/jpeg:https://www.mieres.es/wp-content/uploads/2023/10/Cartel-A3_Expo-COLERE-Mieres-scaled.jpg
GEO:43.2502294;-5.7729571
X-APPLE-STRUCTURED-LOCATION;VALUE=URI;X-ADDRESS=Casa de Cultura Teodoro Cuesta Calle Manuel Llaneza 8 Mieres Asturias 33600 España;X-APPLE-RADIUS=500;X-TITLE=Calle Manuel Llaneza\, 8:geo:-5.7729571,43.2502294
END:VEVENT
END:VCALENDAR