BEGIN:VCALENDAR
VERSION:2.0
PRODID:-//Ayuntamiento de Mieres - ECPv5.16.1.1//NONSGML v1.0//EN
CALSCALE:GREGORIAN
METHOD:PUBLISH
X-WR-CALNAME:Ayuntamiento de Mieres
X-ORIGINAL-URL:https://www.mieres.es
X-WR-CALDESC:Eventos para Ayuntamiento de Mieres
BEGIN:VTIMEZONE
TZID:Europe/Madrid
BEGIN:DAYLIGHT
TZOFFSETFROM:+0100
TZOFFSETTO:+0200
TZNAME:CEST
DTSTART:20230326T010000
END:DAYLIGHT
BEGIN:STANDARD
TZOFFSETFROM:+0200
TZOFFSETTO:+0100
TZNAME:CET
DTSTART:20231029T010000
END:STANDARD
END:VTIMEZONE
BEGIN:VEVENT
DTSTART;TZID=Europe/Madrid:20231229T120000
DTEND;TZID=Europe/Madrid:20231229T120000
DTSTAMP:20260422T192942
CREATED:20231205T124808Z
LAST-MODIFIED:20231205T124808Z
UID:65966-1703851200-1703851200@www.mieres.es
SUMMARY:Exposición fotográfica: “Calcomanías”\, de Eugenia Tejón (4/29DIC)
DESCRIPTION:Exposición Fotográfica: \n“Calcomanías”\nEugenia Tejón\nSala de exposiciones de la Casa de Cultura Teodoro Cuesta\nDel 4 al 29 de diciembre de 2023 \nHorario de lunes a viernes\, mañanas de 12 a 14 h.\, tardes de 17 a 21 h. \n\n\nProyecto de fotografía intervenida mediante la aplicación de calcas cerámicas encontradas en la antigua Fábrica de Loza de San Claudio. \nCon esta obra se busca una forma alternativa de expresión más allá del formato fotográfco tradicional\, a través de la intervención de la imagen con elementos plásticos propios de las artes aplicadas y las artes decorativas. Las calcas cerámicas\, que en otro tiempo pasado sirvieron como ornamento de vajillas y objetos utilitarios\, adquieren un nuevo signifcado al extraerlas de ese contexto y convertirlas en elementos representativos simbólicos. \nEn todas las obras hay una presencia recurrente del cuerpo femenino tratado según la tradición de la estatuaria clásica. Imágenes de mujer en blanco y negro en contraposición al color aportado por las calcas. Los arquetipos de la iconografía clásica femenina en su aspecto marmóreo son tratados a modo de cariátides simbólicas sustentantes del elemento decorativo que las representa. Las mujeres han sido siempre las principales consumidoras de este tipo de objetos cerámicos como parte del ajuar tradicional\, vinculado directamente con su papel como cuidadoras y protectoras de la familia\, dentro de un espacio doméstico al que la mayoría de ellas fueron abocadas sin elección. \nUno de los objetivos principales del proyecto es poner en valor la vida y dedicación como amas de casa de varias generaciones de mujeres posteriores a la Guerra Civil Española\, que al no poder desarrollarse en el ámbito público convirtieron sus casas en espacios idealizados en los que proyectarse. La consumidora efcaz y ordenada que se rodea de objetos bellos y lujosos encaja a la perfección en los intereses del sistema patriarcal\, potenciando el trabajo doméstico como parte importante de la economía nacional en contra de las aspiraciones personales y profesionales de estas mujeres. \nOtro de los objetivos es destacar la importancia que han tenido en Asturias las artes industriales y denunciar el estado de abandono en el que se encuentra el espacio emblemático de la Fábrica de Loza de San Claudio. El diseño y la decoración de vajillas y otras piezas mediante la aplicación de calcas cerámicas comienza a utilizarse de forma sistemática en el proceso industrial en los años 70\, coincidiendo con un momento de bonanza debido al renacimiento de la loza española. La fábrica aplica las nuevas tendencias de la cerámica industrial europea cobrando un impulso modernizador sin precedentes favorecido por el interés creciente de muchas mujeres por adquirir objetos bellos y decorativos para sus hogares a un precio asequible a su economía de clase media. \n— \nProxectu de fotografía intervenida pente medies de l’aplicación de calques cerámiques atopaes na antigua Fábrica de Lloza de San Cloyo. \nCon esta obra búscase una forma alternativa d’espresión acullá del formatu fotográficu tradicional\, al traviés de la intervención de la imaxe con elementos plásticos propios de les artes aplicaes y les artes decoratives. Les calques cerámiques\, que nel pasáu valieron como ornamentu de cacíes y oxetos utilitarios\, algamen un signifcáu nuevu al estrayeles d’esi contestu y convertiles n’elementos respresentativos simbólicos. \nEn toles obres hai una presencia recurrente del cuerpu femenín tratáu acordies cola tradición de la estatuaria clásica. Imáxenes de muyer en blanco y prieto en contraposición al color dau poles calques. Los arquetipos de la iconografía clásica femenina nel so aspectu marmoreu trátense como cariátides simbóliques teniendo pol elementu decorativu que les representa. Les muyeres siempre fueron les consumidores principales d’esti tipu d’oxetos cerámicos como parte del axuar tradicional\, vinculáu directamente col so papel de cuidadores y protectores de la familia\, dientro d’un espaciu domésticu al que la mayoría d’elles tuvieron destinaes ensin elección. \nÚn de los oxetivos cimeros del proxectu ye poner en valor la vida y dedicación como ames de casa de delles xeneraciones de muyeres posteriores a la Guerra Civil española que\, al nun poder desenvolvese nel ámbitu públicu\, convirtieron les cases n’espacios idealizaos nos que proxectase. La consumidora efcaz y curiosa que s’arrodia d’oxetos guapos y lluxosos afáise dafechu a los intereses del sistema patriarcal\, potenciando’l trabayu domésticu como parte importante de la economía nacional y a la escontra de les aspiraciones personales y profesionales d’estes muyeres que nun tuvieron elección. \nOtru de los oxetivos ye facer rescamplar la importancia que tuvieron n’Asturies les artesindustriales y denunciar l’estáu d’abandonu del espaciu emblemáticu de la Fábrica de Lloza de San Cloyo. El diseñu y la decoración de cacíes y otres pieces per medio l’aplicación de calques cerámiques escomiencen a utilizase de forma sistemática nel procesu industrial nos años 70\, coincidiendo con un momentu de bonanza pol resurdimientu de la lloza español. La fábrica aplica les tendencies nueves de la cerámica industrial europeo algamando un puxu modernizador ensin precedentes\, favorecíu pol interés creciente de munches muyeres en mercar oxetos guapos y decorativos pa les cases a un preciu afechiscu a la so economía de clase media.
URL:https://www.mieres.es/evento/exposicion-fotografica-calcomanias-de-eugenia-tejon-4-29dic-2/
LOCATION:Casa de Cultura Teodoro Cuesta\, Calle Manuel Llaneza\, 8\, Mieres\, Asturias\, 33600\, España
CATEGORIES:Arte,Exposiciones
ATTACH;FMTTYPE=image/jpeg:https://www.mieres.es/wp-content/uploads/2023/12/CARTEL_EUGENIA_TEJON_CALCOMANIAS-scaled.jpg
GEO:43.2502294;-5.7729571
X-APPLE-STRUCTURED-LOCATION;VALUE=URI;X-ADDRESS=Casa de Cultura Teodoro Cuesta Calle Manuel Llaneza 8 Mieres Asturias 33600 España;X-APPLE-RADIUS=500;X-TITLE=Calle Manuel Llaneza\, 8:geo:-5.7729571,43.2502294
END:VEVENT
BEGIN:VEVENT
DTSTART;TZID=Europe/Madrid:20231229T173000
DTEND;TZID=Europe/Madrid:20231229T173000
DTSTAMP:20260422T192942
CREATED:20231219T125814Z
LAST-MODIFIED:20231219T165919Z
UID:66299-1703871000-1703871000@www.mieres.es
SUMMARY:Visita guiada al Pozu Santa Bárbara y a la exposición "Visual Bird Sounds"\, de Andy Thomas (05DIC/28ENE)
DESCRIPTION:Intervención artística audiovisual – Centro de Arte Pozu Santa Bárbara PZSB \nVisual Bird Sounds\nAndy Thomas\n  \nPozu Santa Barbara (PZSB)\n \nDel 5 de diciembre de 2023 al 28 de enero de 2024 \n  \nLas visitas guiadas se desarrollarán los siguientes días: \n\nMiércoles 27 de diciembre\nViernes 29 de diciembre\nMartes 2 de enero\nDomingo 7 de enero\n\nHora: 17:30 h.\nDuración de la visita: 1 hora 30 minutos\nPlazas: 35 máx.\nTransporte recomendado:\nAutobús público Emutsa. Salida a las 16:45 en Mieres. Parada PZSB: La Rebaldana (abajo) +INFO\nCoche particular (aparcamiento gratuito) \nINSCRIPCIÓN PREVIA a partir del jueves 21 de diciembre escribiendo a visitaspozusantabarbara@ayto-mieres.es \n  \nOrganiza: Concejalía de Cultura del Ayuntamiento de Mieres\nComisariado: L.E.V. Laboratorio de Electrónica Visual \n\n  \nHasta el 28 de enero\, el Centro de Experiencias Artísticas Pozu Santa Bárbara de Mieres (Asturias) acoge la exposición Visual Bird Sounds del artista australiano de reconocida trayectoria internacional Andy Thomas. En el marco de este proyecto audiovisual\, el Ayuntamiento de Mieres ofrece visitas guiadas para conocer en detalle la obra del artista\, así como la historia e instalaciones del emblemático espacio que la alberga. \nEl Pozu Santa Bárbara fue el primer pozo minero asturiano declarado con la máxima categoría de protección patrimonial\, siendo catalogado desde el año 2008 como Bien de Interés Cultural\, BIC. Ubicado en La Rebaldana\, Turón\, en el concejo de Mieres\, en septiembre de 2021 comenzaron las mejoras para convertirlo en un centro de referencia de intervenciones artísticas contemporáneas. \nLa instalación audiovisual actual Visual Bird Sounds de Andy Thomas presenta un proyecto de largo recorrido y fuerte crítica medioambiental en el que el artista nos invita a visualizar el sonido de aves de hábitats remotos de todo el mundo y el propio entorno de la mina. La exposición incluye además un homenaje al canario por su histórico papel en la industria minera. \nLas visitas guiadas\, con inscripción previa gratuita\, ofrecerán un recorrido exterior por la situación del enclave\, con una descripción del patrimonio e historia del mismo. En el interior\, se llevará a cabo una explicación de la sala de compresores\, junto a la descripción de la obra y autor de la exposición actual y un recorrido pausado para adentrarse en los sonidos e imágenes que la componen. \n  \n\nEXPOSICIÓN ANDY THOMAS: VISUAL BIRD SOUNDS \nFechas: del 5 de diciembre al 28 de enero de 2024\nHorario habitual: martes\, miércoles\, jueves y viernes de 16:00 a 20:30 h. Sábados\, domingos y festivos de 10:00 a 14:00 h. y de 16:00 a 20:30 h. \nHorario Navidad:  \nCerrado 24\, 25 y 31 de diciembre\, 1 de enero.\nSábado 6 de enero abierto de 16:00 a 20:30 h. \n  \n  \nA lo largo de las dos últimas décadas\, el artista australiano Andy Thomas ha desarrollado un lenguaje visual tan icónico como propio. Su especialidad es crear “formas de vida sonoras”\, bellas figuras abstractas que reaccionan al sonido basadas en grabaciones y fotografías de pájaros y otros animales que ha ido recopilando a lo largo de extensas investigaciones sobre el terreno en hábitats naturales remotos de todo el mundo. \nLos datos recogidos se animan de forma extraordinariamente creativa mediante algoritmos de motion graphics generativos\, obteniendo como resultado vídeos y obras de arte digital en 2D de gran impacto visual. En sus proyectos\, las intrincadas composiciones de plantas y animales ponen de manifiesto el impacto de la tecnología en el planeta y cómo los avances de la sociedad afectan a los ecosistemas naturales. \n  \n  \nEl próximo martes 5 de diciembre\, el Centro Cultural Pozu Santa Bárbara inaugura el proyecto Visual Bird Sounds del artista australiano de reconocida trayectoria internacional Andy Thomas. Una instalación audiovisual de gran formato impulsada por la Concejalía de Cultura del Ayuntamiento de Mieres y comisariada por L.E.V. (Laboratorio de Electrónica Visual) que presenta cautivadoras formas sonoras y visuales generativas basadas en la fauna y flora de rincones naturales remotos de todo el planeta y del propio entorno de la mina. \nEl Pozu Santa Bárbara es el primer pozo minero asturiano declarado con la máxima categoría de protección patrimonial\, siendo catalogado desde el año 2008 como Bien de Interés Cultural\, BIC. Ubicado en La Rebaldana\, Turón\, el PZSB fue la primera gran explotación de hulla en la cuenca del Caudal y uno de los mayores pozos mineros de Asturias\, y forma parte del destacado patrimonio industrial e histórico de un enclave del territorio asturiano único también en su patrimonio natural y cultural. \nEn septiembre de 2021\, comenzaron las mejoras para convertirlo en un centro de referencia de intervenciones artísticas contemporáneas. El 15 de octubre de ese mismo año abrió al público para presentar la luz sólida del artista británico Anthony McCall. A esta intervención le seguirían Voladuras controladas\, del artista asturiano Herminio (mayo de 2022) e Innerlight\, de la alemana Regine Schumann (marzo de 2023). \nAhora\, de la mano de L.E.V. Laboratorio de Electrónica Visual\, el centro inaugura la instalación audiovisual Visual Bird Sounds de Andy Thomas. Un proyecto de largo recorrido y fuerte crítica medioambiental en el que el artista australiano presenta sus “formas de vida sonoras”. \nUtilizando un icónico lenguaje visual\, esta instalación multipantalla mostrará en el PZSB cautivadoras figuras abstractas creadas a través de la interpretación de algoritmos de motion graphics generativos de grabaciones sonoras y fotografías de aves recogidas en viajes de estudio a hábitats remotos de todo el mundo. Inspirándose en la belleza de la naturaleza\, sus extraordinarias composiciones visuales\, formadas por intrincadas capas\, simulan propiedades físicas como humo\, líquido o plantas en crecimiento que reaccionan al sonido. \nDetrás del proyecto\, encontramos una firme declaración por parte de su creador del impacto de la tecnología en el planeta y de cómo los avances de la sociedad están afectando a los ecosistemas naturales. Entre las extensas expediciones que lleva realizando el artista desde hace más de diez años a algunas de las selvas tropicales más antiguas del mundo\, esta instalación mostrará el resultado de su trabajo de campo en el Amazonas\, Finlandia\, Australia y Nueva Zelanda. Además\, en exclusiva para esta exposición\, presentará piezas de nueva creación basadas en cantos de aves que habitan el Espacio Protegido de las Cuencas Mineras de Asturias\, declarado como Paisaje Protegido y Zona de Especial de Conservación. \nDe esta manera\, el canto de los canarios vuelve a la mina. Estos pájaros\, que dieron históricamente su vida para salvar a los mineros\, regresan al Pozu con esta intervención artística impulsada por la Concejalía de Cultura que dirige Rocío Antela\, quien por su profesión y raíces familiares conoce bien lo que simbolizaron los canarios en las minas\, detectando el inflamable gas grisú antes de que pudiera producir una tragedia. La instalación transforma la historia en luz envuelta en sonido\, homenajeando el canto de las aves. “Nuestro territorio está inmerso en un proceso de transformación y un claro ejemplo es esta iniciativa”\, apunta la edil. \n 
URL:https://www.mieres.es/evento/visita-guiada-al-pozu-santa-barbara-y-a-la-exposicion-visual-bird-sounds-de-andy-thomas-05dic-28ene-2/
LOCATION:Pozu Santa Bárbara\, La Rebaldana AS-337\, 19
CATEGORIES:Arte,Exposiciones
ATTACH;FMTTYPE=image/jpeg:https://www.mieres.es/wp-content/uploads/2023/12/cartel-visitas-guiadas-expo-PZSB-dic2023.jpeg
END:VEVENT
END:VCALENDAR