BEGIN:VCALENDAR
VERSION:2.0
PRODID:-//Ayuntamiento de Mieres - ECPv5.16.1.1//NONSGML v1.0//EN
CALSCALE:GREGORIAN
METHOD:PUBLISH
X-WR-CALNAME:Ayuntamiento de Mieres
X-ORIGINAL-URL:https://www.mieres.es
X-WR-CALDESC:Eventos para Ayuntamiento de Mieres
BEGIN:VTIMEZONE
TZID:Europe/Madrid
BEGIN:DAYLIGHT
TZOFFSETFROM:+0100
TZOFFSETTO:+0200
TZNAME:CEST
DTSTART:20240331T010000
END:DAYLIGHT
BEGIN:STANDARD
TZOFFSETFROM:+0200
TZOFFSETTO:+0100
TZNAME:CET
DTSTART:20241027T010000
END:STANDARD
END:VTIMEZONE
BEGIN:VEVENT
DTSTART;TZID=Europe/Madrid:20240205T120000
DTEND;TZID=Europe/Madrid:20240205T120000
DTSTAMP:20260422T163557
CREATED:20240202T121028Z
LAST-MODIFIED:20240202T121028Z
UID:67300-1707134400-1707134400@www.mieres.es
SUMMARY:Exposición pictórica: “Ecléctica”\, de Jesús María Blanco (5/28FEB)
DESCRIPTION:  \n\nExposición Pictórica: \n“Ecléctica”\nde Jesús María Blanco Morán\n  \nSala de exposiciones de la Casa de Cultura Teodoro Cuesta\nDel 5 al 28 de febrero de 2024 \nHorario de lunes a viernes\, mañanas de 12 a 14 h.\, tardes de 17 a 21 h. \n\n  \nPintor de origen autodidacta\, es autor de numerosas exposiciones y su obra se encuentra en variadas colecciones particulares e instituciones. \nBlanco Morán (Mieres\, 1950) se expresa con un lenguaje de inconfundible sesgo personal. Prescinde de los detalles\, se preocupa más por la expresión que por el objeto. El dinamismo de las formas\, la fusión entre la realidad y la libertad expresiva y estética es una constante en su pintura. \n  \n\n 
URL:https://www.mieres.es/evento/exposicion-pictorica-eclectica-de-jesus-maria-blanco-5-28feb/
LOCATION:Casa de Cultura Teodoro Cuesta\, Calle Manuel Llaneza\, 8\, Mieres\, Asturias\, 33600\, España
CATEGORIES:Arte,Exposiciones
ATTACH;FMTTYPE=image/jpeg:https://www.mieres.es/wp-content/uploads/2024/02/eclectica-jesus-maria-blanco-exposicion-mieres-2024.jpg
GEO:43.2502294;-5.7729571
X-APPLE-STRUCTURED-LOCATION;VALUE=URI;X-ADDRESS=Casa de Cultura Teodoro Cuesta Calle Manuel Llaneza 8 Mieres Asturias 33600 España;X-APPLE-RADIUS=500;X-TITLE=Calle Manuel Llaneza\, 8:geo:-5.7729571,43.2502294
END:VEVENT
END:VCALENDAR