BEGIN:VCALENDAR
VERSION:2.0
PRODID:-//Ayuntamiento de Mieres - ECPv5.16.1.1//NONSGML v1.0//EN
CALSCALE:GREGORIAN
METHOD:PUBLISH
X-WR-CALNAME:Ayuntamiento de Mieres
X-ORIGINAL-URL:https://www.mieres.es
X-WR-CALDESC:Eventos para Ayuntamiento de Mieres
BEGIN:VTIMEZONE
TZID:Europe/Madrid
BEGIN:DAYLIGHT
TZOFFSETFROM:+0100
TZOFFSETTO:+0200
TZNAME:CEST
DTSTART:20240331T010000
END:DAYLIGHT
BEGIN:STANDARD
TZOFFSETFROM:+0200
TZOFFSETTO:+0100
TZNAME:CET
DTSTART:20241027T010000
END:STANDARD
END:VTIMEZONE
BEGIN:VEVENT
DTSTART;VALUE=DATE:20240622
DTEND;VALUE=DATE:20240623
DTSTAMP:20260422T104131
CREATED:20240508T112527Z
LAST-MODIFIED:20240508T112527Z
UID:68969-1719014400-1719100799@www.mieres.es
SUMMARY:Exposición fotográfica: "¿Dónde están los hombres? ¿Dónde las mujeres?"\, de María del Amor Díaz Alonso (8MAY/22JUN)
DESCRIPTION:Exposición fotográfica: \n¿Dónde están los hombres? ¿Dónde las mujeres?\nde María del Amor Díaz Alonso\n  \nEscuela Politécnica de Mieres. Campus Universitario\nDel 8 de mayo al 14 de junio de 2024 \n\n  \n\n  \n\n 
URL:https://www.mieres.es/evento/exposicion-fotografica-donde-estan-los-hombres-donde-las-mujeres-de-maria-del-amor-diaz-alonso-8may-22jun-2/
LOCATION:Campus Universitario de Mieres\, Calle Gonzalo Gutiérrez Quirós\, Mieres\, Asturias\, 33600
CATEGORIES:Arte,Exposiciones
ATTACH;FMTTYPE=image/jpeg:https://www.mieres.es/wp-content/uploads/2024/05/Cartel-ExposiciónDONDE-ESTAN-LOS-HOMBRES-scaled.jpg
GEO:43.2415825;-5.7771595
X-APPLE-STRUCTURED-LOCATION;VALUE=URI;X-ADDRESS=Campus Universitario de Mieres Calle Gonzalo Gutiérrez Quirós Mieres Asturias 33600;X-APPLE-RADIUS=500;X-TITLE=Calle Gonzalo Gutiérrez Quirós:geo:-5.7771595,43.2415825
END:VEVENT
END:VCALENDAR