BEGIN:VCALENDAR
VERSION:2.0
PRODID:-//Ayuntamiento de Mieres - ECPv5.16.1.1//NONSGML v1.0//EN
CALSCALE:GREGORIAN
METHOD:PUBLISH
X-WR-CALNAME:Ayuntamiento de Mieres
X-ORIGINAL-URL:https://www.mieres.es
X-WR-CALDESC:Eventos para Ayuntamiento de Mieres
BEGIN:VTIMEZONE
TZID:Europe/Madrid
BEGIN:DAYLIGHT
TZOFFSETFROM:+0100
TZOFFSETTO:+0200
TZNAME:CEST
DTSTART:20240331T010000
END:DAYLIGHT
BEGIN:STANDARD
TZOFFSETFROM:+0200
TZOFFSETTO:+0100
TZNAME:CET
DTSTART:20241027T010000
END:STANDARD
END:VTIMEZONE
BEGIN:VEVENT
DTSTART;TZID=Europe/Madrid:20241220T120000
DTEND;TZID=Europe/Madrid:20241220T120000
DTSTAMP:20260422T013658
CREATED:20241127T121609Z
LAST-MODIFIED:20241127T121958Z
UID:71878-1734696000-1734696000@www.mieres.es
SUMMARY:Exposición benéfica navideña a favor de ALCER Asturias y AFESA: Obras de Agadina Cano (10/20DIC)
DESCRIPTION:Exposición Pictórica: \nExposición benéfica a favor de ALCER Asturias y de AFESA\nObras de Agadina Cano\n  \nSala de exposiciones de la Casa de Cultura Teodoro Cuesta\nDel 10 al 20 de diciembre de 2024 \nHorario de lunes a viernes\, mañanas de 12 a 14 h.\, tardes de 17 a 21 h. \n\n\n  \nLa pintora Agadina Cano\, presidenta de las amas de casa de Pola de Lena\, ha donado obras pintadas y creadas por ella para realizar esta exposición benéfica en la Casa de la Cultura de Mieres\, a beneficio de la Asociación ALCER Asturias y de AFESA.
URL:https://www.mieres.es/evento/exposicion-benefica-navidena-a-favor-de-alcer-asturias-y-afesa-obras-de-agadina-cano-2/
LOCATION:Casa de Cultura Teodoro Cuesta\, Calle Manuel Llaneza\, 8\, Mieres\, Asturias\, 33600\, España
CATEGORIES:Arte,Exposiciones
ATTACH;FMTTYPE=image/jpeg:https://www.mieres.es/wp-content/uploads/2024/11/EXPOSICION-BENEFICA-alcer-2024.jpg
GEO:43.2502294;-5.7729571
X-APPLE-STRUCTURED-LOCATION;VALUE=URI;X-ADDRESS=Casa de Cultura Teodoro Cuesta Calle Manuel Llaneza 8 Mieres Asturias 33600 España;X-APPLE-RADIUS=500;X-TITLE=Calle Manuel Llaneza\, 8:geo:-5.7729571,43.2502294
END:VEVENT
END:VCALENDAR