BEGIN:VCALENDAR
VERSION:2.0
PRODID:-//Ayuntamiento de Mieres - ECPv5.16.1.1//NONSGML v1.0//EN
CALSCALE:GREGORIAN
METHOD:PUBLISH
X-WR-CALNAME:Ayuntamiento de Mieres
X-ORIGINAL-URL:https://www.mieres.es
X-WR-CALDESC:Eventos para Ayuntamiento de Mieres
BEGIN:VTIMEZONE
TZID:Europe/Madrid
BEGIN:DAYLIGHT
TZOFFSETFROM:+0100
TZOFFSETTO:+0200
TZNAME:CEST
DTSTART:20250330T010000
END:DAYLIGHT
BEGIN:STANDARD
TZOFFSETFROM:+0200
TZOFFSETTO:+0100
TZNAME:CET
DTSTART:20251026T010000
END:STANDARD
END:VTIMEZONE
BEGIN:VEVENT
DTSTART;TZID=Europe/Madrid:20250130T133000
DTEND;TZID=Europe/Madrid:20250130T133000
DTSTAMP:20260421T224531
CREATED:20250128T090609Z
LAST-MODIFIED:20250128T090609Z
UID:72599-1738243800-1738243800@www.mieres.es
SUMMARY:Exposición: "Correspondencias y procesos"\, de Herminio (30ENE/30MAY) -Acto de inauguración-
DESCRIPTION:Exposición: \nCorrespondencias y procesos\nde Herminio\nSala de exposiciones del I.E.S. Bernaldo de Quirós\nDel 30 de enero al 30 de mayo de 2025 \nHorario de lunes a viernes\, mañanas de 10 a 14 h.\, tardes de 17 a 20 h. \n  \n\n\n  \nEl jueves 30 de enero a las 13:35 h se inaugura en el IES Bernaldo de Quirós la El 30 de enero\, a las 13:35 horas\, se inaugurará la exposición del escultor Herminio\, Correspondencias y procesos. Tendrá lugar en la sala de exposiciones y en el patio del palacio que son los lugares donde se encontrarán expuestas sus obras. Asistirá el alumnado de 1º y 2º de Bachillerato de Arte en sus dos modalidades. \n  \n \n 
URL:https://www.mieres.es/evento/exposicion-correspondencias-y-procesos-de-herminio-30ene-30may-acto-de-inauguracion/
LOCATION:IES Bernaldo de Quirós\, IES Bernaldo de Quirós C/Fray Paulino s/n\, Mieres\, Asturias\, 33600\, España
CATEGORIES:Arte,Educación,Exposiciones
ATTACH;FMTTYPE=image/jpeg:https://www.mieres.es/wp-content/uploads/2025/01/CARTEL-HERMINIO-CORRESPONDENCIAS-Y-PROCESOS.jpg
GEO:43.244241;-5.774366
X-APPLE-STRUCTURED-LOCATION;VALUE=URI;X-ADDRESS=IES Bernaldo de Quirós IES Bernaldo de Quirós C/Fray Paulino s/n Mieres Asturias 33600 España;X-APPLE-RADIUS=500;X-TITLE=IES Bernaldo de Quirós C/Fray Paulino s/n:geo:-5.774366,43.244241
END:VEVENT
END:VCALENDAR