BEGIN:VCALENDAR
VERSION:2.0
PRODID:-//Ayuntamiento de Mieres - ECPv5.16.1.1//NONSGML v1.0//EN
CALSCALE:GREGORIAN
METHOD:PUBLISH
X-WR-CALNAME:Ayuntamiento de Mieres
X-ORIGINAL-URL:https://www.mieres.es
X-WR-CALDESC:Eventos para Ayuntamiento de Mieres
BEGIN:VTIMEZONE
TZID:Europe/Madrid
BEGIN:DAYLIGHT
TZOFFSETFROM:+0100
TZOFFSETTO:+0200
TZNAME:CEST
DTSTART:20250330T010000
END:DAYLIGHT
BEGIN:STANDARD
TZOFFSETFROM:+0200
TZOFFSETTO:+0100
TZNAME:CET
DTSTART:20251026T010000
END:STANDARD
END:VTIMEZONE
BEGIN:VEVENT
DTSTART;TZID=Europe/Madrid:20250604T163000
DTEND;TZID=Europe/Madrid:20250604T163000
DTSTAMP:20260421T171856
CREATED:20250527T105304Z
LAST-MODIFIED:20250604T104636Z
UID:74340-1749054600-1749054600@www.mieres.es
SUMMARY:Exposición fotográfica: "En el umbral del olvido"\, de Analía Pello (4/20JUN)
DESCRIPTION:Exposición fotográfica: \nEn el umbral del olvido\nde Analía Pello \n  \nSala de exposiciones del Atenéu de Turón\nDel 4 al 20 de junio de 2025 \nHorario de lunes a viernes\, de 16:30 a 20:00h. \n\n  \nProyecto fotográfico documental que muestra oficios asturianos en peligro de extinción. La iniciativa busca rescatar y documentar visualmente oficios tradicionales que están desapareciendo de la región\, promoviendo su valor cultural y patrimonial a través de una exposición fotográfica\, con el objetivo de generar conciencia y reflexión sobre la importancia de preservar estas actividades ancestrales\, totalmente arraigadas a la cultura asturiana. \n\n  \n\n 
URL:https://www.mieres.es/evento/exposicion-fotografica-en-el-umbral-del-olvido-de-analia-pello-4-20jun/
LOCATION:Atenéu de Turón\, Calle Centro\, 9\, 33610 Mieres\, Asturias\, Turón\, Asturias\, 33610 \, España
CATEGORIES:Arte,Exposiciones
ATTACH;FMTTYPE=image/jpeg:https://www.mieres.es/wp-content/uploads/2025/05/expo-turon-umbral-olvido.jpeg
GEO:43.2091303;-5.7416142
X-APPLE-STRUCTURED-LOCATION;VALUE=URI;X-ADDRESS=Atenéu de Turón Calle Centro 9 33610 Mieres Asturias Turón Asturias 33610  España;X-APPLE-RADIUS=500;X-TITLE=Calle Centro\, 9\, 33610 Mieres\, Asturias:geo:-5.7416142,43.2091303
END:VEVENT
END:VCALENDAR