BEGIN:VCALENDAR
VERSION:2.0
PRODID:-//Ayuntamiento de Mieres - ECPv5.16.1.1//NONSGML v1.0//EN
CALSCALE:GREGORIAN
METHOD:PUBLISH
X-WR-CALNAME:Ayuntamiento de Mieres
X-ORIGINAL-URL:https://www.mieres.es
X-WR-CALDESC:Eventos para Ayuntamiento de Mieres
BEGIN:VTIMEZONE
TZID:Europe/Madrid
BEGIN:DAYLIGHT
TZOFFSETFROM:+0100
TZOFFSETTO:+0200
TZNAME:CEST
DTSTART:20210328T010000
END:DAYLIGHT
BEGIN:STANDARD
TZOFFSETFROM:+0200
TZOFFSETTO:+0100
TZNAME:CET
DTSTART:20211031T010000
END:STANDARD
END:VTIMEZONE
BEGIN:VEVENT
DTSTART;TZID=Europe/Madrid:20211015T180000
DTEND;TZID=Europe/Madrid:20211015T235900
DTSTAMP:20260424T003018
CREATED:20211013T115009Z
LAST-MODIFIED:20211014T082725Z
UID:49853-1634320800-1634342340@www.mieres.es
SUMMARY:Noche Abierta Mieres 2021
DESCRIPTION:Ven a Mieres\, el comercio y la hostelería se visten de fiesta para tí…\n  \nDesfile de moda en la calle\n(18:00h Parque Xovellanos) \n  \nCon la participación de los siguientes establecimientos:\n\nAndares\nComercial Tuñón\nDkopa Moda\nEn Tonos Pastel\nFitness Mieres\nFlorentina Martínez\nJaleo\nMercería Fini\nTatta 8\nPetite & Coquette\n\n  \n  \n  \nParticipa y gana:\n\n1er premio de 600 euros\n2º premio\, noche de hotel en régimen de alojamiento desayuno y cena para dos personas\,\n\nCompra en tres establecimientos participantes y haciendo una compra mínima de 20 euros en uno de ellos entrarás en el sorteo de 600 euros y la estancia hotelera. El afortunado/a de los 600 euros tendrá un gasto de 60 euros por establecimiento\, a gastar en la mañana del sábado 16 de octubre. \n  \n\n 
URL:https://www.mieres.es/evento/noche-abierta-mieres-2021/
LOCATION:Establecimientos comerciales y hosteleros del concejo
CATEGORIES:Comercio y Hostelería
ATTACH;FMTTYPE=image/jpeg:https://www.mieres.es/wp-content/uploads/2021/10/noche-abierta-2021.jpeg
END:VEVENT
END:VCALENDAR