BEGIN:VCALENDAR
VERSION:2.0
PRODID:-//Ayuntamiento de Mieres - ECPv5.16.1.1//NONSGML v1.0//EN
CALSCALE:GREGORIAN
METHOD:PUBLISH
X-WR-CALNAME:Ayuntamiento de Mieres
X-ORIGINAL-URL:https://www.mieres.es
X-WR-CALDESC:Eventos para Ayuntamiento de Mieres
BEGIN:VTIMEZONE
TZID:Europe/Madrid
BEGIN:DAYLIGHT
TZOFFSETFROM:+0100
TZOFFSETTO:+0200
TZNAME:CEST
DTSTART:20210328T010000
END:DAYLIGHT
BEGIN:STANDARD
TZOFFSETFROM:+0200
TZOFFSETTO:+0100
TZNAME:CET
DTSTART:20211031T010000
END:STANDARD
END:VTIMEZONE
BEGIN:VEVENT
DTSTART;TZID=Europe/Madrid:20211025T130000
DTEND;TZID=Europe/Madrid:20211025T235900
DTSTAMP:20260424T002929
CREATED:20211023T095113Z
LAST-MODIFIED:20211023T095113Z
UID:50056-1635166800-1635206340@www.mieres.es
SUMMARY:Mieres de Pinchu 2021
DESCRIPTION:Podrás votar aquí por tu pincho favorito desde las 14:00h. del viernes 22 de octubre hasta las 23:59h. del lunes 1 de noviembre de 2021\n(Atención: el sistema solo contabilizará una votación cada 24 horas desde cada IP o dispositivo).\n\n \n 
URL:https://www.mieres.es/evento/mieres-de-pinchu-2021-2/2021-10-25/
LOCATION:Establecimientos comerciales y hosteleros del concejo
CATEGORIES:Comercio y Hostelería,Gastronomía
ATTACH;FMTTYPE=image/jpeg:https://www.mieres.es/wp-content/uploads/2021/10/cartel-Mieres-de-pinchu-2021.jpg
END:VEVENT
END:VCALENDAR