BEGIN:VCALENDAR
VERSION:2.0
PRODID:-//Ayuntamiento de Mieres - ECPv5.16.1.1//NONSGML v1.0//EN
CALSCALE:GREGORIAN
METHOD:PUBLISH
X-WR-CALNAME:Ayuntamiento de Mieres
X-ORIGINAL-URL:https://www.mieres.es
X-WR-CALDESC:Eventos para Ayuntamiento de Mieres
BEGIN:VTIMEZONE
TZID:Europe/Madrid
BEGIN:DAYLIGHT
TZOFFSETFROM:+0100
TZOFFSETTO:+0200
TZNAME:CEST
DTSTART:20220327T010000
END:DAYLIGHT
BEGIN:STANDARD
TZOFFSETFROM:+0200
TZOFFSETTO:+0100
TZNAME:CET
DTSTART:20221030T010000
END:STANDARD
END:VTIMEZONE
BEGIN:VEVENT
DTSTART;VALUE=DATE:20220203
DTEND;VALUE=DATE:20220204
DTSTAMP:20260423T183342
CREATED:20200122T074441Z
LAST-MODIFIED:20230202T102840Z
UID:37002-1643846400-1643932799@www.mieres.es
SUMMARY:VI Jornadas de la carne de Xata Roxa en Mieres (3/5FEB)
DESCRIPTION:IX Concurso Nacional y XI Regional de Cocina para Escuelas de Hostelería del IES Valle de Aller\nIX Jornadas de la Carne de Xata Roxa de Mieres\n3 al 5 de febrero de 2023 \n  \n\n\n\n\n  \nCon la participación los siguientes establecimientos del concejo de Mieres: \nMesón de Carlos y Vatur\, en Turón\, y Planta 14\, Cascayu\, Sidrería Alonso\, Consistorial\, Violeta y La Pista\, en Mieres.  \nEn estos establecimientos se podrá encontrar entre el viernes 3 y el domingo 5 de febrero distintas especialidades elaboradas con carne de xata roxa (pinchos\, tapas\, menús\, platos…). \nRespecto al concurso\, es el único certamen de estas características que se realiza en Asturias a nivel nacional\, ha tenido una fase previa y este viernes 3 de febrero en la Escuela de Hostelería Valle de Aller se celebrará la final. \nEl concurso y las jornadas son ya citas destacadas del calendario comarcal y asturiano y son fruto de la colaboración y el trabajo conjunto de todas las entidades que participan en su organización: la Escuela de Hostelería del IES Valle de Aller\, el Ayuntamiento de Mieres\, Caja Rural de Asturias y Xata Roxa. \n  \n\n 
URL:https://www.mieres.es/evento/vi-jornadas-de-la-carne-de-xata-roxa-en-mieres-2/
LOCATION:Establecimientos comerciales y hosteleros del concejo
CATEGORIES:Comercio y Hostelería,Gastronomía
ATTACH;FMTTYPE=image/jpeg:https://www.mieres.es/wp-content/uploads/2020/01/Cartel-concurso-y-jornadas-xata-roxa-2023.jpg
END:VEVENT
END:VCALENDAR