BEGIN:VCALENDAR
VERSION:2.0
PRODID:-//Ayuntamiento de Mieres - ECPv5.16.1.1//NONSGML v1.0//EN
CALSCALE:GREGORIAN
METHOD:PUBLISH
X-WR-CALNAME:Ayuntamiento de Mieres
X-ORIGINAL-URL:https://www.mieres.es
X-WR-CALDESC:Eventos para Ayuntamiento de Mieres
BEGIN:VTIMEZONE
TZID:Europe/Madrid
BEGIN:DAYLIGHT
TZOFFSETFROM:+0100
TZOFFSETTO:+0200
TZNAME:CEST
DTSTART:20220327T010000
END:DAYLIGHT
BEGIN:STANDARD
TZOFFSETFROM:+0200
TZOFFSETTO:+0100
TZNAME:CET
DTSTART:20221030T010000
END:STANDARD
END:VTIMEZONE
BEGIN:VEVENT
DTSTART;TZID=Europe/Madrid:20220407T173000
DTEND;TZID=Europe/Madrid:20220407T200000
DTSTAMP:20260423T153811
CREATED:20220202T105132Z
LAST-MODIFIED:20220202T105132Z
UID:52038-1649352600-1649361600@www.mieres.es
SUMMARY:II Curso de Escanciado de Sidra Comarca del Caudal (21FEB-7ABR)
DESCRIPTION:Curso: \nII Curso de Escanciado de Sidra Comarca del Caudal\n\n\nImpartido por Loreto García (Campeona de Asturias de escanciadores) \n  \nRecinto Ferial de Mieres \nDel 21 de febrero al 7 de abril\, los lunes y los jueves de 17:30 a 20:00. \nInscripciones gratuitas en la conserjería de la Casa de Cultura o en el teléfono: 985 45 19 53 \n\n  \nEl Ayuntamiento de Mieres\, a través de las concejalías de Empleo y Cultura que dirige Juan Ponte\, y la Asociación Llagareros Artesanos del Caudal organizan el II Curso de Escanciado de Sidra Comarca del Caudal. Impartido por Loreto García Gutiérrez\, Campeona de Escanciadores 2009\, embajadora de la sidra de Asturias y chigrera en su sidrería Les Campes\, esta iniciativa permitirá a las personas participantes –un máximo de 12—conocer los secretos y la técnica de un buen escanciado. \nEl curso se desarrollará en el Recinto Ferial los lunes y jueves del 21 de febrero al 7 de abril\, de 17.30 a 20 horas y quienes participen y finalicen el mismo con al menos el 75% de las horas completadas recibirán un diploma que acredite su cualificación. \nEl éxito de la primera edición — tanto a nivel de participación\, con todas las plazas cubiertas\, como a nivel laboral\, ya que varias personas encontraron empleo como escanciadores tras haberlo completado– ha llevado al Ayuntamiento y a la Asociación a impulsar una segunda edición. \nDel 1 al 18 de febrero estará abierto el plazo para inscribirse en la Conserjería de la Casa de Cultura o por teléfono en el 985 45 19 53 en horario de 10 a 14 horas. Las inscripciones son gratuitas. \n  \n\n 
URL:https://www.mieres.es/evento/ii-curso-de-escanciado-de-sidra-comarca-del-caudal-21feb-7abr-2/
LOCATION:Recinto Ferial de Santuyano
CATEGORIES:Comercio y Hostelería,Cursos
ATTACH;FMTTYPE=image/jpeg:https://www.mieres.es/wp-content/uploads/2022/02/Curso-de-escanciado.jpg
ORGANIZER;CN="Llagareros%20artesanos%20del%20Caudal":MAILTO:llagarerosartesanosdelcaudal@gmail.com
END:VEVENT
END:VCALENDAR