BEGIN:VCALENDAR
VERSION:2.0
PRODID:-//Ayuntamiento de Mieres - ECPv5.16.1.1//NONSGML v1.0//EN
CALSCALE:GREGORIAN
METHOD:PUBLISH
X-WR-CALNAME:Ayuntamiento de Mieres
X-ORIGINAL-URL:https://www.mieres.es
X-WR-CALDESC:Eventos para Ayuntamiento de Mieres
BEGIN:VTIMEZONE
TZID:Europe/Madrid
BEGIN:DAYLIGHT
TZOFFSETFROM:+0100
TZOFFSETTO:+0200
TZNAME:CEST
DTSTART:20220327T010000
END:DAYLIGHT
BEGIN:STANDARD
TZOFFSETFROM:+0200
TZOFFSETTO:+0100
TZNAME:CET
DTSTART:20221030T010000
END:STANDARD
END:VTIMEZONE
BEGIN:VEVENT
DTSTART;TZID=Europe/Madrid:20220423T110000
DTEND;TZID=Europe/Madrid:20220423T140000
DTSTAMP:20260423T153808
CREATED:20220421T110744Z
LAST-MODIFIED:20220421T110744Z
UID:53256-1650711600-1650722400@www.mieres.es
SUMMARY:"Regálaselo pintando" Concurso infantil de pintura Día de la Madre 2022
DESCRIPTION:
URL:https://www.mieres.es/evento/regalaselo-pintando-concurso-infantil-de-pintura-dia-de-la-madre-2022/
LOCATION:Patio colegio Liceo/Aniceto Sela\, Colegio Público Liceo Mierense\, Mieres\, Asturias\, 33600 
CATEGORIES:Comercio y Hostelería
ATTACH;FMTTYPE=image/jpeg:https://www.mieres.es/wp-content/uploads/2022/04/regalaselo-pintando-23-abril-2022.jpeg
GEO:43.249719;-5.7785282
X-APPLE-STRUCTURED-LOCATION;VALUE=URI;X-ADDRESS=Patio colegio Liceo/Aniceto Sela Colegio Público Liceo Mierense Mieres Asturias 33600;X-APPLE-RADIUS=500;X-TITLE=Colegio Público Liceo Mierense:geo:-5.7785282,43.249719
END:VEVENT
END:VCALENDAR