BEGIN:VCALENDAR
VERSION:2.0
PRODID:-//Ayuntamiento de Mieres - ECPv5.16.1.1//NONSGML v1.0//EN
CALSCALE:GREGORIAN
METHOD:PUBLISH
X-WR-CALNAME:Ayuntamiento de Mieres
X-ORIGINAL-URL:https://www.mieres.es
X-WR-CALDESC:Eventos para Ayuntamiento de Mieres
BEGIN:VTIMEZONE
TZID:Europe/Madrid
BEGIN:DAYLIGHT
TZOFFSETFROM:+0100
TZOFFSETTO:+0200
TZNAME:CEST
DTSTART:20220327T010000
END:DAYLIGHT
BEGIN:STANDARD
TZOFFSETFROM:+0200
TZOFFSETTO:+0100
TZNAME:CET
DTSTART:20221030T010000
END:STANDARD
END:VTIMEZONE
BEGIN:VEVENT
DTSTART;TZID=Europe/Madrid:20221128T170000
DTEND;TZID=Europe/Madrid:20221128T170000
DTSTAMP:20260423T013731
CREATED:20221123T093531Z
LAST-MODIFIED:20221123T094829Z
UID:59941-1669654800-1669654800@www.mieres.es
SUMMARY:Concurso 'Explorando el Pote Perfecto'. XXXI Jornadas Gastronómicas del Pote del Valle de Turón
DESCRIPTION:  \n\n  \n21 establecimientos lucharán por coronarse como el mejor pote asturiano de la región en la final del V Concurso “Explorando el Pote Perfecto”\, que se celebra con motivo de las Jornadas del Pote de Turón\, que suman ya 31 ediciones\, asentadas como Fiesta de Interés Turístico Regional. La gran final tendrá lugar el próximo lunes 28 de noviembre\, a partir de las 17:00 horas en el Colegio Vega de Guceo\, en Turón. \nEstos son los finalistas que competirán por alzarse con el título: Alterna Sidrería (Oviedo)\, Casa Morán (Collanzo\, Aller)\, Casa Nando (Urbiés)\, Centro de Mayores de Turón (Turón)\, El Tendejón de Fernando (Las Regueras)\, Hotel Palacio de Merás (Tineo)\, La Bodega de Miguel (Gijón)\, La Consistorial (Mieres)\, La Finca (Oviedo)\, La Llosa de Oles (Oles\, Villaviciosa)\, La Tabernilla de Oviedo (Oviedo)\, Llagar la Morena (Viella)\, Mesón La Comtienda (Oviedo)\, Michem (Villabona\, Llanera)\, Picu La Salgar (Llanes)\, Río Astur (Gijón)\, Santa Cristina (Lena)\, Sidrería El Valle (Oviedo)\, Sidrería Prida (Nava)\, Sidrería Román (Gijón) y Zascandil (Gijón). \nNo lo tendrá fácil el jurado del concurso\, que estará compuesto por prestigiosos cocineros de la región y críticos gastronómicos\, que serán los encargados de probar y valorar todas las propuestas que se presenten a concurso\, con el objetivo de establecer la clasificación final y elegir al ganador\, además de al segundo y tercer clasificado y el mejor pote de Turón. En esta ocasión el jurado está formado por: Eufrasio Sánchez\, delegado de la revista Gourmets en Asturias; Juan Luis González\, propietario de Casa Belarmino; Cristina Rey\, ganadora del pasado año (La Gitana\, Gijón); Segundo Riesco\, profesor de la Escuela de Hostelería del IES Valle de Aller; Pablo Ramos\, profesor de la Escuela de Hostelería de Gijón y el cocinero Marcos Cienfuegos. \nSe valorará la estética\, el colorido\, la disposición de los ingredientes en el plato\, además del aroma y el sabor\, las sensaciones que se producen en la boca. El jurado tendrá igualmente en cuenta la calidad de les fabes y del compango. \n  \nEl Concurso se enmarca en las XXXI Jornadas del Pote de Turón\, que se celebrarán del 2 al 11 de diciembre en el valle turonés\, con la participación de once establecimientos hosteleros. \n  \n\n  \n  \n  \n 
URL:https://www.mieres.es/evento/concurso-explorando-el-pote-perfecto-xxxi-jornadas-gastronomicas-del-pote-del-valle-de-turon/
LOCATION:Colegio Vega de Güceo\, C. San Juan Bautista de la Salle\, 57\, 33610 Mieres\, Asturias
CATEGORIES:Comercio y Hostelería,Gastronomía
ATTACH;FMTTYPE=image/jpeg:https://www.mieres.es/wp-content/uploads/2022/11/cartel-pote-2022.jpg
END:VEVENT
END:VCALENDAR