BEGIN:VCALENDAR
VERSION:2.0
PRODID:-//Ayuntamiento de Mieres - ECPv5.16.1.1//NONSGML v1.0//EN
CALSCALE:GREGORIAN
METHOD:PUBLISH
X-WR-CALNAME:Ayuntamiento de Mieres
X-ORIGINAL-URL:https://www.mieres.es
X-WR-CALDESC:Eventos para Ayuntamiento de Mieres
BEGIN:VTIMEZONE
TZID:Europe/Madrid
BEGIN:DAYLIGHT
TZOFFSETFROM:+0100
TZOFFSETTO:+0200
TZNAME:CEST
DTSTART:20220327T010000
END:DAYLIGHT
BEGIN:STANDARD
TZOFFSETFROM:+0200
TZOFFSETTO:+0100
TZNAME:CET
DTSTART:20221030T010000
END:STANDARD
END:VTIMEZONE
BEGIN:VEVENT
DTSTART;VALUE=DATE:20221202
DTEND;VALUE=DATE:20221203
DTSTAMP:20260423T013733
CREATED:20221201T124850Z
LAST-MODIFIED:20221201T130426Z
UID:60140-1669939200-1670025599@www.mieres.es
SUMMARY:XXXI Jornadas Gastronómicas del Pote del Valle de Turón (2/11DIC)
DESCRIPTION:  \n\nXXXI Jornadas Gastronómicas del Pote del Valle de Turón\nValle de Turón\, del 2 al 11 de diciembre de 2022 \nCon la participación de los establecimientos hosteleros del Valle: \n\nCasa Nando\nVatur\nCasa Migio\nOnde Siempre\nEl Parador\nCasa Ita\nEl Descanso\nMesón de Carlos\nBar Gutiérrez\nCoimbra\nLa Gotera\n\n  \nDurante las Jornadas: Pasacalles de los gaiteros de Turón \n  \nACTIVIDADES:\nDía 3. 09:00h. Trail Minero Santa Bárbara  \nDía 4. Santa Bárbara. Lanzamiento de barrenos y tocando el “turullu” \n\nPasacalles de gaita y tambor\n12:00h. Ofrenda Floral en el 1º de San José\n13:15h. Misa Solemne con procesión\,  cantada por el Coro Minero de Turón. Iglesia de Santa Bárbara -La Cuadriella\n\n  \nExposición “El movimiento obrero en las Cuencas”\nDel 2 al 11 de diciembre\, en el Atenéu de Turón.\nColabora: Asociación Cultural y Minera Santa Bárbara \n  \n \n\n 
URL:https://www.mieres.es/evento/xxxi-jornadas-gastronomicas-del-pote-del-valle-de-turon-2-11dic/
LOCATION:Turón\, Calle Centro\, 9\, 33610 Mieres\, Asturias\, Turón\, Asturias\, 33610\, España
CATEGORIES:Comercio y Hostelería,Gastronomía
ATTACH;FMTTYPE=image/jpeg:https://www.mieres.es/wp-content/uploads/2022/11/cartel-pote-2022.jpg
GEO:43.209144;-5.7417617
X-APPLE-STRUCTURED-LOCATION;VALUE=URI;X-ADDRESS=Turón Calle Centro 9 33610 Mieres Asturias Turón Asturias 33610 España;X-APPLE-RADIUS=500;X-TITLE=Calle Centro\, 9\, 33610 Mieres\, Asturias:geo:-5.7417617,43.209144
END:VEVENT
END:VCALENDAR