BEGIN:VCALENDAR
VERSION:2.0
PRODID:-//Ayuntamiento de Mieres - ECPv5.16.1.1//NONSGML v1.0//EN
CALSCALE:GREGORIAN
METHOD:PUBLISH
X-WR-CALNAME:Ayuntamiento de Mieres
X-ORIGINAL-URL:https://www.mieres.es
X-WR-CALDESC:Eventos para Ayuntamiento de Mieres
BEGIN:VTIMEZONE
TZID:Europe/Madrid
BEGIN:DAYLIGHT
TZOFFSETFROM:+0100
TZOFFSETTO:+0200
TZNAME:CEST
DTSTART:20230326T010000
END:DAYLIGHT
BEGIN:STANDARD
TZOFFSETFROM:+0200
TZOFFSETTO:+0100
TZNAME:CET
DTSTART:20231029T010000
END:STANDARD
END:VTIMEZONE
BEGIN:VEVENT
DTSTART;TZID=Europe/Madrid:20230103T110000
DTEND;TZID=Europe/Madrid:20230103T210000
DTSTAMP:20260423T001857
CREATED:20221222T124708Z
LAST-MODIFIED:20221222T124708Z
UID:60544-1672743600-1672779600@www.mieres.es
SUMMARY:Feria de Navidá Artesanía y Comerciu 2022 (22DIC/5ENE)
DESCRIPTION:Feria Navidá de Artesanía y Comerciu\nVigésimosexta edición de la Feria Navideña de Artesanía y Comercio de Mieres\, una cita que ha pasado a formar parte imprescindible del calendario festivo de nuestra comarca. \nHORARIOS:\nAbierto de 11:00 a 15:00h. y de 16:00 a 21:00h.\nDías 24 y 31 de diciembre abierto hasta las 19:00h\nMañanas del día 25 de diciembre y día 1 de Enero: Cerrado\nClausura a las 22:00h del día 5 de enero \n  \nACTIVIDADES: \n-23 de diciembre. Papá Noel en la concha del parque Xovellanos. a las 17:00 h.\n-30 de diciembre. Nochevieja Infantil en la plaza del Ayuntamientu\, a las 17:30 h.\n-4 de enero. “Pintacaras”\, en la concha del parque Xovellanos\, a las 17:00 h. \n 
URL:https://www.mieres.es/evento/feria-de-navida-artesania-y-comerciu-2022-22dic-5ene-15/
LOCATION:Parque Xovellanos\, Parque Xovellanos\, Mieres\, Asturias\, 33600 
CATEGORIES:Comercio y Hostelería,Feria,Festejos
ATTACH;FMTTYPE=image/jpeg:https://www.mieres.es/wp-content/uploads/2022/12/Feria-Navidad-Mieres-cartel-2022-scaled.jpg
GEO:43.2517322;-5.7764018
X-APPLE-STRUCTURED-LOCATION;VALUE=URI;X-ADDRESS=Parque Xovellanos Parque Xovellanos Mieres Asturias 33600;X-APPLE-RADIUS=500;X-TITLE=Parque Xovellanos:geo:-5.7764018,43.2517322
END:VEVENT
END:VCALENDAR