BEGIN:VCALENDAR
VERSION:2.0
PRODID:-//Ayuntamiento de Mieres - ECPv5.16.1.1//NONSGML v1.0//EN
CALSCALE:GREGORIAN
METHOD:PUBLISH
X-WR-CALNAME:Ayuntamiento de Mieres
X-ORIGINAL-URL:https://www.mieres.es
X-WR-CALDESC:Eventos para Ayuntamiento de Mieres
BEGIN:VTIMEZONE
TZID:Europe/Madrid
BEGIN:DAYLIGHT
TZOFFSETFROM:+0100
TZOFFSETTO:+0200
TZNAME:CEST
DTSTART:20230326T010000
END:DAYLIGHT
BEGIN:STANDARD
TZOFFSETFROM:+0200
TZOFFSETTO:+0100
TZNAME:CET
DTSTART:20231029T010000
END:STANDARD
END:VTIMEZONE
BEGIN:VEVENT
DTSTART;TZID=Europe/Madrid:20230120T133000
DTEND;TZID=Europe/Madrid:20230120T230000
DTSTAMP:20260423T001600
CREATED:20200131T121321Z
LAST-MODIFIED:20230120T124451Z
UID:37127-1674221400-1674255600@www.mieres.es
SUMMARY:3as Jornadas gastronómicas de la chuletilla de Ternasco de Aragón (20/29 ENE)
DESCRIPTION:3as Jornadas gastronómicas de la chuletilla de Ternasco de Aragón\nMieres\, 20 al 29 de enero de 2023\nEstablecimientos participantes: \nRestaurante La Violeta\nArmando Palacio Valdés 31. Mieres. Tel. 985 451 003.\nSidrería Barolaya\nFuente Les Xanes 1-3. Mieres. Tel. 985 461 787.\nSidrería El Cascayu\nFuente Les Xanes 2. Mieres. Tel. 985 466 040.\nBar Maridaje\nJerónimo Ibrán 24. Mieres. Tel. 984 292 825.\nCasa Ardura\nAntonio Machado 7. Mieres. Tel. 616 816 563.\nRestaurante Bobela\nJuanín de Mieres 1. Mieres. Tel. 984 285 024.\nRestaurante Sidrería La Solana\nJerónimo Ibrán 3. Mieres. Tel. 985 463 350.\nVinoteca Las Novedades\nJerónimo Ibrán 21 Bajo. Mieres. Tel. 984 282 571.\nSidrería Llagar de Panizales\nEspineo. Tel. 985 467 815.\nVinoteca Planta 14\nLa Vega 34. Mieres. Tel. 985 087 202.\nSidrería Alonso\nJerónimo Ibrán 26. Mieres. Tel. 985 463 603.\nSidrería Tornillos\nJerónimo Ibrán 23. Mieres.\nMesón La Llera\nSan José de Calasanz 3. Mieres. Tel. 637 573 657.\nSidrería Casa Fulgencio\nPlaza San Xuan 6. Mieres. Tel. 985 467 466.\nMesón Asador La Bellota\nLas Llanas 4. Santa Cruz. Tel. 985 421 391.\nLlagar de Cenera\nCenera. Tel. 985 427 193.\nMesón Restaurante La Panoya\nCenera. Tel. 985 426 350.\nMesón de Carlos\nRafael Del Riego 29. Turón. Tel. 985 430 751.\nAsador Rte. El Cruce\nSantuyano. Tel. 985 426 195. \n  \nA la venta en:\nAlimentación del Prado\nArmando Palacio Valdés 10. Mieres. Tel 629 808 366
URL:https://www.mieres.es/evento/3as-jornadas-gastronomicas-de-la-chuletilla-de-ternasco-de-aragon/
LOCATION:Establecimientos comerciales y hosteleros del concejo
CATEGORIES:Comercio y Hostelería,Gastronomía
ATTACH;FMTTYPE=image/jpeg:https://www.mieres.es/wp-content/uploads/2020/01/cartel-web-mieres-chuletillas-ternasco-2023.jpg
END:VEVENT
END:VCALENDAR