BEGIN:VCALENDAR
VERSION:2.0
PRODID:-//Ayuntamiento de Mieres - ECPv5.16.1.1//NONSGML v1.0//EN
CALSCALE:GREGORIAN
METHOD:PUBLISH
X-WR-CALNAME:Ayuntamiento de Mieres
X-ORIGINAL-URL:https://www.mieres.es
X-WR-CALDESC:Eventos para Ayuntamiento de Mieres
BEGIN:VTIMEZONE
TZID:Europe/Madrid
BEGIN:DAYLIGHT
TZOFFSETFROM:+0100
TZOFFSETTO:+0200
TZNAME:CEST
DTSTART:20230326T010000
END:DAYLIGHT
BEGIN:STANDARD
TZOFFSETFROM:+0200
TZOFFSETTO:+0100
TZNAME:CET
DTSTART:20231029T010000
END:STANDARD
END:VTIMEZONE
BEGIN:VEVENT
DTSTART;TZID=Europe/Madrid:20230314T093000
DTEND;TZID=Europe/Madrid:20230314T093000
DTSTAMP:20260422T211034
CREATED:20230307T120536Z
LAST-MODIFIED:20230307T120954Z
UID:61722-1678786200-1678786200@www.mieres.es
SUMMARY:Charla-coloquio: "Líneas de ayudas de apoyo a empresas en municipios de Transición Justa"
DESCRIPTION:Charla-Coloquio \n“Líneas de ayudas de apoyo a empresas en municipios de Transición Justa”\nMartes\, 14 de marzo de 2023\, 9:30h. \nCentro de Empresas SODECO Caudal\n(Polígono Industrial Vega de Arriba\, Parcela 2ª\, Mieres) \n\n  \nSesión informativa de aproximadamente una hora de duración relativa a la inminente convocatoria de ayudas a proyectos empresariales localizados en municipios de transición justa. \nLINEA AYUDAS APOYO EMPRESAS EN MUNICIPIOS DE TRANSICIÓN JUSTA\nPresentación de las bases de ayudas y convocatorias\, que promuevan la generación de nuevas actividades y la diversificación económica mediante el apoyo a nuevas iniciativas empresariales o proyectos de inversión que generen o mantengan empleo. \n\nConvenios de Transición Justa en Asturias\nBases de ayudas para proyectos de empresas en Municipios de Transición Justa:\n\nOrden 1239/2022 AYUDAS A PEQUEÑOS PROYECTOS DE INVERSIÓN QUE GENEREN O MANTENGAN EL EMPLEO\nOrden 1240/2022 AYUDAS A PROYECTOS EMPRESARIALES GENERADORES DE EMPLEO\n\n\nDudas y consultas\n\n  \n\n 
URL:https://www.mieres.es/evento/charla-coloquio-lineas-de-ayudas-de-apoyo-a-empresas-en-municipios-de-transicion-justa/
LOCATION:Centro de empresas SODECO Caudal\, Polígono Industrial Vega de Arriba\, Parcela 2ª\, Mieres\, Asturias\, 33600
CATEGORIES:Charlas-coloquio,Comercio y Hostelería
ATTACH;FMTTYPE=image/jpeg:https://www.mieres.es/wp-content/uploads/2023/03/cartel-LINEAS-DE-AYUDAS-DE-APOYO-A-EMPRESAS-EN-MUNICIPIOS-DE-TRANSICION-JUSTA.jpg
END:VEVENT
END:VCALENDAR