BEGIN:VCALENDAR
VERSION:2.0
PRODID:-//Ayuntamiento de Mieres - ECPv5.16.1.1//NONSGML v1.0//EN
CALSCALE:GREGORIAN
METHOD:PUBLISH
X-WR-CALNAME:Ayuntamiento de Mieres
X-ORIGINAL-URL:https://www.mieres.es
X-WR-CALDESC:Eventos para Ayuntamiento de Mieres
BEGIN:VTIMEZONE
TZID:Europe/Madrid
BEGIN:DAYLIGHT
TZOFFSETFROM:+0100
TZOFFSETTO:+0200
TZNAME:CEST
DTSTART:20230326T010000
END:DAYLIGHT
BEGIN:STANDARD
TZOFFSETFROM:+0200
TZOFFSETTO:+0100
TZNAME:CET
DTSTART:20231029T010000
END:STANDARD
END:VTIMEZONE
BEGIN:VEVENT
DTSTART;TZID=Europe/Madrid:20230428T133000
DTEND;TZID=Europe/Madrid:20230428T230000
DTSTAMP:20260422T194133
CREATED:20230421T080954Z
LAST-MODIFIED:20230421T081646Z
UID:62434-1682688600-1682722800@www.mieres.es
SUMMARY:6as Jornadas gastronómicas del Ternasco de Aragón (28ABR/07MAY)
DESCRIPTION:6as Jornadas gastronómicas del Ternasco de Aragón\nMieres\, del 28 de abril al 7 de mayo de 2023\nEstablecimientos participantes: \nRestaurante La Violeta\nArmando Palacio Valdés 31. Mieres. Tel. 985 451 003.\nSidrería Barolaya\nFuente Les Xanes 1-3. Mieres. Tel. 985 461 787.\nSidrería El Cascayu\nFuente Les Xanes 2. Mieres. Tel. 985 466 040.\nBar Maridaje\nJerónimo Ibrán 24. Mieres. Tel. 984 292 825.\nCasa Ardura\nAntonio Machado 7. Mieres. Tel. 616 816 563.\nRestaurante Bobela\nJuanín de Mieres 1. Mieres. Tel. 984 285 024.\nRestaurante Sidrería La Solana\nJerónimo Ibrán 3. Mieres. Tel. 985 463 350.\nVinoteca Las Novedades\nJerónimo Ibrán 21 Bajo. Mieres. Tel. 984 282 571.\nRestaurante TC28\nTeodoro Cuesta 28. Mieres. Tel. 984 187 129.\nVinoteca Planta 14\nLa Vega 34. Mieres. Tel. 985 087 202.\nSidrería Alonso\nJerónimo Ibrán 26. Mieres. Tel. 985 463 603.\nSidrería Tornillos\nJerónimo Ibrán 23. Mieres. Tel. 985 467 257.\nMesón La Llera\nSan José de Calasanz 3. Mieres. Tel. 637 573 657.\nSidrería Santa Bárbara\nManuel llaneza 6. Mieres. Tel. 684 616 602.\nLa Taberna The White Bar\nJerónimo Ibrán 11. Mieres. Tel. 684 650 516.\nSidrería Casa Fulgencio\nPlaza San Xuan 6. Mieres. Tel. 985 467 466.\nGastrobar El Maestrante\nArmando Palacio Valdés 3. Mieres. Tel. 661 859 680.\nParrilla Restaurante La Xagosa\nPolígono Gonzalín 31. Mieres. Tel. 985 460 513.\nBar La Luna\nAvda. del Camino 10. Santullano. Tel. 607 340 384.\nMesón Restaurante La Panoya\nCenera. Tel. 985 426 350.\nMesón de Carlos\nRafael Del Riego 29. Turón. Tel. 985 430 751.\nAsador Rte. El Cruce\nSantuyano. Tel. 985 426 195. \n  \nA la venta en:\nAlimentación del Prado\nArmando Palacio Valdés 10. Mieres. Tel 629 808 366
URL:https://www.mieres.es/evento/6as-jornadas-gastronomicas-del-ternasco-de-aragon-28abr-07may/
LOCATION:Establecimientos comerciales y hosteleros del concejo
CATEGORIES:Comercio y Hostelería,Gastronomía
ATTACH;FMTTYPE=image/jpeg:https://www.mieres.es/wp-content/uploads/2023/04/cartel-mieres-Jornadas-Ternasco-de-Aragon-2023.jpg
END:VEVENT
END:VCALENDAR