BEGIN:VCALENDAR
VERSION:2.0
PRODID:-//Ayuntamiento de Mieres - ECPv5.16.1.1//NONSGML v1.0//EN
CALSCALE:GREGORIAN
METHOD:PUBLISH
X-WR-CALNAME:Ayuntamiento de Mieres
X-ORIGINAL-URL:https://www.mieres.es
X-WR-CALDESC:Eventos para Ayuntamiento de Mieres
BEGIN:VTIMEZONE
TZID:Europe/Madrid
BEGIN:DAYLIGHT
TZOFFSETFROM:+0100
TZOFFSETTO:+0200
TZNAME:CEST
DTSTART:20230326T010000
END:DAYLIGHT
BEGIN:STANDARD
TZOFFSETFROM:+0200
TZOFFSETTO:+0100
TZNAME:CET
DTSTART:20231029T010000
END:STANDARD
END:VTIMEZONE
BEGIN:VEVENT
DTSTART;TZID=Europe/Madrid:20231020T200000
DTEND;TZID=Europe/Madrid:20231020T220000
DTSTAMP:20260422T103350
CREATED:20231019T115910Z
LAST-MODIFIED:20231019T115910Z
UID:65141-1697832000-1697839200@www.mieres.es
SUMMARY:La Noche Abierta 2023. Comercio Mieres
DESCRIPTION:La Noche Abierta 2023\nComercio Mieres\n20 de octubre 20:00-22:00h. \nMúsica en la calle\nSorteos\nAnimación en tiendas
URL:https://www.mieres.es/evento/la-noche-abierta-2023-comercio-mieres/
LOCATION:Establecimientos comerciales y hosteleros del concejo
CATEGORIES:Comercio y Hostelería
ATTACH;FMTTYPE=image/jpeg:https://www.mieres.es/wp-content/uploads/2023/10/cartel-Noche-abierta-2023-scaled.jpg
END:VEVENT
END:VCALENDAR