BEGIN:VCALENDAR
VERSION:2.0
PRODID:-//Ayuntamiento de Mieres - ECPv5.16.1.1//NONSGML v1.0//EN
CALSCALE:GREGORIAN
METHOD:PUBLISH
X-WR-CALNAME:Ayuntamiento de Mieres
X-ORIGINAL-URL:https://www.mieres.es
X-WR-CALDESC:Eventos para Ayuntamiento de Mieres
BEGIN:VTIMEZONE
TZID:Europe/Madrid
BEGIN:DAYLIGHT
TZOFFSETFROM:+0100
TZOFFSETTO:+0200
TZNAME:CEST
DTSTART:20240331T010000
END:DAYLIGHT
BEGIN:STANDARD
TZOFFSETFROM:+0200
TZOFFSETTO:+0100
TZNAME:CET
DTSTART:20241027T010000
END:STANDARD
END:VTIMEZONE
BEGIN:VEVENT
DTSTART;VALUE=DATE:20240521
DTEND;VALUE=DATE:20240522
DTSTAMP:20260422T000022
CREATED:20240508T113612Z
LAST-MODIFIED:20240513T091636Z
UID:68978-1716249600-1716335999@www.mieres.es
SUMMARY:XI Jornadas de la Cazuelina (17/26MAY)
DESCRIPTION:XI Jornadas gastronómicas de la Cazuelina\nMieres\, del 17 al 26 de mayo de 2024\nEstablecimientos participantes: \nBOBELA RTE.\nCACHITOS\nDRINKVAR\nENTRECOPAS\nL’AYALGA\nLA POSADA DE BACUS\nLA TABERNA DEL WHITEBAR\nMADRESELVA FOOD AND DRINCKS\nPLANTA 14\nSIDRERIA ALONSO\nSIDRERIA STA BARBARA\nRTE. CONSISTORIAL\nRTE.LA MENDIGA\nTC28\nTRATTORIA LA PEPPA\nTRECE STREET FOOD \n\n 
URL:https://www.mieres.es/evento/xi-jornadas-de-la-cazuelina-17-26may/2024-05-21/
LOCATION:Establecimientos comerciales y hosteleros del concejo
CATEGORIES:Comercio y Hostelería,Gastronomía
ATTACH;FMTTYPE=image/jpeg:https://www.mieres.es/wp-content/uploads/2024/05/CARTEL-DEFINITIVO-CAZUELINAS-MIERES-2024.jpg
END:VEVENT
BEGIN:VEVENT
DTSTART;TZID=Europe/Madrid:20240521T201500
DTEND;TZID=Europe/Madrid:20240521T201500
DTSTAMP:20260422T000022
CREATED:20240516T105749Z
LAST-MODIFIED:20240516T105749Z
UID:69126-1716322500-1716322500@www.mieres.es
SUMMARY:Entrega de galardones al comercio mierense
DESCRIPTION:Gala Comercio Mieres: \nEntrega de galardones al comercio mierense\nUnión de Comerciantes del Caudal \nMartes\, 21 de mayo de 2024\, 20:15h.\nSalón de actos de la casa de Cultura Teodoro Cuesta \n\n 
URL:https://www.mieres.es/evento/entrega-de-galardones-al-comercio-mierense/
LOCATION:Casa de Cultura Teodoro Cuesta\, Calle Manuel Llaneza\, 8\, Mieres\, Asturias\, 33600\, España
CATEGORIES:Comercio y Hostelería
ATTACH;FMTTYPE=image/jpeg:https://www.mieres.es/wp-content/uploads/2024/05/CARTEL-GALA-Comercio-2024-scaled.jpg
GEO:43.2502294;-5.7729571
X-APPLE-STRUCTURED-LOCATION;VALUE=URI;X-ADDRESS=Casa de Cultura Teodoro Cuesta Calle Manuel Llaneza 8 Mieres Asturias 33600 España;X-APPLE-RADIUS=500;X-TITLE=Calle Manuel Llaneza\, 8:geo:-5.7729571,43.2502294
END:VEVENT
END:VCALENDAR