BEGIN:VCALENDAR
VERSION:2.0
PRODID:-//Ayuntamiento de Mieres - ECPv5.16.1.1//NONSGML v1.0//EN
CALSCALE:GREGORIAN
METHOD:PUBLISH
X-WR-CALNAME:Ayuntamiento de Mieres
X-ORIGINAL-URL:https://www.mieres.es
X-WR-CALDESC:Eventos para Ayuntamiento de Mieres
BEGIN:VTIMEZONE
TZID:Europe/Madrid
BEGIN:DAYLIGHT
TZOFFSETFROM:+0100
TZOFFSETTO:+0200
TZNAME:CEST
DTSTART:20250330T010000
END:DAYLIGHT
BEGIN:STANDARD
TZOFFSETFROM:+0200
TZOFFSETTO:+0100
TZNAME:CET
DTSTART:20251026T010000
END:STANDARD
END:VTIMEZONE
BEGIN:VEVENT
DTSTART;TZID=Europe/Madrid:20250426T200000
DTEND;TZID=Europe/Madrid:20250426T200000
DTSTAMP:20260423T081500
CREATED:20250409T100359Z
LAST-MODIFIED:20250409T100359Z
UID:73584-1745697600-1745697600@www.mieres.es
SUMMARY:Conciertos de La Panadería 2025: "María Daz"
DESCRIPTION:La Asociación Cultural Serondaya acude a su cita con la música en directo con un nuevo ciclo de sus CONCIERTOS DE LA PANADERÍA. Este singular ciclo musical alcanza su decimocuarta edición y se ha convertido ya en toda una referencia en el mundo de la música en Asturias y fuera de Asturias. Los conciertos se celebran en el local social de Serondaya\, en Cenera\, para las noches de los sábados de febrero y marzo\, con entrada libre y gratuita hasta completar aforo. \n\n\nSábado\, 26 de abril\n20:00h\n \nMARÍA DAZ\nDesde su más tierna infancia\, María Daz supo que quería dedicarse a cantar con el piano como compañero inseparable de su voz. Compuso su primera canción a los 11 años con un Casiotone y desde la mayoría de edad ha formado parte de varias bandas y colaborado con muchos proyectos\, tanto en la parte artística como en la producción. \nMuy influida por artistas como Lady Gaga\, Regina Spektor\, MIKA\, Florence & The Machine o Muse\, María Daz presenta ahora su primer trabajo en solitario para el que desempolva canciones que tenía desde hace tiempo en la recámara y las combina con algunas composiciones nuevas para crear un proyecto muy personal\, con mucha fuerza\, donde busca crear un sonido propio basado en el peso de las letras y la emoción contenida en ellas. \nEste proyecto la ha llevado en 2022 a ser ganadora del XXV Concurso de Rock Ciudad de Oviedo «Alejandro Blanco Espina» y finalista en la XXXVII Edición del Concurso de Maquetas del programa “Culturaquí” 2022.
URL:https://www.mieres.es/evento/conciertos-de-la-panaderia-2025-maria-daz/
LOCATION:Cenera\, Cenera\, Asturias\, 33615\, España
CATEGORIES:Cultura Tradicional,Música
ATTACH;FMTTYPE=image/jpeg:https://www.mieres.es/wp-content/uploads/2025/03/conciertos-panaderia-2025.jpg
ORGANIZER;CN="Asoc.%20Cultural%20Serondaya":MAILTO:acserondaya@gmail.com
GEO:43.2176497;-5.8185729
END:VEVENT
END:VCALENDAR