BEGIN:VCALENDAR
VERSION:2.0
PRODID:-//Ayuntamiento de Mieres - ECPv5.16.1.1//NONSGML v1.0//EN
CALSCALE:GREGORIAN
METHOD:PUBLISH
X-WR-CALNAME:Ayuntamiento de Mieres
X-ORIGINAL-URL:https://www.mieres.es
X-WR-CALDESC:Eventos para Ayuntamiento de Mieres
BEGIN:VTIMEZONE
TZID:Europe/Madrid
BEGIN:DAYLIGHT
TZOFFSETFROM:+0100
TZOFFSETTO:+0200
TZNAME:CEST
DTSTART:20220327T010000
END:DAYLIGHT
BEGIN:STANDARD
TZOFFSETFROM:+0200
TZOFFSETTO:+0100
TZNAME:CET
DTSTART:20221030T010000
END:STANDARD
END:VTIMEZONE
BEGIN:VEVENT
DTSTART;TZID=Europe/Madrid:20220423T113000
DTEND;TZID=Europe/Madrid:20220423T113000
DTSTAMP:20260424T020615
CREATED:20220407T120150Z
LAST-MODIFIED:20220407T120150Z
UID:53066-1650713400-1650713400@www.mieres.es
SUMMARY:Día de la Danza 2022: Taller de iniciación a la danza
DESCRIPTION:Día de la Danza 2022\nTaller de iniciación a la danza\nImpartido por Eduardo Vallejo \n\nAuditoriu Teodoro Cuesta\nInscripciones gratuitas en: diadeladanza2022@ayto-mieres.es (colocar nombre\, apellidos y teléfono en el cuerpo del correo) \n\n\n\n 
URL:https://www.mieres.es/evento/dia-de-la-danza-2022-taller-de-iniciacion-a-la-danza/
LOCATION:Parque Xovellanos\, Parque Xovellanos\, Mieres\, Asturias\, 33600 
CATEGORIES:Danza,Juventud e Infancia
ATTACH;FMTTYPE=image/jpeg:https://www.mieres.es/wp-content/uploads/2022/04/dia-de-la-danza-2022.jpeg
ORGANIZER;CN="Concejal%C3%ADa%20de%20Infancia%20y%20Juventud":MAILTO:oij@ayto-mieres.es
GEO:43.2517322;-5.7764018
X-APPLE-STRUCTURED-LOCATION;VALUE=URI;X-ADDRESS=Parque Xovellanos Parque Xovellanos Mieres Asturias 33600;X-APPLE-RADIUS=500;X-TITLE=Parque Xovellanos:geo:-5.7764018,43.2517322
END:VEVENT
END:VCALENDAR