BEGIN:VCALENDAR
VERSION:2.0
PRODID:-//Ayuntamiento de Mieres - ECPv5.16.1.1//NONSGML v1.0//EN
CALSCALE:GREGORIAN
METHOD:PUBLISH
X-WR-CALNAME:Ayuntamiento de Mieres
X-ORIGINAL-URL:https://www.mieres.es
X-WR-CALDESC:Eventos para Ayuntamiento de Mieres
BEGIN:VTIMEZONE
TZID:Europe/Madrid
BEGIN:DAYLIGHT
TZOFFSETFROM:+0100
TZOFFSETTO:+0200
TZNAME:CEST
DTSTART:20220327T010000
END:DAYLIGHT
BEGIN:STANDARD
TZOFFSETFROM:+0200
TZOFFSETTO:+0100
TZNAME:CET
DTSTART:20221030T010000
END:STANDARD
END:VTIMEZONE
BEGIN:VEVENT
DTSTART;TZID=Europe/Madrid:20220429T203000
DTEND;TZID=Europe/Madrid:20220429T203000
DTSTAMP:20260424T003145
CREATED:20220407T115849Z
LAST-MODIFIED:20220407T122558Z
UID:53062-1651264200-1651264200@www.mieres.es
SUMMARY:Día de la Danza 2022: Flashmob en el Parque Xovellanos
DESCRIPTION:Día de la Danza 2022\nFlashmob\n\nParque Xovellanos\nInscripciones gratuitas en: diadeladanza2022@ayto-mieres.es (colocar nombre\, apellidos y teléfono en el cuerpo del correo) \n\nEnsayos: viernes 22 y sábado 23\, a las 16.00 h. en el patio del Colegio Liceo Mierense-Teodoro Cuesta\, con Academia Soleá \n\n\n 
URL:https://www.mieres.es/evento/dia-de-la-danza-2022-flashmob-en-el-parque-xovellanos/
LOCATION:Parque Xovellanos\, Parque Xovellanos\, Mieres\, Asturias\, 33600 
CATEGORIES:Danza
ATTACH;FMTTYPE=image/jpeg:https://www.mieres.es/wp-content/uploads/2022/04/dia-de-la-danza-2022.jpeg
ORGANIZER;CN="Concejal%C3%ADa%20de%20Infancia%20y%20Juventud":MAILTO:oij@ayto-mieres.es
GEO:43.2517322;-5.7764018
X-APPLE-STRUCTURED-LOCATION;VALUE=URI;X-ADDRESS=Parque Xovellanos Parque Xovellanos Mieres Asturias 33600;X-APPLE-RADIUS=500;X-TITLE=Parque Xovellanos:geo:-5.7764018,43.2517322
END:VEVENT
END:VCALENDAR