BEGIN:VCALENDAR
VERSION:2.0
PRODID:-//Ayuntamiento de Mieres - ECPv5.16.1.1//NONSGML v1.0//EN
CALSCALE:GREGORIAN
METHOD:PUBLISH
X-WR-CALNAME:Ayuntamiento de Mieres
X-ORIGINAL-URL:https://www.mieres.es
X-WR-CALDESC:Eventos para Ayuntamiento de Mieres
BEGIN:VTIMEZONE
TZID:Europe/Madrid
BEGIN:DAYLIGHT
TZOFFSETFROM:+0100
TZOFFSETTO:+0200
TZNAME:CEST
DTSTART:20220327T010000
END:DAYLIGHT
BEGIN:STANDARD
TZOFFSETFROM:+0200
TZOFFSETTO:+0100
TZNAME:CET
DTSTART:20221030T010000
END:STANDARD
END:VTIMEZONE
BEGIN:VEVENT
DTSTART;TZID=Europe/Madrid:20220611T213000
DTEND;TZID=Europe/Madrid:20220611T213000
DTSTAMP:20260424T003216
CREATED:20220606T113605Z
LAST-MODIFIED:20220608T110409Z
UID:54014-1654983000-1654983000@www.mieres.es
SUMMARY:"Al límite: cuerpos\, danza y periferias"\, por Escuela de Danza&Circo La Caracola (APLAZADO)
DESCRIPTION:(Aplazado por previsiones meteorológicas desfavorables. Se comunicará una nueva fecha)\n \n\nTeatro\nAL LÍMITE: CUERPOS\, DANZA YPERIFERIAS (DESDE LA FRONTERA NORTEDEL MAPA)\npor Escuela de Danza&Circo La Caracola\n \nPlaza del Ayuntamiento \n  \n\n\n2021 al límite de la pandemia y la realidad\, un grupo de 30alumnas de entre 11 y 20 años investiga sobre la peor de lasguerras: la guerra contra la vida. \nLa deshumanización\, los discursos de odio\, el individualismo\, el cambio climático y los límites en los recursos; el consumo como arma de guerra. Esta obra propone una mirada ecofeminista hacia la industria alimentaria\, hidroeléctrica y textil; sus consecuencias en las periferias feminizadas de los mapas.Allí\, donde los cuerpos y territorios sostienen la barbarie\, y también sostienen la vida. \nAl frente la alegría\, las ganas de poner lo que importa en el centro y de imaginar vidas que merezcan la pena ser vividas para todas. \nUna obra dirigida por Candela Guerrero\, entretejida por mujeres que van del silencio a la palabra: Yayo Herrero\, Jornaleras de Huelva en Lucha\, Mamitas de Soacha de Colombia\, Movimiento Sin Tierra de Brasil\, un canto de ida y vuelta\, de norte a sur y de este a oeste\, que pone a danzarlos cuerpos al servicio del planeta. \n  \nDuración: 80 min.\nContenido: 13 piezas que intercalan la danza contemporánea\, danza moderna\, estilos urbanos\, interpretación y teatro\, con distintas exposiciones y relatos audiovisuales. \n  \nEQUIPO TÉCNICO-ARTÍSTICO: \nDirección: Candela Guerrero. \nEquipo Técnico: Elena López\, Andrea Flórez\, Conchi Corbal Maica Muñoz\, Marta\nPérez\, Beatriz Redondo\, Laura Arce\, Mara Suárez \, Mario Ania y Raquel Ramos. \nInterpretación: Alicia Pilarte. \nAtrezzo: Toni Dos Santos. \nRealización: Javier Lueje. \nCoreografía y bailarinas:\nLaura Arce\, Mara Suárez\, Eva Campos\, Raquel Díez\, Marina Solís\, Zaida Abilleira\, Nerea Román\, Paula Pérez\, Ylenia Martínez\, Carla Borrego\, Alba Berrio\, Nora Iglesias\, Aroa Amado\, Silvia Domínguez\, Amanda Afonso\, Claudia Alonso\, Claudia González\, Elena Martínez\, Ana Menéndez\, Elsa García\, Leyre Varela\, Lucía Iglesias\, Maika Álvarez\, Mar Povedano\, María Martínez\, Noa Fernández\, Olaya Iglesias y Paula Granado. \n  \n\n 
URL:https://www.mieres.es/evento/al-limite-cuerpos-danza-y-periferias-por-escuela-de-danzacirco-la-caracola/
LOCATION:Plaza del Ayuntamiento\, Plaza de la Constitución s/n\, Mieres\, 33600
CATEGORIES:Danza,Teatro
ATTACH;FMTTYPE=image/jpeg:https://www.mieres.es/wp-content/uploads/2022/06/AL-LIMITE-MIeRES-2022.jpg
GEO:43.2489616;-5.7726903
X-APPLE-STRUCTURED-LOCATION;VALUE=URI;X-ADDRESS=Plaza del Ayuntamiento Plaza de la Constitución s/n Mieres 33600;X-APPLE-RADIUS=500;X-TITLE=Plaza de la Constitución s/n:geo:-5.7726903,43.2489616
END:VEVENT
END:VCALENDAR