BEGIN:VCALENDAR
VERSION:2.0
PRODID:-//Ayuntamiento de Mieres - ECPv5.16.1.1//NONSGML v1.0//EN
CALSCALE:GREGORIAN
METHOD:PUBLISH
X-WR-CALNAME:Ayuntamiento de Mieres
X-ORIGINAL-URL:https://www.mieres.es
X-WR-CALDESC:Eventos para Ayuntamiento de Mieres
BEGIN:VTIMEZONE
TZID:Europe/Madrid
BEGIN:DAYLIGHT
TZOFFSETFROM:+0100
TZOFFSETTO:+0200
TZNAME:CEST
DTSTART:20230326T010000
END:DAYLIGHT
BEGIN:STANDARD
TZOFFSETFROM:+0200
TZOFFSETTO:+0100
TZNAME:CET
DTSTART:20231029T010000
END:STANDARD
END:VTIMEZONE
BEGIN:VEVENT
DTSTART;TZID=Europe/Madrid:20230901T200000
DTEND;TZID=Europe/Madrid:20230901T200000
DTSTAMP:20260422T223129
CREATED:20230824T114856Z
LAST-MODIFIED:20230824T114856Z
UID:64195-1693598400-1693598400@www.mieres.es
SUMMARY:Espectáculo de Danza Contemporánea"\, Cía. Rosario Cárdenas (Cuba) y Etymos Danza (Asturias)
DESCRIPTION:Danza \nEspectáculo de Danza Contemporánea\nCía. Rosario Cárdenas (Cuba) y Etymos Danza (Asturias)\n\nViernes\, 1 de septiembre\, 20:00h. \nAuditoriu Teodoro Cuesta \nEntrada libre hasta completar aforo \n\n\nEste espectáculo de danza es una exhibición de la técnica combinatoria de movimiento\,  un estilo contemporáneo\,  de inspiración africana y cubana encaminada a fortalecer la autopercepción y la autoconfianza. Desarrolla la relajación\, la flexibilidad\, la serenidad\, la vitalidad y el dinamismo teniendo en cuenta  las relaciones con los otros. Trabaja sobre los músculos profundos\, el ritmo\, la coordinación de los movimientos\, la percepción del peso del cuerpo y la expresión gestual imaginada  en una combinatoria de secuencias de movimientos dimensionadas en el espacio\, entre otros.\nNo te pierdas la oportunidad de disfrutarlo… \n… … … \nEsti espectáculu de danza ye una amuesa de la técnica mecía de movimientu\, un estilu contemporáneu\, d’inspiración africana y cubana empobinada a sofitar l’autopercepción y l’autoconfianza. Desenvuelve la relaxación\, la flexibilidá\, la serenidá\, la vitalidá y el dinamismu teniendo en cuenta les relaciones colos otros. Trabaya sobre los músculos fondos\, el ritmu\, la coordinación de los movimientos\, el conocimientu del pesu del cuerpu y la espresión xestual imaxinada nuna mestura de riestres de movimientos afitaos nel espaciu\, ente otros.\nNun pierdas la oportundiá de disfrutalo. \n  \n\n 
URL:https://www.mieres.es/evento/espectaculo-de-danza-contemporanea-cia-rosario-cardenas-cuba-y-etymos-danza-asturias/
LOCATION:Casa de Cultura Teodoro Cuesta\, Calle Manuel Llaneza\, 8\, Mieres\, Asturias\, 33600\, España
CATEGORIES:Danza
ATTACH;FMTTYPE=image/jpeg:https://www.mieres.es/wp-content/uploads/2023/08/DANZA-CONTEMPORANEA-Cia-rosario-Cardenas-Cartel-Mieres.jpg
GEO:43.2502294;-5.7729571
X-APPLE-STRUCTURED-LOCATION;VALUE=URI;X-ADDRESS=Casa de Cultura Teodoro Cuesta Calle Manuel Llaneza 8 Mieres Asturias 33600 España;X-APPLE-RADIUS=500;X-TITLE=Calle Manuel Llaneza\, 8:geo:-5.7729571,43.2502294
END:VEVENT
END:VCALENDAR